BEGIN:VCALENDAR
VERSION:2.0
PRODID:-//The Villages of Longmeadow HOA - ECPv6.15.20//NONSGML v1.0//EN
CALSCALE:GREGORIAN
METHOD:PUBLISH
X-ORIGINAL-URL:https://longmeadowhoa.com
X-WR-CALDESC:Events for The Villages of Longmeadow HOA
REFRESH-INTERVAL;VALUE=DURATION:PT1H
X-Robots-Tag:noindex
X-PUBLISHED-TTL:PT1H
BEGIN:VTIMEZONE
TZID:America/New_York
BEGIN:DAYLIGHT
TZOFFSETFROM:-0500
TZOFFSETTO:-0400
TZNAME:EDT
DTSTART:20240310T070000
END:DAYLIGHT
BEGIN:STANDARD
TZOFFSETFROM:-0400
TZOFFSETTO:-0500
TZNAME:EST
DTSTART:20241103T060000
END:STANDARD
BEGIN:DAYLIGHT
TZOFFSETFROM:-0500
TZOFFSETTO:-0400
TZNAME:EDT
DTSTART:20250309T070000
END:DAYLIGHT
BEGIN:STANDARD
TZOFFSETFROM:-0400
TZOFFSETTO:-0500
TZNAME:EST
DTSTART:20251102T060000
END:STANDARD
BEGIN:DAYLIGHT
TZOFFSETFROM:-0500
TZOFFSETTO:-0400
TZNAME:EDT
DTSTART:20260308T070000
END:DAYLIGHT
BEGIN:STANDARD
TZOFFSETFROM:-0400
TZOFFSETTO:-0500
TZNAME:EST
DTSTART:20261101T060000
END:STANDARD
END:VTIMEZONE
BEGIN:VEVENT
DTSTART;VALUE=DATE:20250405
DTEND;VALUE=DATE:20250406
DTSTAMP:20260422T211101
CREATED:20250328T163920Z
LAST-MODIFIED:20250328T163920Z
UID:2105-1743811200-1743897599@longmeadowhoa.com
SUMMARY:Clubhouse Rental
DESCRIPTION:
URL:https://longmeadowhoa.com/event/clubhouse-rental-111/
END:VEVENT
BEGIN:VEVENT
DTSTART;TZID=America/New_York:20250408T190000
DTEND;TZID=America/New_York:20250408T203000
DTSTAMP:20260422T211101
CREATED:20241229T225127Z
LAST-MODIFIED:20241229T225127Z
UID:2028-1744138800-1744144200@longmeadowhoa.com
SUMMARY:HOA Board Meeting
DESCRIPTION:Villages of Longmeadow HOA Board Mtng. @ Clubhouse (& Zoom) \nLongmeadow HOA is inviting you to a scheduled Zoom meeting. \nTopic: Longmeadow HOA’s Zoom Board Meeting\nTime: 7:00 PM \nJoin Zoom Meeting\nhttps://us02web.zoom.us/j/83247426566?pwd=bExsT2NNWVBGT09qZGx5QUhPTHg5dz09 \nMeeting ID: 832 4742 6566\nPasscode: 095363\nOne tap mobile\n+16469313860\,\,83247426566#\,\,\,\,*095363# US\n+19292056099\,\,83247426566#\,\,\,\,*095363# US (New York) \nDial by your location\n+1 646 931 3860 US\n+1 929 205 6099 US (New York)\n+1 301 715 8592 US (Washington DC)\n+1 305 224 1968 US\n+1 309 205 3325 US\n+1 312 626 6799 US (Chicago)\n+1 386 347 5053 US\n+1 507 473 4847 US\n+1 564 217 2000 US\n+1 669 444 9171 US\n+1 669 900 6833 US (San Jose)\n+1 689 278 1000 US\n+1 719 359 4580 US\n+1 253 205 0468 US\n+1 253 215 8782 US (Tacoma)\n+1 346 248 7799 US (Houston)\n+1 360 209 5623 US\nMeeting ID: 832 4742 6566\nPasscode: 095363\nFind your local number: https://us02web.zoom.us/u/kdBpd4wzA2
URL:https://longmeadowhoa.com/event/hoa-board-meeting-36/
END:VEVENT
BEGIN:VEVENT
DTSTART;VALUE=DATE:20250412
DTEND;VALUE=DATE:20250413
DTSTAMP:20260422T211101
CREATED:20250328T164002Z
LAST-MODIFIED:20250328T164002Z
UID:2107-1744416000-1744502399@longmeadowhoa.com
SUMMARY:Clubhouse Rental
DESCRIPTION:
URL:https://longmeadowhoa.com/event/clubhouse-rental-112/
END:VEVENT
BEGIN:VEVENT
DTSTART;TZID=America/New_York:20250412T120000
DTEND;TZID=America/New_York:20250412T160000
DTSTAMP:20260422T211101
CREATED:20250327T022119Z
LAST-MODIFIED:20250327T022119Z
UID:2100-1744459200-1744473600@longmeadowhoa.com
SUMMARY:1/2 Pavilion Reserved for Maya Hinton
DESCRIPTION:1/2 Pavilion Reserved for Maya Hinton
URL:https://longmeadowhoa.com/event/1-2-pavilion-reserved-for-maya-hinton-2/
END:VEVENT
BEGIN:VEVENT
DTSTART;TZID=America/New_York:20250413T150000
DTEND;TZID=America/New_York:20250413T170000
DTSTAMP:20260422T211101
CREATED:20250104T155523Z
LAST-MODIFIED:20250104T155523Z
UID:2051-1744556400-1744563600@longmeadowhoa.com
SUMMARY:Easter Egg Hunt and Celebration at the Clubhouse
DESCRIPTION:Bring your cameras to take pictures of your children visiting the Easter Bunny.  There will be an Easter Egg Hunt for 3 age groups from 2-10 years old.  There will be fun activities to enjoy as you and your family meet your neighbors.  Snacks and beverages will be served.
URL:https://longmeadowhoa.com/event/easter-egg-hunt-and-celebration-at-the-clubhouse-2/
END:VEVENT
BEGIN:VEVENT
DTSTART;VALUE=DATE:20250426
DTEND;VALUE=DATE:20250427
DTSTAMP:20260422T211101
CREATED:20250328T164221Z
LAST-MODIFIED:20250328T164221Z
UID:2111-1745625600-1745711999@longmeadowhoa.com
SUMMARY:Clubhouse Rental
DESCRIPTION:
URL:https://longmeadowhoa.com/event/clubhouse-rental-114/
END:VEVENT
BEGIN:VEVENT
DTSTART;TZID=America/New_York:20250426T090000
DTEND;TZID=America/New_York:20250426T110000
DTSTAMP:20260422T211101
CREATED:20250312T194328Z
LAST-MODIFIED:20250425T145618Z
UID:2097-1745658000-1745665200@longmeadowhoa.com
SUMMARY:Pool Volunteer Day
DESCRIPTION:Pool Volunteer Day \nWe have several volunteer opportunities to help get the pool ready for opening weekend.  Anyone is welcome to come on out and help and will be greatly appreciated.  The following tasks are needed\, but it depends on how many volunteers who come out on what we can actually accomplish. \nThe following tasks are needed\, but we are not limited to just these: \n\nassemble new pool furniture\ndispose of old pool furniture\nsweep pool deck\npower wash pool deck\nevaluate downstairs clubhouse pool area\nhelp organize pump building\nidentify and address any other needs for upcoming pool season
URL:https://longmeadowhoa.com/event/pool-volunteer-day-4/
END:VEVENT
END:VCALENDAR