BEGIN:VCALENDAR
VERSION:2.0
PRODID:-//The Villages of Longmeadow HOA - ECPv6.15.20//NONSGML v1.0//EN
CALSCALE:GREGORIAN
METHOD:PUBLISH
X-ORIGINAL-URL:https://longmeadowhoa.com
X-WR-CALDESC:Events for The Villages of Longmeadow HOA
REFRESH-INTERVAL;VALUE=DURATION:PT1H
X-Robots-Tag:noindex
X-PUBLISHED-TTL:PT1H
BEGIN:VTIMEZONE
TZID:America/New_York
BEGIN:DAYLIGHT
TZOFFSETFROM:-0500
TZOFFSETTO:-0400
TZNAME:EDT
DTSTART:20240310T070000
END:DAYLIGHT
BEGIN:STANDARD
TZOFFSETFROM:-0400
TZOFFSETTO:-0500
TZNAME:EST
DTSTART:20241103T060000
END:STANDARD
BEGIN:DAYLIGHT
TZOFFSETFROM:-0500
TZOFFSETTO:-0400
TZNAME:EDT
DTSTART:20250309T070000
END:DAYLIGHT
BEGIN:STANDARD
TZOFFSETFROM:-0400
TZOFFSETTO:-0500
TZNAME:EST
DTSTART:20251102T060000
END:STANDARD
BEGIN:DAYLIGHT
TZOFFSETFROM:-0500
TZOFFSETTO:-0400
TZNAME:EDT
DTSTART:20260308T070000
END:DAYLIGHT
BEGIN:STANDARD
TZOFFSETFROM:-0400
TZOFFSETTO:-0500
TZNAME:EST
DTSTART:20261101T060000
END:STANDARD
END:VTIMEZONE
BEGIN:VEVENT
DTSTART;VALUE=DATE:20250301
DTEND;VALUE=DATE:20250302
DTSTAMP:20260422T225622
CREATED:20250119T193953Z
LAST-MODIFIED:20250119T193953Z
UID:2084-1740787200-1740873599@longmeadowhoa.com
SUMMARY:Clubhouse Rental
DESCRIPTION:
URL:https://longmeadowhoa.com/event/clubhouse-rental-109/
END:VEVENT
BEGIN:VEVENT
DTSTART;VALUE=DATE:20250308
DTEND;VALUE=DATE:20250309
DTSTAMP:20260422T225622
CREATED:20241229T224120Z
LAST-MODIFIED:20241229T224120Z
UID:2017-1741392000-1741478399@longmeadowhoa.com
SUMMARY:Clubhouse Rental
DESCRIPTION:
URL:https://longmeadowhoa.com/event/clubhouse-rental-103/
END:VEVENT
BEGIN:VEVENT
DTSTART;TZID=America/New_York:20250311T190000
DTEND;TZID=America/New_York:20250311T200000
DTSTAMP:20260422T225622
CREATED:20250305T163203Z
LAST-MODIFIED:20250305T163203Z
UID:2094-1741719600-1741723200@longmeadowhoa.com
SUMMARY:HOA Board Meeting
DESCRIPTION:Villages of Longmeadow HOA Board Mtng. @ Clubhouse (& Zoom) \nLongmeadow HOA is inviting you to a scheduled Zoom meeting. \nTopic: Longmeadow HOA’s Zoom Board Meeting\nTime: 7:00 PM \nJoin Zoom Meeting\nhttps://us02web.zoom.us/j/83247426566?pwd=bExsT2NNWVBGT09qZGx5QUhPTHg5dz09 \nMeeting ID: 832 4742 6566\nPasscode: 095363\nOne tap mobile\n+16469313860\,\,83247426566#\,\,\,\,*095363# US\n+19292056099\,\,83247426566#\,\,\,\,*095363# US (New York) \nDial by your location\n+1 646 931 3860 US\n+1 929 205 6099 US (New York)\n+1 301 715 8592 US (Washington DC)\n+1 305 224 1968 US\n+1 309 205 3325 US\n+1 312 626 6799 US (Chicago)\n+1 386 347 5053 US\n+1 507 473 4847 US\n+1 564 217 2000 US\n+1 669 444 9171 US\n+1 669 900 6833 US (San Jose)\n+1 689 278 1000 US\n+1 719 359 4580 US\n+1 253 205 0468 US\n+1 253 215 8782 US (Tacoma)\n+1 346 248 7799 US (Houston)\n+1 360 209 5623 US\nMeeting ID: 832 4742 6566\nPasscode: 095363\nFind your local number: https://us02web.zoom.us/u/kdBpd4wzA2
URL:https://longmeadowhoa.com/event/hoa-board-meeting-44/
END:VEVENT
BEGIN:VEVENT
DTSTART;TZID=America/New_York:20250315T080000
DTEND;TZID=America/New_York:20250315T170000
DTSTAMP:20260422T225622
CREATED:20241229T224151Z
LAST-MODIFIED:20241229T224151Z
UID:2019-1742025600-1742058000@longmeadowhoa.com
SUMMARY:Clubhouse Rental
DESCRIPTION:
URL:https://longmeadowhoa.com/event/clubhouse-rental-104/
END:VEVENT
BEGIN:VEVENT
DTSTART;TZID=America/New_York:20250315T090000
DTEND;TZID=America/New_York:20250315T100000
DTSTAMP:20260422T225622
CREATED:20250305T160751Z
LAST-MODIFIED:20250305T161244Z
UID:2091-1742029200-1742032800@longmeadowhoa.com
SUMMARY:Neighborhood Clean-Up
DESCRIPTION:Neighborhood Clean-Up \nVolunteers for the Villages of Longmeadow Neighborhood clean-up day will meet at the pavilion at 9AM\, then leave in small groups to pick up litter in parts of the neighborhood such as clubhouse grounds/pavilion/playground\, walking path\, Longmeadow Blvd\, etc.. Trash bags\, gloves and trash pickers will be provided.  This is a great opportunity to meet your neighbors and keep our community clean. A Board member will be present to sign for Community Services hours if interested.
URL:https://longmeadowhoa.com/event/neighborhood-cleanup-2/
END:VEVENT
BEGIN:VEVENT
DTSTART;VALUE=DATE:20250329
DTEND;VALUE=DATE:20250330
DTSTAMP:20260422T225622
CREATED:20250328T163855Z
LAST-MODIFIED:20250328T163855Z
UID:2103-1743206400-1743292799@longmeadowhoa.com
SUMMARY:Clubhouse Rental
DESCRIPTION:
URL:https://longmeadowhoa.com/event/clubhouse-rental-110/
END:VEVENT
END:VCALENDAR