BEGIN:VCALENDAR
VERSION:2.0
PRODID:-//The Villages of Longmeadow HOA - ECPv6.15.20//NONSGML v1.0//EN
CALSCALE:GREGORIAN
METHOD:PUBLISH
X-ORIGINAL-URL:https://longmeadowhoa.com
X-WR-CALDESC:Events for The Villages of Longmeadow HOA
REFRESH-INTERVAL;VALUE=DURATION:PT1H
X-Robots-Tag:noindex
X-PUBLISHED-TTL:PT1H
BEGIN:VTIMEZONE
TZID:America/New_York
BEGIN:DAYLIGHT
TZOFFSETFROM:-0500
TZOFFSETTO:-0400
TZNAME:EDT
DTSTART:20230312T070000
END:DAYLIGHT
BEGIN:STANDARD
TZOFFSETFROM:-0400
TZOFFSETTO:-0500
TZNAME:EST
DTSTART:20231105T060000
END:STANDARD
BEGIN:DAYLIGHT
TZOFFSETFROM:-0500
TZOFFSETTO:-0400
TZNAME:EDT
DTSTART:20240310T070000
END:DAYLIGHT
BEGIN:STANDARD
TZOFFSETFROM:-0400
TZOFFSETTO:-0500
TZNAME:EST
DTSTART:20241103T060000
END:STANDARD
BEGIN:DAYLIGHT
TZOFFSETFROM:-0500
TZOFFSETTO:-0400
TZNAME:EDT
DTSTART:20250309T070000
END:DAYLIGHT
BEGIN:STANDARD
TZOFFSETFROM:-0400
TZOFFSETTO:-0500
TZNAME:EST
DTSTART:20251102T060000
END:STANDARD
END:VTIMEZONE
BEGIN:VEVENT
DTSTART;VALUE=DATE:20241005
DTEND;VALUE=DATE:20241006
DTSTAMP:20260423T070930
CREATED:20240426T201459Z
LAST-MODIFIED:20240426T201459Z
UID:1863-1728086400-1728172799@longmeadowhoa.com
SUMMARY:Clubhouse Rental
DESCRIPTION:
URL:https://longmeadowhoa.com/event/clubhouse-rental-83/
END:VEVENT
BEGIN:VEVENT
DTSTART;TZID=America/New_York:20241005T080000
DTEND;TZID=America/New_York:20241005T120000
DTSTAMP:20260423T070930
CREATED:20240122T022138Z
LAST-MODIFIED:20240913T180135Z
UID:1804-1728115200-1728129600@longmeadowhoa.com
SUMMARY:Community Yard Sale
DESCRIPTION:Community Yard Sale \nAll residents are invited to participate in the annual fall community yard sale by selling items in their yards or driveways.
URL:https://longmeadowhoa.com/event/community-yard-sale-8/
END:VEVENT
BEGIN:VEVENT
DTSTART;TZID=America/New_York:20241008T190000
DTEND;TZID=America/New_York:20241008T200000
DTSTAMP:20260423T070930
CREATED:20240122T015951Z
LAST-MODIFIED:20240122T022324Z
UID:1784-1728414000-1728417600@longmeadowhoa.com
SUMMARY:Annual HOA Board Meeting
DESCRIPTION:All homeowners are invited to the Annual Longmeadow Homeowners Association Meeting.  Homeowners can also vote for Board Members by/on this date.  Registration and voting starts at 6:30pm and the meeting starts promptly at 7pm.
URL:https://longmeadowhoa.com/event/annual-hoa-board-meeting-6/
END:VEVENT
BEGIN:VEVENT
DTSTART;VALUE=DATE:20241012
DTEND;VALUE=DATE:20241013
DTSTAMP:20260423T070930
CREATED:20240613T151720Z
LAST-MODIFIED:20240613T151720Z
UID:1927-1728691200-1728777599@longmeadowhoa.com
SUMMARY:Clubhouse Rental
DESCRIPTION:
URL:https://longmeadowhoa.com/event/clubhouse-rental-88/
END:VEVENT
BEGIN:VEVENT
DTSTART;VALUE=DATE:20241019
DTEND;VALUE=DATE:20241020
DTSTAMP:20260423T070930
CREATED:20240820T190857Z
LAST-MODIFIED:20240820T190857Z
UID:1959-1729296000-1729382399@longmeadowhoa.com
SUMMARY:Clubhouse Rental
DESCRIPTION:
URL:https://longmeadowhoa.com/event/clubhouse-rental-78/
END:VEVENT
BEGIN:VEVENT
DTSTART;TZID=America/New_York:20241026T150000
DTEND;TZID=America/New_York:20241026T170000
DTSTAMP:20260423T070930
CREATED:20240122T022524Z
LAST-MODIFIED:20241022T172959Z
UID:1807-1729954800-1729962000@longmeadowhoa.com
SUMMARY:Fall Festival and Chili Cookoff at the Clubhouse 3PM to 5PM
DESCRIPTION:Our Annual Fall Festival  will be from 3p-5p!  This year we’ll include a Chili Cook-Off!  Come celebrate the Fall!  We will have some Halloween activities like games\, Costume Contests for all ages\, of course candy\, cookies\, drinks\, and more!
URL:https://longmeadowhoa.com/event/fall-festival-and-trunk-or-treat-at-the-clubhouse-2/
END:VEVENT
BEGIN:VEVENT
DTSTART;TZID=America/New_York:20241029T063000
DTEND;TZID=America/New_York:20241029T203000
DTSTAMP:20260423T070930
CREATED:20241022T173540Z
LAST-MODIFIED:20241026T212723Z
UID:1987-1730183400-1730233800@longmeadowhoa.com
SUMMARY:Annual HOA Board Meeting - Makeup Meeting
DESCRIPTION:Villages of Longmeadow  Annual HOA Board Mtng. @ Clubhouse (& Zoom) \nBecause resident ballot quorum was not met at the first Annual Meeting on Oct 8th\, we are required to hold a makeup meeting.  Please come out at bring your ballots. Ballots must be received by 6:59 pm. \nLongmeadow HOA is inviting you to a scheduled Zoom meeting. \nTopic: Longmeadow HOA’s Zoom Board Meeting\nTime: 7:00 PM \nJoin Zoom Meeting\nhttps://us02web.zoom.us/j/83247426566?pwd=bExsT2NNWVBGT09qZGx5QUhPTHg5dz09 \nMeeting ID: 832 4742 6566\nPasscode: 095363 \n 
URL:https://longmeadowhoa.com/event/annual-hoa-board-meeting-makeup-meeting/
END:VEVENT
END:VCALENDAR