BEGIN:VCALENDAR
VERSION:2.0
PRODID:-//The Villages of Longmeadow HOA - ECPv6.15.20//NONSGML v1.0//EN
CALSCALE:GREGORIAN
METHOD:PUBLISH
X-WR-CALNAME:The Villages of Longmeadow HOA
X-ORIGINAL-URL:https://longmeadowhoa.com
X-WR-CALDESC:Events for The Villages of Longmeadow HOA
REFRESH-INTERVAL;VALUE=DURATION:PT1H
X-Robots-Tag:noindex
X-PUBLISHED-TTL:PT1H
BEGIN:VTIMEZONE
TZID:America/New_York
BEGIN:DAYLIGHT
TZOFFSETFROM:-0500
TZOFFSETTO:-0400
TZNAME:EDT
DTSTART:20230312T070000
END:DAYLIGHT
BEGIN:STANDARD
TZOFFSETFROM:-0400
TZOFFSETTO:-0500
TZNAME:EST
DTSTART:20231105T060000
END:STANDARD
BEGIN:DAYLIGHT
TZOFFSETFROM:-0500
TZOFFSETTO:-0400
TZNAME:EDT
DTSTART:20240310T070000
END:DAYLIGHT
BEGIN:STANDARD
TZOFFSETFROM:-0400
TZOFFSETTO:-0500
TZNAME:EST
DTSTART:20241103T060000
END:STANDARD
BEGIN:DAYLIGHT
TZOFFSETFROM:-0500
TZOFFSETTO:-0400
TZNAME:EDT
DTSTART:20250309T070000
END:DAYLIGHT
BEGIN:STANDARD
TZOFFSETFROM:-0400
TZOFFSETTO:-0500
TZNAME:EST
DTSTART:20251102T060000
END:STANDARD
END:VTIMEZONE
BEGIN:VEVENT
DTSTART;TZID=America/New_York:20240709T183000
DTEND;TZID=America/New_York:20240709T190000
DTSTAMP:20260423T115744
CREATED:20240708T173745Z
LAST-MODIFIED:20240708T173745Z
UID:1949-1720549800-1720551600@longmeadowhoa.com
SUMMARY:Pool Committee Meeting at the Clubhouse
DESCRIPTION:
URL:https://longmeadowhoa.com/event/pool-committee-meeting-at-the-clubhouse/
END:VEVENT
BEGIN:VEVENT
DTSTART;TZID=America/New_York:20240709T190000
DTEND;TZID=America/New_York:20240709T200000
DTSTAMP:20260423T115744
CREATED:20240122T015611Z
LAST-MODIFIED:20240122T015611Z
UID:1778-1720551600-1720555200@longmeadowhoa.com
SUMMARY:HOA Board Meeting
DESCRIPTION:Villages of Longmeadow HOA Board Mtng. @ Clubhouse (& Zoom) \nLongmeadow HOA is inviting you to a scheduled Zoom meeting. \nTopic: Longmeadow HOA’s Zoom Board Meeting\nTime: 7:00 PM \nJoin Zoom Meeting\nhttps://us02web.zoom.us/j/83247426566?pwd=bExsT2NNWVBGT09qZGx5QUhPTHg5dz09 \nMeeting ID: 832 4742 6566\nPasscode: 095363\nOne tap mobile\n+16469313860\,\,83247426566#\,\,\,\,*095363# US\n+19292056099\,\,83247426566#\,\,\,\,*095363# US (New York) \nDial by your location\n+1 646 931 3860 US\n+1 929 205 6099 US (New York)\n+1 301 715 8592 US (Washington DC)\n+1 305 224 1968 US\n+1 309 205 3325 US\n+1 312 626 6799 US (Chicago)\n+1 386 347 5053 US\n+1 507 473 4847 US\n+1 564 217 2000 US\n+1 669 444 9171 US\n+1 669 900 6833 US (San Jose)\n+1 689 278 1000 US\n+1 719 359 4580 US\n+1 253 205 0468 US\n+1 253 215 8782 US (Tacoma)\n+1 346 248 7799 US (Houston)\n+1 360 209 5623 US\nMeeting ID: 832 4742 6566\nPasscode: 095363\nFind your local number: https://us02web.zoom.us/u/kdBpd4wzA2
URL:https://longmeadowhoa.com/event/hoa-board-meeting-29/
END:VEVENT
BEGIN:VEVENT
DTSTART;VALUE=DATE:20240713
DTEND;VALUE=DATE:20240714
DTSTAMP:20260423T115744
CREATED:20240518T185044Z
LAST-MODIFIED:20240518T185044Z
UID:1885-1720828800-1720915199@longmeadowhoa.com
SUMMARY:Clubhouse Rental
DESCRIPTION:
URL:https://longmeadowhoa.com/event/clubhouse-rental-86/
END:VEVENT
BEGIN:VEVENT
DTSTART;TZID=America/New_York:20240715T173000
DTEND;TZID=America/New_York:20240715T203000
DTSTAMP:20260423T115744
CREATED:20240623T003141Z
LAST-MODIFIED:20240623T003141Z
UID:1936-1721064600-1721075400@longmeadowhoa.com
SUMMARY:Pavilion Reserved for Longmeadow Residents Summer Activity 5:30p-8:30p
DESCRIPTION:Pavilion Reserved for Longmeadow Residents Summer Activity 5:30p-8:30p
URL:https://longmeadowhoa.com/event/pavilion-reserved-for-longmeadow-residents-summer-activity-530p-830p/
END:VEVENT
BEGIN:VEVENT
DTSTART;TZID=America/New_York:20240719T173000
DTEND;TZID=America/New_York:20240719T203000
DTSTAMP:20260423T115744
CREATED:20240623T003301Z
LAST-MODIFIED:20240623T003301Z
UID:1938-1721410200-1721421000@longmeadowhoa.com
SUMMARY:Pavilion Reserved for Longmeadow Residents Summer Activity 5:30p-8:30p
DESCRIPTION:Pavilion Reserved for Longmeadow Residents Summer Activity 5:30p-8:30p
URL:https://longmeadowhoa.com/event/pavilion-reserved-for-longmeadow-residents-summer-activity-530p-830p-2/
END:VEVENT
BEGIN:VEVENT
DTSTART;VALUE=DATE:20240720
DTEND;VALUE=DATE:20240721
DTSTAMP:20260423T115744
CREATED:20240410T012754Z
LAST-MODIFIED:20240410T014006Z
UID:1839-1721433600-1721519999@longmeadowhoa.com
SUMMARY:Clubhouse Rental
DESCRIPTION:
URL:https://longmeadowhoa.com/event/clubhouse-rental-81/
END:VEVENT
BEGIN:VEVENT
DTSTART;TZID=America/New_York:20240720T140000
DTEND;TZID=America/New_York:20240720T180000
DTSTAMP:20260423T115744
CREATED:20240518T184706Z
LAST-MODIFIED:20240612T211612Z
UID:1881-1721484000-1721498400@longmeadowhoa.com
SUMMARY:1/2 Pavilion Reserved for Kendal Sakiewicz
DESCRIPTION:1/2 Pavilion Reserved for Kendal Sakiewicz
URL:https://longmeadowhoa.com/event/pavilion-reserved-for-kendal-sakiewicz-2/
END:VEVENT
BEGIN:VEVENT
DTSTART;TZID=America/New_York:20240722T173000
DTEND;TZID=America/New_York:20240722T203000
DTSTAMP:20260423T115744
CREATED:20240623T003356Z
LAST-MODIFIED:20240623T003356Z
UID:1940-1721669400-1721680200@longmeadowhoa.com
SUMMARY:Pavilion Reserved for Longmeadow Residents Summer Activity 5:30p-8:30p
DESCRIPTION:Pavilion Reserved for Longmeadow Residents Summer Activity 5:30p-8:30p
URL:https://longmeadowhoa.com/event/pavilion-reserved-for-longmeadow-residents-summer-activity-530p-830p-3/
END:VEVENT
BEGIN:VEVENT
DTSTART;TZID=America/New_York:20240726T173000
DTEND;TZID=America/New_York:20240726T203000
DTSTAMP:20260423T115744
CREATED:20240623T003501Z
LAST-MODIFIED:20240623T003501Z
UID:1942-1722015000-1722025800@longmeadowhoa.com
SUMMARY:Pavilion Reserved for Longmeadow Residents Summer Activity 5:30p-8:30p
DESCRIPTION:Pavilion Reserved for Longmeadow Residents Summer Activity 5:30p-8:30p
URL:https://longmeadowhoa.com/event/pavilion-reserved-for-longmeadow-residents-summer-activity-530p-830p-4/
END:VEVENT
BEGIN:VEVENT
DTSTART;TZID=America/New_York:20240730T183000
DTEND;TZID=America/New_York:20240730T190000
DTSTAMP:20260423T115744
CREATED:20240730T170022Z
LAST-MODIFIED:20240730T170022Z
UID:1952-1722364200-1722366000@longmeadowhoa.com
SUMMARY:Pool Committee Meeting at the Clubhouse
DESCRIPTION:
URL:https://longmeadowhoa.com/event/pool-committee-meeting-at-the-clubhouse-2/
END:VEVENT
END:VCALENDAR