BEGIN:VCALENDAR
VERSION:2.0
PRODID:-//The Villages of Longmeadow HOA - ECPv6.15.20//NONSGML v1.0//EN
CALSCALE:GREGORIAN
METHOD:PUBLISH
X-WR-CALNAME:The Villages of Longmeadow HOA
X-ORIGINAL-URL:https://longmeadowhoa.com
X-WR-CALDESC:Events for The Villages of Longmeadow HOA
REFRESH-INTERVAL;VALUE=DURATION:PT1H
X-Robots-Tag:noindex
X-PUBLISHED-TTL:PT1H
BEGIN:VTIMEZONE
TZID:America/New_York
BEGIN:DAYLIGHT
TZOFFSETFROM:-0500
TZOFFSETTO:-0400
TZNAME:EDT
DTSTART:20250309T070000
END:DAYLIGHT
BEGIN:STANDARD
TZOFFSETFROM:-0400
TZOFFSETTO:-0500
TZNAME:EST
DTSTART:20251102T060000
END:STANDARD
BEGIN:DAYLIGHT
TZOFFSETFROM:-0500
TZOFFSETTO:-0400
TZNAME:EDT
DTSTART:20260308T070000
END:DAYLIGHT
BEGIN:STANDARD
TZOFFSETFROM:-0400
TZOFFSETTO:-0500
TZNAME:EST
DTSTART:20261101T060000
END:STANDARD
BEGIN:DAYLIGHT
TZOFFSETFROM:-0500
TZOFFSETTO:-0400
TZNAME:EDT
DTSTART:20270314T070000
END:DAYLIGHT
BEGIN:STANDARD
TZOFFSETFROM:-0400
TZOFFSETTO:-0500
TZNAME:EST
DTSTART:20271107T060000
END:STANDARD
END:VTIMEZONE
BEGIN:VEVENT
DTSTART;TZID=America/New_York:20261219T100000
DTEND;TZID=America/New_York:20261219T110000
DTSTAMP:20260422T175903
CREATED:20260126T201952Z
LAST-MODIFIED:20260126T201952Z
UID:2254-1797674400-1797678000@longmeadowhoa.com
SUMMARY:Luminary Pick Up at the Clubhouse
DESCRIPTION:Luminary Pick Up at the Clubhouse \nAll residents are asked to pick up luminaries that were placed along the streets around their homes.  Please be a good neighbor and help by picking up and discarding the luminaries. \n 
URL:https://longmeadowhoa.com/event/luminary-pick-up-at-the-clubhouse-2/
END:VEVENT
BEGIN:VEVENT
DTSTART;TZID=America/New_York:20261224T150000
DTEND;TZID=America/New_York:20261224T170000
DTSTAMP:20260422T175903
CREATED:20260126T202144Z
LAST-MODIFIED:20260126T202144Z
UID:2256-1798124400-1798131600@longmeadowhoa.com
SUMMARY:Christmas Eve Luminary Lighting
DESCRIPTION:Christmas Eve Luminary Lighting \nNeighbors who picked up luminaries should place and light luminaries between 3pm – 5pm
URL:https://longmeadowhoa.com/event/christmas-eve-luminary-lighting-5/
END:VEVENT
BEGIN:VEVENT
DTSTART;VALUE=DATE:20261225
DTEND;VALUE=DATE:20261226
DTSTAMP:20260422T175903
CREATED:20260126T202251Z
LAST-MODIFIED:20260126T202251Z
UID:2258-1798156800-1798243199@longmeadowhoa.com
SUMMARY:Luminary Cleanup
DESCRIPTION:Luminary Cleanup \nAll residents are asked to pick up luminaries that were placed along the streets around their homes.  Please be a good neighbor and help by picking up and discarding the luminaries.
URL:https://longmeadowhoa.com/event/luminary-cleanup-2/
END:VEVENT
END:VCALENDAR