BEGIN:VCALENDAR
VERSION:2.0
PRODID:-//The Villages of Longmeadow HOA - ECPv6.15.20//NONSGML v1.0//EN
CALSCALE:GREGORIAN
METHOD:PUBLISH
X-WR-CALNAME:The Villages of Longmeadow HOA
X-ORIGINAL-URL:https://longmeadowhoa.com
X-WR-CALDESC:Events for The Villages of Longmeadow HOA
REFRESH-INTERVAL;VALUE=DURATION:PT1H
X-Robots-Tag:noindex
X-PUBLISHED-TTL:PT1H
BEGIN:VTIMEZONE
TZID:America/New_York
BEGIN:DAYLIGHT
TZOFFSETFROM:-0500
TZOFFSETTO:-0400
TZNAME:EDT
DTSTART:20230312T070000
END:DAYLIGHT
BEGIN:STANDARD
TZOFFSETFROM:-0400
TZOFFSETTO:-0500
TZNAME:EST
DTSTART:20231105T060000
END:STANDARD
BEGIN:DAYLIGHT
TZOFFSETFROM:-0500
TZOFFSETTO:-0400
TZNAME:EDT
DTSTART:20240310T070000
END:DAYLIGHT
BEGIN:STANDARD
TZOFFSETFROM:-0400
TZOFFSETTO:-0500
TZNAME:EST
DTSTART:20241103T060000
END:STANDARD
BEGIN:DAYLIGHT
TZOFFSETFROM:-0500
TZOFFSETTO:-0400
TZNAME:EDT
DTSTART:20250309T070000
END:DAYLIGHT
BEGIN:STANDARD
TZOFFSETFROM:-0400
TZOFFSETTO:-0500
TZNAME:EST
DTSTART:20251102T060000
END:STANDARD
END:VTIMEZONE
BEGIN:VEVENT
DTSTART;VALUE=DATE:20241207
DTEND;VALUE=DATE:20241208
DTSTAMP:20260423T053821
CREATED:20241113T003414Z
LAST-MODIFIED:20241113T003414Z
UID:2005-1733529600-1733615999@longmeadowhoa.com
SUMMARY:Clubhouse Rental
DESCRIPTION:
URL:https://longmeadowhoa.com/event/clubhouse-rental-100/
END:VEVENT
BEGIN:VEVENT
DTSTART;VALUE=DATE:20241201
DTEND;VALUE=DATE:20241202
DTSTAMP:20260423T053821
CREATED:20241104T024706Z
LAST-MODIFIED:20241104T024706Z
UID:1997-1733011200-1733097599@longmeadowhoa.com
SUMMARY:Clubhouse Rental
DESCRIPTION:
URL:https://longmeadowhoa.com/event/clubhouse-rental-98/
END:VEVENT
BEGIN:VEVENT
DTSTART;VALUE=DATE:20241128
DTEND;VALUE=DATE:20241129
DTSTAMP:20260423T053821
CREATED:20241117T015445Z
LAST-MODIFIED:20241117T015445Z
UID:2009-1732752000-1732838399@longmeadowhoa.com
SUMMARY:Clubhouse Rental
DESCRIPTION:
URL:https://longmeadowhoa.com/event/clubhouse-rental-84/
END:VEVENT
BEGIN:VEVENT
DTSTART;VALUE=DATE:20241123
DTEND;VALUE=DATE:20241124
DTSTAMP:20260423T053821
CREATED:20241104T024600Z
LAST-MODIFIED:20241104T024600Z
UID:1995-1732320000-1732406399@longmeadowhoa.com
SUMMARY:Clubhouse Rental
DESCRIPTION:
URL:https://longmeadowhoa.com/event/clubhouse-rental-97/
END:VEVENT
BEGIN:VEVENT
DTSTART;VALUE=DATE:20241116
DTEND;VALUE=DATE:20241117
DTSTAMP:20260423T053821
CREATED:20241104T024502Z
LAST-MODIFIED:20241104T024502Z
UID:1993-1731715200-1731801599@longmeadowhoa.com
SUMMARY:Clubhouse Rental
DESCRIPTION:
URL:https://longmeadowhoa.com/event/clubhouse-rental-96/
END:VEVENT
BEGIN:VEVENT
DTSTART;TZID=America/New_York:20241112T190000
DTEND;TZID=America/New_York:20241112T200000
DTSTAMP:20260423T053821
CREATED:20240122T020059Z
LAST-MODIFIED:20240122T020059Z
UID:1786-1731438000-1731441600@longmeadowhoa.com
SUMMARY:HOA Board Meeting
DESCRIPTION:Villages of Longmeadow HOA Board Mtng. @ Clubhouse (& Zoom) \nLongmeadow HOA is inviting you to a scheduled Zoom meeting. \nTopic: Longmeadow HOA’s Zoom Board Meeting\nTime: 7:00 PM \nJoin Zoom Meeting\nhttps://us02web.zoom.us/j/83247426566?pwd=bExsT2NNWVBGT09qZGx5QUhPTHg5dz09 \nMeeting ID: 832 4742 6566\nPasscode: 095363\nOne tap mobile\n+16469313860\,\,83247426566#\,\,\,\,*095363# US\n+19292056099\,\,83247426566#\,\,\,\,*095363# US (New York) \nDial by your location\n+1 646 931 3860 US\n+1 929 205 6099 US (New York)\n+1 301 715 8592 US (Washington DC)\n+1 305 224 1968 US\n+1 309 205 3325 US\n+1 312 626 6799 US (Chicago)\n+1 386 347 5053 US\n+1 507 473 4847 US\n+1 564 217 2000 US\n+1 669 444 9171 US\n+1 669 900 6833 US (San Jose)\n+1 689 278 1000 US\n+1 719 359 4580 US\n+1 253 205 0468 US\n+1 253 215 8782 US (Tacoma)\n+1 346 248 7799 US (Houston)\n+1 360 209 5623 US\nMeeting ID: 832 4742 6566\nPasscode: 095363\nFind your local number: https://us02web.zoom.us/u/kdBpd4wzA2
URL:https://longmeadowhoa.com/event/hoa-board-meeting-32/
END:VEVENT
BEGIN:VEVENT
DTSTART;TZID=America/New_York:20241109T090000
DTEND;TZID=America/New_York:20241109T103000
DTSTAMP:20260423T053821
CREATED:20240610T204202Z
LAST-MODIFIED:20241105T173055Z
UID:1908-1731142800-1731148200@longmeadowhoa.com
SUMMARY:Neighborhood Clean-Up
DESCRIPTION:Neighborhood Clean-Up Day \nVolunteers for the Villages of Longmeadow Neighborhood clean-up day will meet at the pavilion at 9AM\, then leave in small groups to pick up litter in parts of the neighborhood such as clubhouse grounds/pavilion/playground\, walking path\, Longmeadow Blvd\, etc.. Trash bags\, gloves and trash pickers will be provided.  This is a great opportunity to meet your neighbors and keep our community clean. A Board member will be present to sign for Community Services hours if interested.
URL:https://longmeadowhoa.com/event/neighborhood-clean-up-2/
END:VEVENT
BEGIN:VEVENT
DTSTART;VALUE=DATE:20241102
DTEND;VALUE=DATE:20241103
DTSTAMP:20260423T053821
CREATED:20240913T180709Z
LAST-MODIFIED:20240913T180709Z
UID:1974-1730505600-1730591999@longmeadowhoa.com
SUMMARY:Clubhouse Rental
DESCRIPTION:
URL:https://longmeadowhoa.com/event/clubhouse-rental-94/
END:VEVENT
BEGIN:VEVENT
DTSTART;TZID=America/New_York:20241029T063000
DTEND;TZID=America/New_York:20241029T203000
DTSTAMP:20260423T053821
CREATED:20241022T173540Z
LAST-MODIFIED:20241026T212723Z
UID:1987-1730183400-1730233800@longmeadowhoa.com
SUMMARY:Annual HOA Board Meeting - Makeup Meeting
DESCRIPTION:Villages of Longmeadow  Annual HOA Board Mtng. @ Clubhouse (& Zoom) \nBecause resident ballot quorum was not met at the first Annual Meeting on Oct 8th\, we are required to hold a makeup meeting.  Please come out at bring your ballots. Ballots must be received by 6:59 pm. \nLongmeadow HOA is inviting you to a scheduled Zoom meeting. \nTopic: Longmeadow HOA’s Zoom Board Meeting\nTime: 7:00 PM \nJoin Zoom Meeting\nhttps://us02web.zoom.us/j/83247426566?pwd=bExsT2NNWVBGT09qZGx5QUhPTHg5dz09 \nMeeting ID: 832 4742 6566\nPasscode: 095363 \n 
URL:https://longmeadowhoa.com/event/annual-hoa-board-meeting-makeup-meeting/
END:VEVENT
BEGIN:VEVENT
DTSTART;TZID=America/New_York:20241026T150000
DTEND;TZID=America/New_York:20241026T170000
DTSTAMP:20260423T053821
CREATED:20240122T022524Z
LAST-MODIFIED:20241022T172959Z
UID:1807-1729954800-1729962000@longmeadowhoa.com
SUMMARY:Fall Festival and Chili Cookoff at the Clubhouse 3PM to 5PM
DESCRIPTION:Our Annual Fall Festival  will be from 3p-5p!  This year we’ll include a Chili Cook-Off!  Come celebrate the Fall!  We will have some Halloween activities like games\, Costume Contests for all ages\, of course candy\, cookies\, drinks\, and more!
URL:https://longmeadowhoa.com/event/fall-festival-and-trunk-or-treat-at-the-clubhouse-2/
END:VEVENT
BEGIN:VEVENT
DTSTART;VALUE=DATE:20241019
DTEND;VALUE=DATE:20241020
DTSTAMP:20260423T053821
CREATED:20240820T190857Z
LAST-MODIFIED:20240820T190857Z
UID:1959-1729296000-1729382399@longmeadowhoa.com
SUMMARY:Clubhouse Rental
DESCRIPTION:
URL:https://longmeadowhoa.com/event/clubhouse-rental-78/
END:VEVENT
BEGIN:VEVENT
DTSTART;VALUE=DATE:20241012
DTEND;VALUE=DATE:20241013
DTSTAMP:20260423T053821
CREATED:20240613T151720Z
LAST-MODIFIED:20240613T151720Z
UID:1927-1728691200-1728777599@longmeadowhoa.com
SUMMARY:Clubhouse Rental
DESCRIPTION:
URL:https://longmeadowhoa.com/event/clubhouse-rental-88/
END:VEVENT
BEGIN:VEVENT
DTSTART;TZID=America/New_York:20241008T190000
DTEND;TZID=America/New_York:20241008T200000
DTSTAMP:20260423T053821
CREATED:20240122T015951Z
LAST-MODIFIED:20240122T022324Z
UID:1784-1728414000-1728417600@longmeadowhoa.com
SUMMARY:Annual HOA Board Meeting
DESCRIPTION:All homeowners are invited to the Annual Longmeadow Homeowners Association Meeting.  Homeowners can also vote for Board Members by/on this date.  Registration and voting starts at 6:30pm and the meeting starts promptly at 7pm.
URL:https://longmeadowhoa.com/event/annual-hoa-board-meeting-6/
END:VEVENT
BEGIN:VEVENT
DTSTART;TZID=America/New_York:20241005T080000
DTEND;TZID=America/New_York:20241005T120000
DTSTAMP:20260423T053821
CREATED:20240122T022138Z
LAST-MODIFIED:20240913T180135Z
UID:1804-1728115200-1728129600@longmeadowhoa.com
SUMMARY:Community Yard Sale
DESCRIPTION:Community Yard Sale \nAll residents are invited to participate in the annual fall community yard sale by selling items in their yards or driveways.
URL:https://longmeadowhoa.com/event/community-yard-sale-8/
END:VEVENT
BEGIN:VEVENT
DTSTART;VALUE=DATE:20241005
DTEND;VALUE=DATE:20241006
DTSTAMP:20260423T053821
CREATED:20240426T201459Z
LAST-MODIFIED:20240426T201459Z
UID:1863-1728086400-1728172799@longmeadowhoa.com
SUMMARY:Clubhouse Rental
DESCRIPTION:
URL:https://longmeadowhoa.com/event/clubhouse-rental-83/
END:VEVENT
BEGIN:VEVENT
DTSTART;VALUE=DATE:20240928
DTEND;VALUE=DATE:20240929
DTSTAMP:20260423T053821
CREATED:20240820T190951Z
LAST-MODIFIED:20240820T190951Z
UID:1961-1727481600-1727567999@longmeadowhoa.com
SUMMARY:Clubhouse Rental
DESCRIPTION:
URL:https://longmeadowhoa.com/event/clubhouse-rental-90/
END:VEVENT
BEGIN:VEVENT
DTSTART;VALUE=DATE:20240921
DTEND;VALUE=DATE:20240922
DTSTAMP:20260423T053821
CREATED:20240820T191036Z
LAST-MODIFIED:20240820T191036Z
UID:1963-1726876800-1726963199@longmeadowhoa.com
SUMMARY:Clubhouse Rental
DESCRIPTION:
URL:https://longmeadowhoa.com/event/clubhouse-rental-91/
END:VEVENT
BEGIN:VEVENT
DTSTART;VALUE=DATE:20240915
DTEND;VALUE=DATE:20240916
DTSTAMP:20260423T053821
CREATED:20240913T180807Z
LAST-MODIFIED:20240913T180807Z
UID:1976-1726358400-1726444799@longmeadowhoa.com
SUMMARY:Clubhouse Rental
DESCRIPTION:
URL:https://longmeadowhoa.com/event/clubhouse-rental-95/
END:VEVENT
BEGIN:VEVENT
DTSTART;VALUE=DATE:20240914
DTEND;VALUE=DATE:20240915
DTSTAMP:20260423T053821
CREATED:20240820T191058Z
LAST-MODIFIED:20240820T191127Z
UID:1965-1726272000-1726358399@longmeadowhoa.com
SUMMARY:Clubhouse Rental
DESCRIPTION:
URL:https://longmeadowhoa.com/event/clubhouse-rental-92/
END:VEVENT
BEGIN:VEVENT
DTSTART;TZID=America/New_York:20240910T190000
DTEND;TZID=America/New_York:20240910T200000
DTSTAMP:20260423T053821
CREATED:20240122T015812Z
LAST-MODIFIED:20240122T015812Z
UID:1782-1725994800-1725998400@longmeadowhoa.com
SUMMARY:HOA Board Meeting
DESCRIPTION:Villages of Longmeadow HOA Board Mtng. @ Clubhouse (& Zoom) \nLongmeadow HOA is inviting you to a scheduled Zoom meeting. \nTopic: Longmeadow HOA’s Zoom Board Meeting\nTime: 7:00 PM \nJoin Zoom Meeting\nhttps://us02web.zoom.us/j/83247426566?pwd=bExsT2NNWVBGT09qZGx5QUhPTHg5dz09 \nMeeting ID: 832 4742 6566\nPasscode: 095363\nOne tap mobile\n+16469313860\,\,83247426566#\,\,\,\,*095363# US\n+19292056099\,\,83247426566#\,\,\,\,*095363# US (New York) \nDial by your location\n+1 646 931 3860 US\n+1 929 205 6099 US (New York)\n+1 301 715 8592 US (Washington DC)\n+1 305 224 1968 US\n+1 309 205 3325 US\n+1 312 626 6799 US (Chicago)\n+1 386 347 5053 US\n+1 507 473 4847 US\n+1 564 217 2000 US\n+1 669 444 9171 US\n+1 669 900 6833 US (San Jose)\n+1 689 278 1000 US\n+1 719 359 4580 US\n+1 253 205 0468 US\n+1 253 215 8782 US (Tacoma)\n+1 346 248 7799 US (Houston)\n+1 360 209 5623 US\nMeeting ID: 832 4742 6566\nPasscode: 095363\nFind your local number: https://us02web.zoom.us/u/kdBpd4wzA2
URL:https://longmeadowhoa.com/event/hoa-board-meeting-31/
END:VEVENT
BEGIN:VEVENT
DTSTART;TZID=America/New_York:20240910T183000
DTEND;TZID=America/New_York:20240910T190000
DTSTAMP:20260423T053821
CREATED:20240730T170208Z
LAST-MODIFIED:20240730T170208Z
UID:1954-1725993000-1725994800@longmeadowhoa.com
SUMMARY:Pool Committee Meeting at the Clubhouse
DESCRIPTION:
URL:https://longmeadowhoa.com/event/pool-committee-meeting-at-the-clubhouse-3/
END:VEVENT
BEGIN:VEVENT
DTSTART;VALUE=DATE:20240907
DTEND;VALUE=DATE:20240908
DTSTAMP:20260423T053821
CREATED:20240820T191245Z
LAST-MODIFIED:20240820T191245Z
UID:1967-1725667200-1725753599@longmeadowhoa.com
SUMMARY:Clubhouse Rental
DESCRIPTION:
URL:https://longmeadowhoa.com/event/clubhouse-rental-93/
END:VEVENT
BEGIN:VEVENT
DTSTART;TZID=America/New_York:20240902T100000
DTEND;TZID=America/New_York:20240902T190000
DTSTAMP:20260423T053821
CREATED:20240518T185748Z
LAST-MODIFIED:20240518T185748Z
UID:1889-1725271200-1725303600@longmeadowhoa.com
SUMMARY:Pool Closes for the Season
DESCRIPTION:
URL:https://longmeadowhoa.com/event/pool-closes-for-the-season/
END:VEVENT
BEGIN:VEVENT
DTSTART;VALUE=DATE:20240824
DTEND;VALUE=DATE:20240825
DTSTAMP:20260423T053821
CREATED:20240613T151639Z
LAST-MODIFIED:20240613T151639Z
UID:1925-1724457600-1724543999@longmeadowhoa.com
SUMMARY:Clubhouse Rental
DESCRIPTION:
URL:https://longmeadowhoa.com/event/clubhouse-rental-87/
END:VEVENT
BEGIN:VEVENT
DTSTART;VALUE=DATE:20240817
DTEND;VALUE=DATE:20240818
DTSTAMP:20260423T053821
CREATED:20240613T151816Z
LAST-MODIFIED:20240613T151816Z
UID:1929-1723852800-1723939199@longmeadowhoa.com
SUMMARY:Clubhouse Rental
DESCRIPTION:
URL:https://longmeadowhoa.com/event/clubhouse-rental-89/
END:VEVENT
BEGIN:VEVENT
DTSTART;TZID=America/New_York:20240816T080000
DTEND;TZID=America/New_York:20240816T170000
DTSTAMP:20260423T053821
CREATED:20240623T003555Z
LAST-MODIFIED:20240623T003555Z
UID:1944-1723795200-1723827600@longmeadowhoa.com
SUMMARY:Pavilion Reserved for Longmeadow Residents Summer Activity 5:30p-8:30p
DESCRIPTION:Pavilion Reserved for Longmeadow Residents Summer Activity 5:30p-8:30p
URL:https://longmeadowhoa.com/event/pavilion-reserved-for-longmeadow-residents-summer-activity-530p-830p-5/
END:VEVENT
BEGIN:VEVENT
DTSTART;TZID=America/New_York:20240813T190000
DTEND;TZID=America/New_York:20240813T200000
DTSTAMP:20260423T053821
CREATED:20240122T015709Z
LAST-MODIFIED:20240122T015709Z
UID:1780-1723575600-1723579200@longmeadowhoa.com
SUMMARY:HOA Board Meeting
DESCRIPTION:Villages of Longmeadow HOA Board Mtng. @ Clubhouse (& Zoom) \nLongmeadow HOA is inviting you to a scheduled Zoom meeting. \nTopic: Longmeadow HOA’s Zoom Board Meeting\nTime: 7:00 PM \nJoin Zoom Meeting\nhttps://us02web.zoom.us/j/83247426566?pwd=bExsT2NNWVBGT09qZGx5QUhPTHg5dz09 \nMeeting ID: 832 4742 6566\nPasscode: 095363\nOne tap mobile\n+16469313860\,\,83247426566#\,\,\,\,*095363# US\n+19292056099\,\,83247426566#\,\,\,\,*095363# US (New York) \nDial by your location\n+1 646 931 3860 US\n+1 929 205 6099 US (New York)\n+1 301 715 8592 US (Washington DC)\n+1 305 224 1968 US\n+1 309 205 3325 US\n+1 312 626 6799 US (Chicago)\n+1 386 347 5053 US\n+1 507 473 4847 US\n+1 564 217 2000 US\n+1 669 444 9171 US\n+1 669 900 6833 US (San Jose)\n+1 689 278 1000 US\n+1 719 359 4580 US\n+1 253 205 0468 US\n+1 253 215 8782 US (Tacoma)\n+1 346 248 7799 US (Houston)\n+1 360 209 5623 US\nMeeting ID: 832 4742 6566\nPasscode: 095363\nFind your local number: https://us02web.zoom.us/u/kdBpd4wzA2
URL:https://longmeadowhoa.com/event/hoa-board-meeting-30/
END:VEVENT
BEGIN:VEVENT
DTSTART;TZID=America/New_York:20240812T180000
DTEND;TZID=America/New_York:20240812T200000
DTSTAMP:20260423T053821
CREATED:20240612T142633Z
LAST-MODIFIED:20240618T162648Z
UID:1914-1723485600-1723492800@longmeadowhoa.com
SUMMARY:1/2 Pavilion Reserved for Ann Behne
DESCRIPTION:
URL:https://longmeadowhoa.com/event/pavilion-reserved-for-ann-behne/
END:VEVENT
BEGIN:VEVENT
DTSTART;TZID=America/New_York:20240810T120000
DTEND;TZID=America/New_York:20240810T160000
DTSTAMP:20260423T053821
CREATED:20240618T162812Z
LAST-MODIFIED:20240618T162812Z
UID:1933-1723291200-1723305600@longmeadowhoa.com
SUMMARY:1/2 Pavilion Reserved for Clee Sessions
DESCRIPTION:
URL:https://longmeadowhoa.com/event/1-2-pavilion-reserved-for-clee-sessions/
END:VEVENT
BEGIN:VEVENT
DTSTART;TZID=America/New_York:20240810T090000
DTEND;TZID=America/New_York:20240810T103000
DTSTAMP:20260423T053821
CREATED:20240610T203856Z
LAST-MODIFIED:20240610T203856Z
UID:1906-1723280400-1723285800@longmeadowhoa.com
SUMMARY:Neighborhood Cleanup
DESCRIPTION:Volunteers for the Villages of Longmeadow Neighborhood clean-up day will meet at the pavilion at 9AM\, then leave in small groups to pick up litter in parts of the neighborhood such as clubhouse grounds/pavilion/playground\, walking path\, Longmeadow Blvd\, etc.. Trash bags\, gloves and trash pickers will be provided.  This is a great opportunity to meet you neighbors and keep our community clean. A Board member will be present to sign for Community Services hours if interested.
URL:https://longmeadowhoa.com/event/neighborhood-cleanup/
END:VEVENT
END:VCALENDAR