BEGIN:VCALENDAR
VERSION:2.0
PRODID:-//The Villages of Longmeadow HOA - ECPv6.15.20//NONSGML v1.0//EN
CALSCALE:GREGORIAN
METHOD:PUBLISH
X-ORIGINAL-URL:https://longmeadowhoa.com
X-WR-CALDESC:Events for The Villages of Longmeadow HOA
REFRESH-INTERVAL;VALUE=DURATION:PT1H
X-Robots-Tag:noindex
X-PUBLISHED-TTL:PT1H
BEGIN:VTIMEZONE
TZID:America/New_York
BEGIN:DAYLIGHT
TZOFFSETFROM:-0500
TZOFFSETTO:-0400
TZNAME:EDT
DTSTART:20250309T070000
END:DAYLIGHT
BEGIN:STANDARD
TZOFFSETFROM:-0400
TZOFFSETTO:-0500
TZNAME:EST
DTSTART:20251102T060000
END:STANDARD
BEGIN:DAYLIGHT
TZOFFSETFROM:-0500
TZOFFSETTO:-0400
TZNAME:EDT
DTSTART:20260308T070000
END:DAYLIGHT
BEGIN:STANDARD
TZOFFSETFROM:-0400
TZOFFSETTO:-0500
TZNAME:EST
DTSTART:20261101T060000
END:STANDARD
BEGIN:DAYLIGHT
TZOFFSETFROM:-0500
TZOFFSETTO:-0400
TZNAME:EDT
DTSTART:20270314T070000
END:DAYLIGHT
BEGIN:STANDARD
TZOFFSETFROM:-0400
TZOFFSETTO:-0500
TZNAME:EST
DTSTART:20271107T060000
END:STANDARD
END:VTIMEZONE
BEGIN:VEVENT
DTSTART;VALUE=DATE:20260523
DTEND;VALUE=DATE:20260524
DTSTAMP:20260422T181442
CREATED:20260326T165113Z
LAST-MODIFIED:20260326T165113Z
UID:2276-1779494400-1779580799@longmeadowhoa.com
SUMMARY:CLUBHOUSE RENTAL
DESCRIPTION:CLUBHOUSE RENTAL
URL:https://longmeadowhoa.com/event/clubhouse-rental-136/
END:VEVENT
BEGIN:VEVENT
DTSTART;TZID=America/New_York:20260525T113000
DTEND;TZID=America/New_York:20260525T123000
DTSTAMP:20260422T181442
CREATED:20260126T195555Z
LAST-MODIFIED:20260126T195555Z
UID:2240-1779708600-1779712200@longmeadowhoa.com
SUMMARY:Memorial Day Hot Dog and Ice Cream Social at the Clubhouse and Pool
DESCRIPTION:Memorial Day Hot Dog and Ice Cream Social at the Clubhouse and Pool \nCome out and enjoy the opening of the pool and celebrate Memorial Day with your neighbors.   Lunch will be served (hot dogs\, chips and drinks) and there will be lots of ice cream & toppings for dessert.  Get to know your neighbors and enjoy this fun-filled day.
URL:https://longmeadowhoa.com/event/memorial-day-hot-dog-and-ice-cream-social-at-the-clubhouse-and-pool-3/
END:VEVENT
BEGIN:VEVENT
DTSTART;TZID=America/New_York:20260609T190000
DTEND;TZID=America/New_York:20260609T200000
DTSTAMP:20260422T181442
CREATED:20251227T160058Z
LAST-MODIFIED:20251227T160058Z
UID:2223-1781031600-1781035200@longmeadowhoa.com
SUMMARY:HOA Board Meeting
DESCRIPTION:HOA Board Meeting \nVillages of Longmeadow HOA Board Mtng. @ Clubhouse (& Zoom) \nLongmeadow HOA is inviting you to a scheduled Zoom meeting. \nTopic: Longmeadow HOA’s Zoom Board Meeting\nTime: 7:00 PM \nJoin Zoom Meeting\nhttps://us02web.zoom.us/j/83247426566?pwd=bExsT2NNWVBGT09qZGx5QUhPTHg5dz09 \nMeeting ID: 832 4742 6566\nPasscode: 095363\nOne tap mobile\n+16469313860\,\,83247426566#\,\,\,\,*095363# US\n+19292056099\,\,83247426566#\,\,\,\,*095363# US (New York) \nDial by your location\n+1 646 931 3860 US\n+1 929 205 6099 US (New York)\n+1 301 715 8592 US (Washington DC)\n+1 305 224 1968 US\n+1 309 205 3325 US\n+1 312 626 6799 US (Chicago)\n+1 386 347 5053 US\n+1 507 473 4847 US\n+1 564 217 2000 US\n+1 669 444 9171 US\n+1 669 900 6833 US (San Jose)\n+1 689 278 1000 US\n+1 719 359 4580 US\n+1 253 205 0468 US\n+1 253 215 8782 US (Tacoma)\n+1 346 248 7799 US (Houston)\n+1 360 209 5623 US\nMeeting ID: 832 4742 6566\nPasscode: 095363\nFind your local number: https://us02web.zoom.us/u/kdBpd4wzA2
URL:https://longmeadowhoa.com/event/hoa-board-meeting-51/
END:VEVENT
BEGIN:VEVENT
DTSTART;VALUE=DATE:20260613
DTEND;VALUE=DATE:20260614
DTSTAMP:20260422T181442
CREATED:20260326T165152Z
LAST-MODIFIED:20260326T165152Z
UID:2278-1781308800-1781395199@longmeadowhoa.com
SUMMARY:CLUBHOUSE RENTAL
DESCRIPTION:CLUBHOUSE RENTAL
URL:https://longmeadowhoa.com/event/clubhouse-rental-137/
END:VEVENT
BEGIN:VEVENT
DTSTART;TZID=America/New_York:20260714T190000
DTEND;TZID=America/New_York:20260714T200000
DTSTAMP:20260422T181442
CREATED:20251227T160301Z
LAST-MODIFIED:20251227T160301Z
UID:2225-1784055600-1784059200@longmeadowhoa.com
SUMMARY:HOA Board Meeting
DESCRIPTION:HOA Board Meeting \nVillages of Longmeadow HOA Board Mtng. @ Clubhouse (& Zoom) \nLongmeadow HOA is inviting you to a scheduled Zoom meeting. \nTopic: Longmeadow HOA’s Zoom Board Meeting\nTime: 7:00 PM \nJoin Zoom Meeting\nhttps://us02web.zoom.us/j/83247426566?pwd=bExsT2NNWVBGT09qZGx5QUhPTHg5dz09 \nMeeting ID: 832 4742 6566\nPasscode: 095363\nOne tap mobile\n+16469313860\,\,83247426566#\,\,\,\,*095363# US\n+19292056099\,\,83247426566#\,\,\,\,*095363# US (New York) \nDial by your location\n+1 646 931 3860 US\n+1 929 205 6099 US (New York)\n+1 301 715 8592 US (Washington DC)\n+1 305 224 1968 US\n+1 309 205 3325 US\n+1 312 626 6799 US (Chicago)\n+1 386 347 5053 US\n+1 507 473 4847 US\n+1 564 217 2000 US\n+1 669 444 9171 US\n+1 669 900 6833 US (San Jose)\n+1 689 278 1000 US\n+1 719 359 4580 US\n+1 253 205 0468 US\n+1 253 215 8782 US (Tacoma)\n+1 346 248 7799 US (Houston)\n+1 360 209 5623 US\nMeeting ID: 832 4742 6566\nPasscode: 095363\nFind your local number: https://us02web.zoom.us/u/kdBpd4wzA2
URL:https://longmeadowhoa.com/event/hoa-board-meeting-52/
END:VEVENT
BEGIN:VEVENT
DTSTART;TZID=America/New_York:20260804T180000
DTEND;TZID=America/New_York:20260804T200000
DTSTAMP:20260422T181442
CREATED:20260126T200920Z
LAST-MODIFIED:20260126T200920Z
UID:2242-1785866400-1785873600@longmeadowhoa.com
SUMMARY:National Night Out at the Clubhouse
DESCRIPTION:National Night Out at the Clubhouse \nCome meet your neighbors at this family event\, as well as Chesterfield County Police\, Fire and Emergency Officials\, our Schools’ Staff\, and learn how we can work as partners to help keep our neighborhood safe.  We plan on having McGruff the Crime Dog or Sparky the Fire Dog.  There are activities planned for the kids in addition to swimming in the pool.   The event is free and all Longmeadow residents are welcome.  Hot dogs or pizza\, chips and beverages will be served.  Neighbors are asked to bring a dessert or other sweet treat to share.
URL:https://longmeadowhoa.com/event/national-night-out-at-the-clubhouse-3/
END:VEVENT
BEGIN:VEVENT
DTSTART;TZID=America/New_York:20260811T190000
DTEND;TZID=America/New_York:20260811T200000
DTSTAMP:20260422T181442
CREATED:20251227T160426Z
LAST-MODIFIED:20251227T160426Z
UID:2227-1786474800-1786478400@longmeadowhoa.com
SUMMARY:HOA Board Meeting
DESCRIPTION:HOA Board Meeting \nVillages of Longmeadow HOA Board Mtng. @ Clubhouse (& Zoom) \nLongmeadow HOA is inviting you to a scheduled Zoom meeting. \nTopic: Longmeadow HOA’s Zoom Board Meeting\nTime: 7:00 PM \nJoin Zoom Meeting\nhttps://us02web.zoom.us/j/83247426566?pwd=bExsT2NNWVBGT09qZGx5QUhPTHg5dz09 \nMeeting ID: 832 4742 6566\nPasscode: 095363\nOne tap mobile\n+16469313860\,\,83247426566#\,\,\,\,*095363# US\n+19292056099\,\,83247426566#\,\,\,\,*095363# US (New York) \nDial by your location\n+1 646 931 3860 US\n+1 929 205 6099 US (New York)\n+1 301 715 8592 US (Washington DC)\n+1 305 224 1968 US\n+1 309 205 3325 US\n+1 312 626 6799 US (Chicago)\n+1 386 347 5053 US\n+1 507 473 4847 US\n+1 564 217 2000 US\n+1 669 444 9171 US\n+1 669 900 6833 US (San Jose)\n+1 689 278 1000 US\n+1 719 359 4580 US\n+1 253 205 0468 US\n+1 253 215 8782 US (Tacoma)\n+1 346 248 7799 US (Houston)\n+1 360 209 5623 US\nMeeting ID: 832 4742 6566\nPasscode: 095363\nFind your local number: https://us02web.zoom.us/u/kdBpd4wzA2
URL:https://longmeadowhoa.com/event/hoa-board-meeting-53/
END:VEVENT
BEGIN:VEVENT
DTSTART;TZID=America/New_York:20260908T190000
DTEND;TZID=America/New_York:20260908T200000
DTSTAMP:20260422T181442
CREATED:20251227T160607Z
LAST-MODIFIED:20251227T160607Z
UID:2229-1788894000-1788897600@longmeadowhoa.com
SUMMARY:HOA Board Meeting
DESCRIPTION:HOA Board Meeting \nVillages of Longmeadow HOA Board Mtng. @ Clubhouse (& Zoom) \nLongmeadow HOA is inviting you to a scheduled Zoom meeting. \nTopic: Longmeadow HOA’s Zoom Board Meeting\nTime: 7:00 PM \nJoin Zoom Meeting\nhttps://us02web.zoom.us/j/83247426566?pwd=bExsT2NNWVBGT09qZGx5QUhPTHg5dz09 \nMeeting ID: 832 4742 6566\nPasscode: 095363\nOne tap mobile\n+16469313860\,\,83247426566#\,\,\,\,*095363# US\n+19292056099\,\,83247426566#\,\,\,\,*095363# US (New York) \nDial by your location\n+1 646 931 3860 US\n+1 929 205 6099 US (New York)\n+1 301 715 8592 US (Washington DC)\n+1 305 224 1968 US\n+1 309 205 3325 US\n+1 312 626 6799 US (Chicago)\n+1 386 347 5053 US\n+1 507 473 4847 US\n+1 564 217 2000 US\n+1 669 444 9171 US\n+1 669 900 6833 US (San Jose)\n+1 689 278 1000 US\n+1 719 359 4580 US\n+1 253 205 0468 US\n+1 253 215 8782 US (Tacoma)\n+1 346 248 7799 US (Houston)\n+1 360 209 5623 US\nMeeting ID: 832 4742 6566\nPasscode: 095363\nFind your local number: https://us02web.zoom.us/u/kdBpd4wzA2
URL:https://longmeadowhoa.com/event/hoa-board-meeting-54/
END:VEVENT
BEGIN:VEVENT
DTSTART;TZID=America/New_York:20261003T080000
DTEND;TZID=America/New_York:20261003T120000
DTSTAMP:20260422T181442
CREATED:20260126T201242Z
LAST-MODIFIED:20260126T201242Z
UID:2246-1791014400-1791028800@longmeadowhoa.com
SUMMARY:Community Yard Sale
DESCRIPTION:Community Yard Sale   \nAll residents are invited to participate in our annual fall community yard sale by selling items in their yards or driveways.
URL:https://longmeadowhoa.com/event/community-yard-sale-12/
END:VEVENT
BEGIN:VEVENT
DTSTART;TZID=America/New_York:20261006T183000
DTEND;TZID=America/New_York:20261006T200000
DTSTAMP:20260422T181442
CREATED:20260126T201405Z
LAST-MODIFIED:20260126T201405Z
UID:2248-1791311400-1791316800@longmeadowhoa.com
SUMMARY:Annual HOA Meeting at the Clubhouse
DESCRIPTION:Annual HOA Meeting at the Clubhouse \nAll homeowners are invited to the Annual Longmeadow Homeowners Association Meeting.  Homeowners can also vote for Board Members by/on this date.  Registration and voting starts at 6:30pm and the meeting starts promptly at 7pm.
URL:https://longmeadowhoa.com/event/annual-hoa-meeting-at-the-clubhouse/
END:VEVENT
BEGIN:VEVENT
DTSTART;TZID=America/New_York:20261024T150000
DTEND;TZID=America/New_York:20261024T170000
DTSTAMP:20260422T181442
CREATED:20260126T201601Z
LAST-MODIFIED:20260126T201601Z
UID:2250-1792854000-1792861200@longmeadowhoa.com
SUMMARY:Fall Festival and Trunk or Treat at the Clubhouse and Annual Chili Cook-Off
DESCRIPTION:Fall Festival and Trunk or Treat at the Clubhouse and Annual Chili Cook-Off
URL:https://longmeadowhoa.com/event/fall-festival-and-trunk-or-treat-at-the-clubhouse-and-annual-chili-cook-off/
END:VEVENT
BEGIN:VEVENT
DTSTART;TZID=America/New_York:20261219T093000
DTEND;TZID=America/New_York:20261219T110000
DTSTAMP:20260422T181442
CREATED:20260126T201745Z
LAST-MODIFIED:20260126T201745Z
UID:2252-1797672600-1797678000@longmeadowhoa.com
SUMMARY:Breakfast with Santa and Christmas and Holiday Celebration
DESCRIPTION:Breakfast with Santa and Christmas and Holiday Celebration \nThis annual event is filled with fun for the whole family.  Children can visit with Santa inside the Clubhouse (bring your camera for photos).  Have Breakfast with Santa.  We’ll have a Children’s sign up for the Breakfast.  There will also be short Christmas movies played at the clubhouse and other activities for families to enjoy.  There will be snacks and beverages\, as well as several activity stations (ornament making\, cookie decorations\, etc.) all family members can enjoy.  And for our Adults we’ll have your area of the Clubhouse for mingling and snacking with each other!
URL:https://longmeadowhoa.com/event/breakfast-with-santa-and-christmas-and-holiday-celebration/
END:VEVENT
BEGIN:VEVENT
DTSTART;TZID=America/New_York:20261219T100000
DTEND;TZID=America/New_York:20261219T110000
DTSTAMP:20260422T181442
CREATED:20260126T201952Z
LAST-MODIFIED:20260126T201952Z
UID:2254-1797674400-1797678000@longmeadowhoa.com
SUMMARY:Luminary Pick Up at the Clubhouse
DESCRIPTION:Luminary Pick Up at the Clubhouse \nAll residents are asked to pick up luminaries that were placed along the streets around their homes.  Please be a good neighbor and help by picking up and discarding the luminaries. \n 
URL:https://longmeadowhoa.com/event/luminary-pick-up-at-the-clubhouse-2/
END:VEVENT
BEGIN:VEVENT
DTSTART;TZID=America/New_York:20261224T150000
DTEND;TZID=America/New_York:20261224T170000
DTSTAMP:20260422T181442
CREATED:20260126T202144Z
LAST-MODIFIED:20260126T202144Z
UID:2256-1798124400-1798131600@longmeadowhoa.com
SUMMARY:Christmas Eve Luminary Lighting
DESCRIPTION:Christmas Eve Luminary Lighting \nNeighbors who picked up luminaries should place and light luminaries between 3pm – 5pm
URL:https://longmeadowhoa.com/event/christmas-eve-luminary-lighting-5/
END:VEVENT
BEGIN:VEVENT
DTSTART;VALUE=DATE:20261225
DTEND;VALUE=DATE:20261226
DTSTAMP:20260422T181442
CREATED:20260126T202251Z
LAST-MODIFIED:20260126T202251Z
UID:2258-1798156800-1798243199@longmeadowhoa.com
SUMMARY:Luminary Cleanup
DESCRIPTION:Luminary Cleanup \nAll residents are asked to pick up luminaries that were placed along the streets around their homes.  Please be a good neighbor and help by picking up and discarding the luminaries.
URL:https://longmeadowhoa.com/event/luminary-cleanup-2/
END:VEVENT
END:VCALENDAR