BEGIN:VCALENDAR
VERSION:2.0
PRODID:-//The Villages of Longmeadow HOA - ECPv6.15.20//NONSGML v1.0//EN
CALSCALE:GREGORIAN
METHOD:PUBLISH
X-WR-CALNAME:The Villages of Longmeadow HOA
X-ORIGINAL-URL:https://longmeadowhoa.com
X-WR-CALDESC:Events for The Villages of Longmeadow HOA
REFRESH-INTERVAL;VALUE=DURATION:PT1H
X-Robots-Tag:noindex
X-PUBLISHED-TTL:PT1H
BEGIN:VTIMEZONE
TZID:America/New_York
BEGIN:DAYLIGHT
TZOFFSETFROM:-0500
TZOFFSETTO:-0400
TZNAME:EDT
DTSTART:20240310T070000
END:DAYLIGHT
BEGIN:STANDARD
TZOFFSETFROM:-0400
TZOFFSETTO:-0500
TZNAME:EST
DTSTART:20241103T060000
END:STANDARD
BEGIN:DAYLIGHT
TZOFFSETFROM:-0500
TZOFFSETTO:-0400
TZNAME:EDT
DTSTART:20250309T070000
END:DAYLIGHT
BEGIN:STANDARD
TZOFFSETFROM:-0400
TZOFFSETTO:-0500
TZNAME:EST
DTSTART:20251102T060000
END:STANDARD
BEGIN:DAYLIGHT
TZOFFSETFROM:-0500
TZOFFSETTO:-0400
TZNAME:EDT
DTSTART:20260308T070000
END:DAYLIGHT
BEGIN:STANDARD
TZOFFSETFROM:-0400
TZOFFSETTO:-0500
TZNAME:EST
DTSTART:20261101T060000
END:STANDARD
BEGIN:DAYLIGHT
TZOFFSETFROM:-0500
TZOFFSETTO:-0400
TZNAME:EDT
DTSTART:20270314T070000
END:DAYLIGHT
BEGIN:STANDARD
TZOFFSETFROM:-0400
TZOFFSETTO:-0500
TZNAME:EST
DTSTART:20271107T060000
END:STANDARD
END:VTIMEZONE
BEGIN:VEVENT
DTSTART;TZID=America/New_York:20250812T190000
DTEND;TZID=America/New_York:20250812T200000
DTSTAMP:20260423T052518
CREATED:20241229T225640Z
LAST-MODIFIED:20250807T161101Z
UID:2036-1755025200-1755028800@longmeadowhoa.com
SUMMARY:HOA Board Meeting
DESCRIPTION:Villages of Longmeadow HOA Board Mtng. @ Clubhouse (& Zoom) \nLongmeadow HOA is inviting you to a scheduled Zoom meeting. \nTopic: Longmeadow HOA’s Zoom Board Meeting\nTime: 7:00 PM \nJoin Zoom Meeting\nhttps://us02web.zoom.us/j/83247426566?pwd=bExsT2NNWVBGT09qZGx5QUhPTHg5dz09 \nMeeting ID: 832 4742 6566\nPasscode: 095363\nOne tap mobile\n+16469313860\,\,83247426566#\,\,\,\,*095363# US\n+19292056099\,\,83247426566#\,\,\,\,*095363# US (New York) \nDial by your location\n+1 646 931 3860 US\n+1 929 205 6099 US (New York)\n+1 301 715 8592 US (Washington DC)\n+1 305 224 1968 US\n+1 309 205 3325 US\n+1 312 626 6799 US (Chicago)\n+1 386 347 5053 US\n+1 507 473 4847 US\n+1 564 217 2000 US\n+1 669 444 9171 US\n+1 669 900 6833 US (San Jose)\n+1 689 278 1000 US\n+1 719 359 4580 US\n+1 253 205 0468 US\n+1 253 215 8782 US (Tacoma)\n+1 346 248 7799 US (Houston)\n+1 360 209 5623 US\nMeeting ID: 832 4742 6566\nPasscode: 095363\nFind your local number: https://us02web.zoom.us/u/kdBpd4wzA2
URL:https://longmeadowhoa.com/event/hoa-board-meeting-40/
END:VEVENT
BEGIN:VEVENT
DTSTART;TZID=America/New_York:20250818T170000
DTEND;TZID=America/New_York:20250818T200000
DTSTAMP:20260423T052518
CREATED:20250710T171004Z
LAST-MODIFIED:20250710T171004Z
UID:2158-1755536400-1755547200@longmeadowhoa.com
SUMMARY:Pavilion Reserved-Anne Mines
DESCRIPTION:Pavilion Reserved-Anne Mines
URL:https://longmeadowhoa.com/event/pavilion-reserved-anne-mines/
END:VEVENT
BEGIN:VEVENT
DTSTART;TZID=America/New_York:20250909T190000
DTEND;TZID=America/New_York:20250909T203000
DTSTAMP:20260423T052518
CREATED:20241229T225754Z
LAST-MODIFIED:20250104T155211Z
UID:2038-1757444400-1757449800@longmeadowhoa.com
SUMMARY:HOA Board Meeting
DESCRIPTION:Villages of Longmeadow HOA Board Mtng. @ Clubhouse (& Zoom) \nLongmeadow HOA is inviting you to a scheduled Zoom meeting. \nTopic: Longmeadow HOA’s Zoom Board Meeting\nTime: 7:00 PM \nJoin Zoom Meeting\nhttps://us02web.zoom.us/j/83247426566?pwd=bExsT2NNWVBGT09qZGx5QUhPTHg5dz09 \nMeeting ID: 832 4742 6566\nPasscode: 095363\nOne tap mobile\n+16469313860\,\,83247426566#\,\,\,\,*095363# US\n+19292056099\,\,83247426566#\,\,\,\,*095363# US (New York) \nDial by your location\n+1 646 931 3860 US\n+1 929 205 6099 US (New York)\n+1 301 715 8592 US (Washington DC)\n+1 305 224 1968 US\n+1 309 205 3325 US\n+1 312 626 6799 US (Chicago)\n+1 386 347 5053 US\n+1 507 473 4847 US\n+1 564 217 2000 US\n+1 669 444 9171 US\n+1 669 900 6833 US (San Jose)\n+1 689 278 1000 US\n+1 719 359 4580 US\n+1 253 205 0468 US\n+1 253 215 8782 US (Tacoma)\n+1 346 248 7799 US (Houston)\n+1 360 209 5623 US\nMeeting ID: 832 4742 6566\nPasscode: 095363\nFind your local number: https://us02web.zoom.us/u/kdBpd4wzA2
URL:https://longmeadowhoa.com/event/2038/
END:VEVENT
BEGIN:VEVENT
DTSTART;VALUE=DATE:20251004
DTEND;VALUE=DATE:20251005
DTSTAMP:20260423T052518
CREATED:20250926T140112Z
LAST-MODIFIED:20250926T140226Z
UID:2168-1759536000-1759622399@longmeadowhoa.com
SUMMARY:Clubhouse Rental
DESCRIPTION:Clubhouse Rental
URL:https://longmeadowhoa.com/event/clubhouse-reservation/
END:VEVENT
BEGIN:VEVENT
DTSTART;TZID=America/New_York:20251004T080000
DTEND;TZID=America/New_York:20251004T120000
DTSTAMP:20260423T052518
CREATED:20250104T160839Z
LAST-MODIFIED:20250104T160839Z
UID:2066-1759564800-1759579200@longmeadowhoa.com
SUMMARY:Community Yard Sale
DESCRIPTION:All residents are invited to participate in our annual fall community yard sale by selling items in their yards or driveways.
URL:https://longmeadowhoa.com/event/community-yard-sale-10/
END:VEVENT
BEGIN:VEVENT
DTSTART;VALUE=DATE:20251011
DTEND;VALUE=DATE:20251012
DTSTAMP:20260423T052518
CREATED:20250926T140143Z
LAST-MODIFIED:20250926T140300Z
UID:2170-1760140800-1760227199@longmeadowhoa.com
SUMMARY:Clubhouse Rental
DESCRIPTION:Clubhouse Rental
URL:https://longmeadowhoa.com/event/clubhouse-reservation-2/
END:VEVENT
BEGIN:VEVENT
DTSTART;TZID=America/New_York:20251014T190000
DTEND;TZID=America/New_York:20251014T203000
DTSTAMP:20260423T052518
CREATED:20241229T230019Z
LAST-MODIFIED:20251001T193508Z
UID:2040-1760468400-1760473800@longmeadowhoa.com
SUMMARY:HOA Board Meeting
DESCRIPTION:Villages of Longmeadow HOA Board Mtng. @ Clubhouse (& Zoom) \nLongmeadow HOA is inviting you to a scheduled Zoom meeting. \nTopic: Longmeadow HOA’s Zoom Board Meeting\nTime: 7:00 PM \nJoin Zoom Meeting\nhttps://us02web.zoom.us/j/83247426566?pwd=bExsT2NNWVBGT09qZGx5QUhPTHg5dz09 \nMeeting ID: 832 4742 6566\nPasscode: 095363\nOne tap mobile\n+16469313860\,\,83247426566#\,\,\,\,*095363# US\n+19292056099\,\,83247426566#\,\,\,\,*095363# US (New York) \nDial by your location\n+1 646 931 3860 US\n+1 929 205 6099 US (New York)\n+1 301 715 8592 US (Washington DC)\n+1 305 224 1968 US\n+1 309 205 3325 US\n+1 312 626 6799 US (Chicago)\n+1 386 347 5053 US\n+1 507 473 4847 US\n+1 564 217 2000 US\n+1 669 444 9171 US\n+1 669 900 6833 US (San Jose)\n+1 689 278 1000 US\n+1 719 359 4580 US\n+1 253 205 0468 US\n+1 253 215 8782 US (Tacoma)\n+1 346 248 7799 US (Houston)\n+1 360 209 5623 US\nMeeting ID: 832 4742 6566\nPasscode: 095363\nFind your local number: https://us02web.zoom.us/u/kdBpd4wzA2
URL:https://longmeadowhoa.com/event/annual-hoa-meeting-2/
END:VEVENT
BEGIN:VEVENT
DTSTART;VALUE=DATE:20251018
DTEND;VALUE=DATE:20251019
DTSTAMP:20260423T052518
CREATED:20251001T193629Z
LAST-MODIFIED:20251001T193629Z
UID:2175-1760745600-1760831999@longmeadowhoa.com
SUMMARY:Clubhouse Rental
DESCRIPTION:Clubhouse Rental
URL:https://longmeadowhoa.com/event/clubhouse-rental-124/
END:VEVENT
BEGIN:VEVENT
DTSTART;TZID=America/New_York:20251025T150000
DTEND;TZID=America/New_York:20251025T170000
DTSTAMP:20260423T052518
CREATED:20250104T160956Z
LAST-MODIFIED:20251021T185119Z
UID:2068-1761404400-1761411600@longmeadowhoa.com
SUMMARY:Fall Festival and Chili Cookoff at the Clubhouse
DESCRIPTION:Fall Festival and Chili Cookoff at the Clubhouse \nCome celebrate the fall and bring a pot of chili to enter in the Chili Cookoff.  There will be a costume contest and a variety of games and activities at the clubhouse with refreshments.
URL:https://longmeadowhoa.com/event/fall-festival-and-trunk-or-treat-at-the-clubhouse-3/
END:VEVENT
BEGIN:VEVENT
DTSTART;TZID=America/New_York:20251101T080000
DTEND;TZID=America/New_York:20251101T170000
DTSTAMP:20260423T052518
CREATED:20251001T193746Z
LAST-MODIFIED:20251001T193746Z
UID:2177-1761984000-1762016400@longmeadowhoa.com
SUMMARY:Clubhouse Rental
DESCRIPTION:Clubhouse Rental
URL:https://longmeadowhoa.com/event/clubhouse-rental-125/
END:VEVENT
BEGIN:VEVENT
DTSTART;TZID=America/New_York:20251104T183000
DTEND;TZID=America/New_York:20251104T200000
DTSTAMP:20260423T052518
CREATED:20251014T154029Z
LAST-MODIFIED:20251014T154217Z
UID:2183-1762281000-1762286400@longmeadowhoa.com
SUMMARY:Annual HOA Board Meeting
DESCRIPTION:Annual HOA Board Meeting
URL:https://longmeadowhoa.com/event/annual-hoa-board-meeting-7/
END:VEVENT
BEGIN:VEVENT
DTSTART;TZID=America/New_York:20251111T190000
DTEND;TZID=America/New_York:20251111T203000
DTSTAMP:20260423T052518
CREATED:20241229T230114Z
LAST-MODIFIED:20241229T230114Z
UID:2042-1762887600-1762893000@longmeadowhoa.com
SUMMARY:HOA Board Meeting
DESCRIPTION:Villages of Longmeadow HOA Board Mtng. @ Clubhouse (& Zoom) \nLongmeadow HOA is inviting you to a scheduled Zoom meeting. \nTopic: Longmeadow HOA’s Zoom Board Meeting\nTime: 7:00 PM \nJoin Zoom Meeting\nhttps://us02web.zoom.us/j/83247426566?pwd=bExsT2NNWVBGT09qZGx5QUhPTHg5dz09 \nMeeting ID: 832 4742 6566\nPasscode: 095363\nOne tap mobile\n+16469313860\,\,83247426566#\,\,\,\,*095363# US\n+19292056099\,\,83247426566#\,\,\,\,*095363# US (New York) \nDial by your location\n+1 646 931 3860 US\n+1 929 205 6099 US (New York)\n+1 301 715 8592 US (Washington DC)\n+1 305 224 1968 US\n+1 309 205 3325 US\n+1 312 626 6799 US (Chicago)\n+1 386 347 5053 US\n+1 507 473 4847 US\n+1 564 217 2000 US\n+1 669 444 9171 US\n+1 669 900 6833 US (San Jose)\n+1 689 278 1000 US\n+1 719 359 4580 US\n+1 253 205 0468 US\n+1 253 215 8782 US (Tacoma)\n+1 346 248 7799 US (Houston)\n+1 360 209 5623 US\nMeeting ID: 832 4742 6566\nPasscode: 095363\nFind your local number: https://us02web.zoom.us/u/kdBpd4wzA2
URL:https://longmeadowhoa.com/event/hoa-board-meeting-41/
END:VEVENT
BEGIN:VEVENT
DTSTART;VALUE=DATE:20251116
DTEND;VALUE=DATE:20251117
DTSTAMP:20260423T052518
CREATED:20251001T193822Z
LAST-MODIFIED:20251001T193822Z
UID:2180-1763251200-1763337599@longmeadowhoa.com
SUMMARY:Clubhouse Rental
DESCRIPTION:Clubhouse Rental
URL:https://longmeadowhoa.com/event/clubhouse-rental-126/
END:VEVENT
BEGIN:VEVENT
DTSTART;TZID=America/New_York:20251209T190000
DTEND;TZID=America/New_York:20251209T203000
DTSTAMP:20260423T052518
CREATED:20241229T230420Z
LAST-MODIFIED:20251209T153403Z
UID:2044-1765306800-1765312200@longmeadowhoa.com
SUMMARY:HOA Annual Board Meeting
DESCRIPTION:Villages of Longmeadow Annual HOA Board Mtng. @ Clubhouse (& Zoom) \nThe annual meeting held on Nov 4\, 2025 failed to meet the quorum necessary to hold the meeting.  Therefore\, a continuation meeting will be held today at 7pm at the Longmeadow Clubhouse with registration beginning at 6:30 pm. \nLongmeadow HOA is inviting you to a scheduled Zoom meeting. \nTopic: Longmeadow HOA’s Zoom Board Meeting\nTime: 7:00 PM \nJoin Zoom Meeting\nhttps://us02web.zoom.us/j/83247426566?pwd=bExsT2NNWVBGT09qZGx5QUhPTHg5dz09 \nMeeting ID: 832 4742 6566\nPasscode: 095363\nOne tap mobile\n+16469313860\,\,83247426566#\,\,\,\,*095363# US\n+19292056099\,\,83247426566#\,\,\,\,*095363# US (New York) \nDial by your location\n+1 646 931 3860 US\n+1 929 205 6099 US (New York)\n+1 301 715 8592 US (Washington DC)\n+1 305 224 1968 US\n+1 309 205 3325 US\n+1 312 626 6799 US (Chicago)\n+1 386 347 5053 US\n+1 507 473 4847 US\n+1 564 217 2000 US\n+1 669 444 9171 US\n+1 669 900 6833 US (San Jose)\n+1 689 278 1000 US\n+1 719 359 4580 US\n+1 253 205 0468 US\n+1 253 215 8782 US (Tacoma)\n+1 346 248 7799 US (Houston)\n+1 360 209 5623 US\nMeeting ID: 832 4742 6566\nPasscode: 095363\nFind your local number: https://us02web.zoom.us/u/kdBpd4wzA2
URL:https://longmeadowhoa.com/event/hoa-board-meeting-42/
END:VEVENT
BEGIN:VEVENT
DTSTART;TZID=America/New_York:20251210T190000
DTEND;TZID=America/New_York:20251210T203000
DTSTAMP:20260423T052518
CREATED:20251209T154149Z
LAST-MODIFIED:20251209T154216Z
UID:2197-1765393200-1765398600@longmeadowhoa.com
SUMMARY:HOA Board Meeting
DESCRIPTION:HOA Board Meeting \nVillages of Longmeadow HOA Board Mtng. @ Clubhouse (& Zoom) \nLongmeadow HOA is inviting you to a scheduled Zoom meeting. \nTopic: Longmeadow HOA’s Zoom Board Meeting\nTime: 7:00 PM \nJoin Zoom Meeting\nhttps://us02web.zoom.us/j/83247426566?pwd=bExsT2NNWVBGT09qZGx5QUhPTHg5dz09 \nMeeting ID: 832 4742 6566\nPasscode: 095363\nOne tap mobile\n+16469313860\,\,83247426566#\,\,\,\,*095363# US\n+19292056099\,\,83247426566#\,\,\,\,*095363# US (New York) \nDial by your location\n+1 646 931 3860 US\n+1 929 205 6099 US (New York)\n+1 301 715 8592 US (Washington DC)\n+1 305 224 1968 US\n+1 309 205 3325 US\n+1 312 626 6799 US (Chicago)\n+1 386 347 5053 US\n+1 507 473 4847 US\n+1 564 217 2000 US\n+1 669 444 9171 US\n+1 669 900 6833 US (San Jose)\n+1 689 278 1000 US\n+1 719 359 4580 US\n+1 253 205 0468 US\n+1 253 215 8782 US (Tacoma)\n+1 346 248 7799 US (Houston)\n+1 360 209 5623 US\nMeeting ID: 832 4742 6566\nPasscode: 095363\nFind your local number: https://us02web.zoom.us/u/kdBpd4wzA2
URL:https://longmeadowhoa.com/event/hoa-board-meeting-45/
END:VEVENT
BEGIN:VEVENT
DTSTART;TZID=America/New_York:20251213T083000
DTEND;TZID=America/New_York:20251213T110000
DTSTAMP:20260423T052518
CREATED:20250104T161137Z
LAST-MODIFIED:20251209T150335Z
UID:2070-1765614600-1765623600@longmeadowhoa.com
SUMMARY:Breakfast with Santa
DESCRIPTION:BREAKFAST WITH SANTA AT THE CLUBHOUSE \nHappy Holidays\, Neighbors! \nPlease join your fellow Longmeadow residents on December 13th at the clubhouse for a festive community gathering. \n✨ Breakfast with Santa – 8:30 AM\nA special prepared breakfast will be provided for the neighborhood children.\nPlease be sure to use the sign-up sheet to reserve seats for the kids. \n🥂 Adult Social Hour\nAdults are invited to enjoy a designated area of the clubhouse for mingling\, light snacks\, and holiday cheer. \nWe look forward to celebrating the season with you! 🎄 \nPlease sign up here:  Breakfast with Santa Sign Up Genius \n 
URL:https://longmeadowhoa.com/event/christmas-and-holiday-celebration-3/
END:VEVENT
BEGIN:VEVENT
DTSTART;VALUE=DATE:20251214
DTEND;VALUE=DATE:20251215
DTSTAMP:20260423T052518
CREATED:20251209T155639Z
LAST-MODIFIED:20251209T155639Z
UID:2200-1765670400-1765756799@longmeadowhoa.com
SUMMARY:Clubhouse Rental
DESCRIPTION:Clubhouse Rental
URL:https://longmeadowhoa.com/event/clubhouse-rental-127/
END:VEVENT
BEGIN:VEVENT
DTSTART;VALUE=DATE:20251220
DTEND;VALUE=DATE:20251221
DTSTAMP:20260423T052518
CREATED:20251209T155718Z
LAST-MODIFIED:20251209T155718Z
UID:2202-1766188800-1766275199@longmeadowhoa.com
SUMMARY:Clubhouse Rental
DESCRIPTION:Clubhouse Rental
URL:https://longmeadowhoa.com/event/clubhouse-rental-128/
END:VEVENT
BEGIN:VEVENT
DTSTART;VALUE=DATE:20251221
DTEND;VALUE=DATE:20251222
DTSTAMP:20260423T052518
CREATED:20251209T155754Z
LAST-MODIFIED:20251209T160117Z
UID:2204-1766275200-1766361599@longmeadowhoa.com
SUMMARY:Clubhouse Rental
DESCRIPTION:Clubhouse Rental
URL:https://longmeadowhoa.com/event/clubhouse-rental-129/
END:VEVENT
BEGIN:VEVENT
DTSTART;TZID=America/New_York:20251224T150000
DTEND;TZID=America/New_York:20251224T170000
DTSTAMP:20260423T052518
CREATED:20250104T161445Z
LAST-MODIFIED:20250104T161445Z
UID:2072-1766588400-1766595600@longmeadowhoa.com
SUMMARY:Christmas Eve Luminary Lighting
DESCRIPTION:Neighbors who picked up luminaries should place and light luminaries between 3pm – 5pm.
URL:https://longmeadowhoa.com/event/christmas-eve-luminary-lighting-4/
END:VEVENT
BEGIN:VEVENT
DTSTART;TZID=America/New_York:20251225T080000
DTEND;TZID=America/New_York:20251225T170000
DTSTAMP:20260423T052518
CREATED:20250104T161638Z
LAST-MODIFIED:20250104T161638Z
UID:2074-1766649600-1766682000@longmeadowhoa.com
SUMMARY:Christmas Day Luminary Cleanup
DESCRIPTION:Merry Christmas! \nAll residents are asked to pick up luminaries that were placed along the streets around their homes.  Please be a good neighbor and help by picking up and discarding the luminaries.
URL:https://longmeadowhoa.com/event/christmas-day-luminary-cleanup/
END:VEVENT
BEGIN:VEVENT
DTSTART;VALUE=DATE:20260110
DTEND;VALUE=DATE:20260111
DTSTAMP:20260423T052518
CREATED:20251224T184751Z
LAST-MODIFIED:20251224T184833Z
UID:2207-1768003200-1768089599@longmeadowhoa.com
SUMMARY:Clubhouse Rental
DESCRIPTION:Clubhouse Rental
URL:https://longmeadowhoa.com/event/clubhouse-rental-130/
END:VEVENT
BEGIN:VEVENT
DTSTART;TZID=America/New_York:20260113T190000
DTEND;TZID=America/New_York:20260113T200000
DTSTAMP:20260423T052518
CREATED:20251227T155335Z
LAST-MODIFIED:20251227T155335Z
UID:2213-1768330800-1768334400@longmeadowhoa.com
SUMMARY:HOA Board Meeting
DESCRIPTION:HOA Board Meeting \nVillages of Longmeadow HOA Board Mtng. @ Clubhouse (& Zoom) \nLongmeadow HOA is inviting you to a scheduled Zoom meeting. \nTopic: Longmeadow HOA’s Zoom Board Meeting\nTime: 7:00 PM \nJoin Zoom Meeting\nhttps://us02web.zoom.us/j/83247426566?pwd=bExsT2NNWVBGT09qZGx5QUhPTHg5dz09 \nMeeting ID: 832 4742 6566\nPasscode: 095363\nOne tap mobile\n+16469313860\,\,83247426566#\,\,\,\,*095363# US\n+19292056099\,\,83247426566#\,\,\,\,*095363# US (New York) \nDial by your location\n+1 646 931 3860 US\n+1 929 205 6099 US (New York)\n+1 301 715 8592 US (Washington DC)\n+1 305 224 1968 US\n+1 309 205 3325 US\n+1 312 626 6799 US (Chicago)\n+1 386 347 5053 US\n+1 507 473 4847 US\n+1 564 217 2000 US\n+1 669 444 9171 US\n+1 669 900 6833 US (San Jose)\n+1 689 278 1000 US\n+1 719 359 4580 US\n+1 253 205 0468 US\n+1 253 215 8782 US (Tacoma)\n+1 346 248 7799 US (Houston)\n+1 360 209 5623 US\nMeeting ID: 832 4742 6566\nPasscode: 095363\nFind your local number: https://us02web.zoom.us/u/kdBpd4wzA2
URL:https://longmeadowhoa.com/event/hoa-board-meeting-46/
END:VEVENT
BEGIN:VEVENT
DTSTART;VALUE=DATE:20260117
DTEND;VALUE=DATE:20260118
DTSTAMP:20260423T052518
CREATED:20251224T184935Z
LAST-MODIFIED:20251224T184935Z
UID:2209-1768608000-1768694399@longmeadowhoa.com
SUMMARY:Clubhouse Rental
DESCRIPTION:Clubhouse Rental
URL:https://longmeadowhoa.com/event/clubhouse-rental-131/
END:VEVENT
BEGIN:VEVENT
DTSTART;VALUE=DATE:20260131
DTEND;VALUE=DATE:20260201
DTSTAMP:20260423T052518
CREATED:20251224T185021Z
LAST-MODIFIED:20251224T185021Z
UID:2211-1769817600-1769903999@longmeadowhoa.com
SUMMARY:Clubhouse Rental
DESCRIPTION:Clubhouse Rental
URL:https://longmeadowhoa.com/event/clubhouse-rental-132/
END:VEVENT
BEGIN:VEVENT
DTSTART;TZID=America/New_York:20260210T190000
DTEND;TZID=America/New_York:20260210T200000
DTSTAMP:20260423T052518
CREATED:20251227T155500Z
LAST-MODIFIED:20260128T164848Z
UID:2215-1770750000-1770753600@longmeadowhoa.com
SUMMARY:HOA Board Meeting
DESCRIPTION:HOA Board Meeting \nVillages of Longmeadow HOA Board Meeting at the Clubhouse \nOptional Zoom Meeting Details are Below: \nTopic: Longmeadow HOA’s Zoom Board Meeting\nTime: 7:00 PM \nJoin Zoom Meeting\nhttps://us02web.zoom.us/j/83247426566?pwd=bExsT2NNWVBGT09qZGx5QUhPTHg5dz09 \nMeeting ID: 832 4742 6566\nPasscode: 095363\nOne tap mobile\n+16469313860\,\,83247426566#\,\,\,\,*095363# US\n+19292056099\,\,83247426566#\,\,\,\,*095363# US (New York) \nDial by your location\n+1 646 931 3860 US\n+1 929 205 6099 US (New York)\n+1 301 715 8592 US (Washington DC)\n+1 305 224 1968 US\n+1 309 205 3325 US\n+1 312 626 6799 US (Chicago)\n+1 386 347 5053 US\n+1 507 473 4847 US\n+1 564 217 2000 US\n+1 669 444 9171 US\n+1 669 900 6833 US (San Jose)\n+1 689 278 1000 US\n+1 719 359 4580 US\n+1 253 205 0468 US\n+1 253 215 8782 US (Tacoma)\n+1 346 248 7799 US (Houston)\n+1 360 209 5623 US\nMeeting ID: 832 4742 6566\nPasscode: 095363\nFind your local number: https://us02web.zoom.us/u/kdBpd4wzA2
URL:https://longmeadowhoa.com/event/hoa-board-meeting-47/
END:VEVENT
BEGIN:VEVENT
DTSTART;TZID=America/New_York:20260309T090000
DTEND;TZID=America/New_York:20260309T110000
DTSTAMP:20260423T052518
CREATED:20260309T175022Z
LAST-MODIFIED:20260309T175040Z
UID:2263-1773046800-1773054000@longmeadowhoa.com
SUMMARY:Pool Volunteer Day
DESCRIPTION:Pool Volunteer Day
URL:https://longmeadowhoa.com/event/pool-volunteer-day-5/
END:VEVENT
BEGIN:VEVENT
DTSTART;TZID=America/New_York:20260310T190000
DTEND;TZID=America/New_York:20260310T200000
DTSTAMP:20260423T052518
CREATED:20251227T155620Z
LAST-MODIFIED:20260309T174909Z
UID:2217-1773169200-1773172800@longmeadowhoa.com
SUMMARY:HOA Board Meeting
DESCRIPTION:HOA Board Meeting \nVillages of Longmeadow HOA Board Meeting at the Clubhouse (& Zoom) \nJoin Zoom Meeting:\nhttps://us02web.zoom.us/j/83247426566?pwd=bExsT2NNWVBGT09qZGx5QUhPTHg5dz09 \nMeeting ID: 832 4742 6566\nPasscode: 095363\nOne tap mobile\n+16469313860\,\,83247426566#\,\,\,\,*095363# US\n+19292056099\,\,83247426566#\,\,\,\,*095363# US (New York) \n 
URL:https://longmeadowhoa.com/event/hoa-board-meeting-48/
END:VEVENT
BEGIN:VEVENT
DTSTART;TZID=America/New_York:20260326T090000
DTEND;TZID=America/New_York:20260326T110000
DTSTAMP:20260423T052518
CREATED:20260326T170104Z
LAST-MODIFIED:20260326T170104Z
UID:2282-1774515600-1774522800@longmeadowhoa.com
SUMMARY:POOL VOLUNTEER DAY
DESCRIPTION:POOL VOLUNTEER DAY
URL:https://longmeadowhoa.com/event/pool-volunteer-day-6/
END:VEVENT
BEGIN:VEVENT
DTSTART;VALUE=DATE:20260328
DTEND;VALUE=DATE:20260329
DTSTAMP:20260423T052518
CREATED:20260326T164823Z
LAST-MODIFIED:20260326T164823Z
UID:2269-1774656000-1774742399@longmeadowhoa.com
SUMMARY:CLUBHOUSE RENTAL
DESCRIPTION:CLUBHOUSE RENTAL
URL:https://longmeadowhoa.com/event/clubhouse-rental-133/
END:VEVENT
END:VCALENDAR