BEGIN:VCALENDAR
VERSION:2.0
PRODID:-//The Villages of Longmeadow HOA - ECPv6.15.20//NONSGML v1.0//EN
CALSCALE:GREGORIAN
METHOD:PUBLISH
X-WR-CALNAME:The Villages of Longmeadow HOA
X-ORIGINAL-URL:https://longmeadowhoa.com
X-WR-CALDESC:Events for The Villages of Longmeadow HOA
REFRESH-INTERVAL;VALUE=DURATION:PT1H
X-Robots-Tag:noindex
X-PUBLISHED-TTL:PT1H
BEGIN:VTIMEZONE
TZID:America/New_York
BEGIN:DAYLIGHT
TZOFFSETFROM:-0500
TZOFFSETTO:-0400
TZNAME:EDT
DTSTART:20230312T070000
END:DAYLIGHT
BEGIN:STANDARD
TZOFFSETFROM:-0400
TZOFFSETTO:-0500
TZNAME:EST
DTSTART:20231105T060000
END:STANDARD
BEGIN:DAYLIGHT
TZOFFSETFROM:-0500
TZOFFSETTO:-0400
TZNAME:EDT
DTSTART:20240310T070000
END:DAYLIGHT
BEGIN:STANDARD
TZOFFSETFROM:-0400
TZOFFSETTO:-0500
TZNAME:EST
DTSTART:20241103T060000
END:STANDARD
BEGIN:DAYLIGHT
TZOFFSETFROM:-0500
TZOFFSETTO:-0400
TZNAME:EDT
DTSTART:20250309T070000
END:DAYLIGHT
BEGIN:STANDARD
TZOFFSETFROM:-0400
TZOFFSETTO:-0500
TZNAME:EST
DTSTART:20251102T060000
END:STANDARD
BEGIN:DAYLIGHT
TZOFFSETFROM:-0500
TZOFFSETTO:-0400
TZNAME:EDT
DTSTART:20260308T070000
END:DAYLIGHT
BEGIN:STANDARD
TZOFFSETFROM:-0400
TZOFFSETTO:-0500
TZNAME:EST
DTSTART:20261101T060000
END:STANDARD
END:VTIMEZONE
BEGIN:VEVENT
DTSTART;TZID=America/New_York:20250510T080000
DTEND;TZID=America/New_York:20250510T110000
DTSTAMP:20260422T180127
CREATED:20250104T160040Z
LAST-MODIFIED:20250425T145704Z
UID:2057-1746864000-1746874800@longmeadowhoa.com
SUMMARY:Dumpster Morning at the Clubhouse
DESCRIPTION:Dumpster Morning at the Clubhouse \nJust in time to get to get rid of that stuff you couldn’t sell at the yard sale and you can’t even give away.  PLEASE tell your neighbors of this free opportunity to de-clutter their yard\, house\, garage\, deck\, etc. \nOnce a year\, the county partners with Choice Waste Services to donate dumpsters to communities for a few hours to help dispose of certain items free of charge. \nItems that are NOT accepted in the dumpsters: \n\nMattresses / box springs\nCar/Truck Tires\nCar/Truck batteries\nFood waste (no kitchen garbage)\nhousehold cleaners\,\noil\, fuel\, propane tanks\nRailroad ties\nMedical hazardous waste\nFreon (including freon appliances (fridges and freezers) and tanks)\nLiquid or flammable products (paint can be dried up with kitty litter)\n\nItems that ARE allowed: \nHousewares\, clothing\, most appliances (including old/broken TVs)\, bikes\, yard waste\, furniture\, storm debris\, and remodeling debris. Hope that helps. \nTo help answer any questions about the items that are not accepted\, here are the why’s\, explained: \n\nThese items are not allowed in the dumpsters because\, ultimately\, Choice doesn’t take them.\n\no   For each mattress or box spring there is a $250 fee from the landfill that is passed along on the invoice.  They damage landfill equipment. \n\nCurrently the Southern Area Convenience Center\, located at 6700 Landfill Dr is still taking mattresses and box springs.\nThey are limiting mattresses and box springs to a certain amount for each residential household\, per year.\n\no   The landfill will not accept tires at all since they need to be recycled at another facility. \n\nThe Convenience Centers do accept regular-sized tires\, though for a fee and then hauls them by bulk to a tire recycling facility.\n\no   Freon requires a recovery technician to safely handle the freon and/or pressurized tanks. \n\nThe Convenience Center accepts Freon and Freon appliances (such as refrigerators) for $15 each and contracts a Recovery Technician to handle them.\n\no   Liquids leak out of the dumpsters onto the roads and often make a big mess.
URL:https://longmeadowhoa.com/event/dumpster-day/
END:VEVENT
BEGIN:VEVENT
DTSTART;VALUE=DATE:20250510
DTEND;VALUE=DATE:20250511
DTSTAMP:20260422T180127
CREATED:20250421T172143Z
LAST-MODIFIED:20250421T172143Z
UID:2117-1746835200-1746921599@longmeadowhoa.com
SUMMARY:Clubhouse Rental
DESCRIPTION:Clubhouse Rental
URL:https://longmeadowhoa.com/event/clubhouse-rental-116/
END:VEVENT
BEGIN:VEVENT
DTSTART;TZID=America/New_York:20250504T131500
DTEND;TZID=America/New_York:20250504T171500
DTSTAMP:20260422T180127
CREATED:20250502T130821Z
LAST-MODIFIED:20250502T130821Z
UID:2131-1746364500-1746378900@longmeadowhoa.com
SUMMARY:1/2 Pavilion Resv.
DESCRIPTION:1/2 Pavilion Resv. (1:15p-5:15p) Hinton
URL:https://longmeadowhoa.com/event/1-2-pavilion-resv/
END:VEVENT
BEGIN:VEVENT
DTSTART;VALUE=DATE:20250504
DTEND;VALUE=DATE:20250505
DTSTAMP:20260422T180127
CREATED:20250421T172035Z
LAST-MODIFIED:20250421T172035Z
UID:2115-1746316800-1746403199@longmeadowhoa.com
SUMMARY:Clubhouse Rental
DESCRIPTION:Clubhouse Rental
URL:https://longmeadowhoa.com/event/clubhouse-rental-115/
END:VEVENT
BEGIN:VEVENT
DTSTART;TZID=America/New_York:20250503T080000
DTEND;TZID=America/New_York:20250503T120000
DTSTAMP:20260422T180127
CREATED:20250104T155905Z
LAST-MODIFIED:20250425T145515Z
UID:2055-1746259200-1746273600@longmeadowhoa.com
SUMMARY:Community Yard Sale
DESCRIPTION:Community Yard Sale \nAll residents are invited to participate in our annual spring community yard sale by selling items in their yards or driveways.
URL:https://longmeadowhoa.com/event/community-yard-sale-9/
END:VEVENT
BEGIN:VEVENT
DTSTART;VALUE=DATE:20250503
DTEND;VALUE=DATE:20250504
DTSTAMP:20260422T180127
CREATED:20250328T164043Z
LAST-MODIFIED:20250328T164043Z
UID:2109-1746230400-1746316799@longmeadowhoa.com
SUMMARY:Clubhouse Rental
DESCRIPTION:
URL:https://longmeadowhoa.com/event/clubhouse-rental-113/
END:VEVENT
BEGIN:VEVENT
DTSTART;TZID=America/New_York:20250426T090000
DTEND;TZID=America/New_York:20250426T110000
DTSTAMP:20260422T180127
CREATED:20250312T194328Z
LAST-MODIFIED:20250425T145618Z
UID:2097-1745658000-1745665200@longmeadowhoa.com
SUMMARY:Pool Volunteer Day
DESCRIPTION:Pool Volunteer Day \nWe have several volunteer opportunities to help get the pool ready for opening weekend.  Anyone is welcome to come on out and help and will be greatly appreciated.  The following tasks are needed\, but it depends on how many volunteers who come out on what we can actually accomplish. \nThe following tasks are needed\, but we are not limited to just these: \n\nassemble new pool furniture\ndispose of old pool furniture\nsweep pool deck\npower wash pool deck\nevaluate downstairs clubhouse pool area\nhelp organize pump building\nidentify and address any other needs for upcoming pool season
URL:https://longmeadowhoa.com/event/pool-volunteer-day-4/
END:VEVENT
BEGIN:VEVENT
DTSTART;VALUE=DATE:20250426
DTEND;VALUE=DATE:20250427
DTSTAMP:20260422T180127
CREATED:20250328T164221Z
LAST-MODIFIED:20250328T164221Z
UID:2111-1745625600-1745711999@longmeadowhoa.com
SUMMARY:Clubhouse Rental
DESCRIPTION:
URL:https://longmeadowhoa.com/event/clubhouse-rental-114/
END:VEVENT
BEGIN:VEVENT
DTSTART;TZID=America/New_York:20250413T150000
DTEND;TZID=America/New_York:20250413T170000
DTSTAMP:20260422T180127
CREATED:20250104T155523Z
LAST-MODIFIED:20250104T155523Z
UID:2051-1744556400-1744563600@longmeadowhoa.com
SUMMARY:Easter Egg Hunt and Celebration at the Clubhouse
DESCRIPTION:Bring your cameras to take pictures of your children visiting the Easter Bunny.  There will be an Easter Egg Hunt for 3 age groups from 2-10 years old.  There will be fun activities to enjoy as you and your family meet your neighbors.  Snacks and beverages will be served.
URL:https://longmeadowhoa.com/event/easter-egg-hunt-and-celebration-at-the-clubhouse-2/
END:VEVENT
BEGIN:VEVENT
DTSTART;TZID=America/New_York:20250412T120000
DTEND;TZID=America/New_York:20250412T160000
DTSTAMP:20260422T180127
CREATED:20250327T022119Z
LAST-MODIFIED:20250327T022119Z
UID:2100-1744459200-1744473600@longmeadowhoa.com
SUMMARY:1/2 Pavilion Reserved for Maya Hinton
DESCRIPTION:1/2 Pavilion Reserved for Maya Hinton
URL:https://longmeadowhoa.com/event/1-2-pavilion-reserved-for-maya-hinton-2/
END:VEVENT
BEGIN:VEVENT
DTSTART;VALUE=DATE:20250412
DTEND;VALUE=DATE:20250413
DTSTAMP:20260422T180127
CREATED:20250328T164002Z
LAST-MODIFIED:20250328T164002Z
UID:2107-1744416000-1744502399@longmeadowhoa.com
SUMMARY:Clubhouse Rental
DESCRIPTION:
URL:https://longmeadowhoa.com/event/clubhouse-rental-112/
END:VEVENT
BEGIN:VEVENT
DTSTART;TZID=America/New_York:20250408T190000
DTEND;TZID=America/New_York:20250408T203000
DTSTAMP:20260422T180127
CREATED:20241229T225127Z
LAST-MODIFIED:20241229T225127Z
UID:2028-1744138800-1744144200@longmeadowhoa.com
SUMMARY:HOA Board Meeting
DESCRIPTION:Villages of Longmeadow HOA Board Mtng. @ Clubhouse (& Zoom) \nLongmeadow HOA is inviting you to a scheduled Zoom meeting. \nTopic: Longmeadow HOA’s Zoom Board Meeting\nTime: 7:00 PM \nJoin Zoom Meeting\nhttps://us02web.zoom.us/j/83247426566?pwd=bExsT2NNWVBGT09qZGx5QUhPTHg5dz09 \nMeeting ID: 832 4742 6566\nPasscode: 095363\nOne tap mobile\n+16469313860\,\,83247426566#\,\,\,\,*095363# US\n+19292056099\,\,83247426566#\,\,\,\,*095363# US (New York) \nDial by your location\n+1 646 931 3860 US\n+1 929 205 6099 US (New York)\n+1 301 715 8592 US (Washington DC)\n+1 305 224 1968 US\n+1 309 205 3325 US\n+1 312 626 6799 US (Chicago)\n+1 386 347 5053 US\n+1 507 473 4847 US\n+1 564 217 2000 US\n+1 669 444 9171 US\n+1 669 900 6833 US (San Jose)\n+1 689 278 1000 US\n+1 719 359 4580 US\n+1 253 205 0468 US\n+1 253 215 8782 US (Tacoma)\n+1 346 248 7799 US (Houston)\n+1 360 209 5623 US\nMeeting ID: 832 4742 6566\nPasscode: 095363\nFind your local number: https://us02web.zoom.us/u/kdBpd4wzA2
URL:https://longmeadowhoa.com/event/hoa-board-meeting-36/
END:VEVENT
BEGIN:VEVENT
DTSTART;VALUE=DATE:20250405
DTEND;VALUE=DATE:20250406
DTSTAMP:20260422T180127
CREATED:20250328T163920Z
LAST-MODIFIED:20250328T163920Z
UID:2105-1743811200-1743897599@longmeadowhoa.com
SUMMARY:Clubhouse Rental
DESCRIPTION:
URL:https://longmeadowhoa.com/event/clubhouse-rental-111/
END:VEVENT
BEGIN:VEVENT
DTSTART;VALUE=DATE:20250329
DTEND;VALUE=DATE:20250330
DTSTAMP:20260422T180127
CREATED:20250328T163855Z
LAST-MODIFIED:20250328T163855Z
UID:2103-1743206400-1743292799@longmeadowhoa.com
SUMMARY:Clubhouse Rental
DESCRIPTION:
URL:https://longmeadowhoa.com/event/clubhouse-rental-110/
END:VEVENT
BEGIN:VEVENT
DTSTART;TZID=America/New_York:20250315T090000
DTEND;TZID=America/New_York:20250315T100000
DTSTAMP:20260422T180127
CREATED:20250305T160751Z
LAST-MODIFIED:20250305T161244Z
UID:2091-1742029200-1742032800@longmeadowhoa.com
SUMMARY:Neighborhood Clean-Up
DESCRIPTION:Neighborhood Clean-Up \nVolunteers for the Villages of Longmeadow Neighborhood clean-up day will meet at the pavilion at 9AM\, then leave in small groups to pick up litter in parts of the neighborhood such as clubhouse grounds/pavilion/playground\, walking path\, Longmeadow Blvd\, etc.. Trash bags\, gloves and trash pickers will be provided.  This is a great opportunity to meet your neighbors and keep our community clean. A Board member will be present to sign for Community Services hours if interested.
URL:https://longmeadowhoa.com/event/neighborhood-cleanup-2/
END:VEVENT
BEGIN:VEVENT
DTSTART;TZID=America/New_York:20250315T080000
DTEND;TZID=America/New_York:20250315T170000
DTSTAMP:20260422T180127
CREATED:20241229T224151Z
LAST-MODIFIED:20241229T224151Z
UID:2019-1742025600-1742058000@longmeadowhoa.com
SUMMARY:Clubhouse Rental
DESCRIPTION:
URL:https://longmeadowhoa.com/event/clubhouse-rental-104/
END:VEVENT
BEGIN:VEVENT
DTSTART;TZID=America/New_York:20250311T190000
DTEND;TZID=America/New_York:20250311T200000
DTSTAMP:20260422T180127
CREATED:20250305T163203Z
LAST-MODIFIED:20250305T163203Z
UID:2094-1741719600-1741723200@longmeadowhoa.com
SUMMARY:HOA Board Meeting
DESCRIPTION:Villages of Longmeadow HOA Board Mtng. @ Clubhouse (& Zoom) \nLongmeadow HOA is inviting you to a scheduled Zoom meeting. \nTopic: Longmeadow HOA’s Zoom Board Meeting\nTime: 7:00 PM \nJoin Zoom Meeting\nhttps://us02web.zoom.us/j/83247426566?pwd=bExsT2NNWVBGT09qZGx5QUhPTHg5dz09 \nMeeting ID: 832 4742 6566\nPasscode: 095363\nOne tap mobile\n+16469313860\,\,83247426566#\,\,\,\,*095363# US\n+19292056099\,\,83247426566#\,\,\,\,*095363# US (New York) \nDial by your location\n+1 646 931 3860 US\n+1 929 205 6099 US (New York)\n+1 301 715 8592 US (Washington DC)\n+1 305 224 1968 US\n+1 309 205 3325 US\n+1 312 626 6799 US (Chicago)\n+1 386 347 5053 US\n+1 507 473 4847 US\n+1 564 217 2000 US\n+1 669 444 9171 US\n+1 669 900 6833 US (San Jose)\n+1 689 278 1000 US\n+1 719 359 4580 US\n+1 253 205 0468 US\n+1 253 215 8782 US (Tacoma)\n+1 346 248 7799 US (Houston)\n+1 360 209 5623 US\nMeeting ID: 832 4742 6566\nPasscode: 095363\nFind your local number: https://us02web.zoom.us/u/kdBpd4wzA2
URL:https://longmeadowhoa.com/event/hoa-board-meeting-44/
END:VEVENT
BEGIN:VEVENT
DTSTART;VALUE=DATE:20250308
DTEND;VALUE=DATE:20250309
DTSTAMP:20260422T180127
CREATED:20241229T224120Z
LAST-MODIFIED:20241229T224120Z
UID:2017-1741392000-1741478399@longmeadowhoa.com
SUMMARY:Clubhouse Rental
DESCRIPTION:
URL:https://longmeadowhoa.com/event/clubhouse-rental-103/
END:VEVENT
BEGIN:VEVENT
DTSTART;VALUE=DATE:20250301
DTEND;VALUE=DATE:20250302
DTSTAMP:20260422T180127
CREATED:20250119T193953Z
LAST-MODIFIED:20250119T193953Z
UID:2084-1740787200-1740873599@longmeadowhoa.com
SUMMARY:Clubhouse Rental
DESCRIPTION:
URL:https://longmeadowhoa.com/event/clubhouse-rental-109/
END:VEVENT
BEGIN:VEVENT
DTSTART;TZID=America/New_York:20250218T190000
DTEND;TZID=America/New_York:20250218T200000
DTSTAMP:20260422T180127
CREATED:20250211T214441Z
LAST-MODIFIED:20250211T214441Z
UID:2088-1739905200-1739908800@longmeadowhoa.com
SUMMARY:HOA Board Meeting
DESCRIPTION:Villages of Longmeadow HOA Board Mtng. @ Clubhouse (& Zoom) \nLongmeadow HOA is inviting you to a scheduled Zoom meeting. \nTopic: Longmeadow HOA’s Zoom Board Meeting\nTime: 7:00 PM \nJoin Zoom Meeting\nhttps://us02web.zoom.us/j/83247426566?pwd=bExsT2NNWVBGT09qZGx5QUhPTHg5dz09 \nMeeting ID: 832 4742 6566\nPasscode: 095363\nOne tap mobile\n+16469313860\,\,83247426566#\,\,\,\,*095363# US\n+19292056099\,\,83247426566#\,\,\,\,*095363# US (New York) \nDial by your location\n+1 646 931 3860 US\n+1 929 205 6099 US (New York)\n+1 301 715 8592 US (Washington DC)\n+1 305 224 1968 US\n+1 309 205 3325 US\n+1 312 626 6799 US (Chicago)\n+1 386 347 5053 US\n+1 507 473 4847 US\n+1 564 217 2000 US\n+1 669 444 9171 US\n+1 669 900 6833 US (San Jose)\n+1 689 278 1000 US\n+1 719 359 4580 US\n+1 253 205 0468 US\n+1 253 215 8782 US (Tacoma)\n+1 346 248 7799 US (Houston)\n+1 360 209 5623 US\nMeeting ID: 832 4742 6566\nPasscode: 095363\nFind your local number: https://us02web.zoom.us/u/kdBpd4wzA2
URL:https://longmeadowhoa.com/event/hoa-board-meeting-43/
END:VEVENT
BEGIN:VEVENT
DTSTART;VALUE=DATE:20250215
DTEND;VALUE=DATE:20250216
DTSTAMP:20260422T180127
CREATED:20241229T224033Z
LAST-MODIFIED:20241229T224033Z
UID:2015-1739577600-1739663999@longmeadowhoa.com
SUMMARY:Clubhouse Rental
DESCRIPTION:
URL:https://longmeadowhoa.com/event/clubhouse-rental-102/
END:VEVENT
BEGIN:VEVENT
DTSTART;TZID=America/New_York:20250211T190000
DTEND;TZID=America/New_York:20250211T203000
DTSTAMP:20260422T180127
CREATED:20241229T224950Z
LAST-MODIFIED:20250211T214335Z
UID:2026-1739300400-1739305800@longmeadowhoa.com
SUMMARY:POSTPONED DUE TO 2/18 DUE TO WEATHER - HOA Board Meeting
DESCRIPTION:Villages of Longmeadow HOA Board Mtng. @ Clubhouse (& Zoom) \nLongmeadow HOA is inviting you to a scheduled Zoom meeting. \nTopic: Longmeadow HOA’s Zoom Board Meeting\nTime: 7:00 PM \nJoin Zoom Meeting\nhttps://us02web.zoom.us/j/83247426566?pwd=bExsT2NNWVBGT09qZGx5QUhPTHg5dz09 \nMeeting ID: 832 4742 6566\nPasscode: 095363\nOne tap mobile\n+16469313860\,\,83247426566#\,\,\,\,*095363# US\n+19292056099\,\,83247426566#\,\,\,\,*095363# US (New York) \nDial by your location\n+1 646 931 3860 US\n+1 929 205 6099 US (New York)\n+1 301 715 8592 US (Washington DC)\n+1 305 224 1968 US\n+1 309 205 3325 US\n+1 312 626 6799 US (Chicago)\n+1 386 347 5053 US\n+1 507 473 4847 US\n+1 564 217 2000 US\n+1 669 444 9171 US\n+1 669 900 6833 US (San Jose)\n+1 689 278 1000 US\n+1 719 359 4580 US\n+1 253 205 0468 US\n+1 253 215 8782 US (Tacoma)\n+1 346 248 7799 US (Houston)\n+1 360 209 5623 US\nMeeting ID: 832 4742 6566\nPasscode: 095363\nFind your local number: https://us02web.zoom.us/u/kdBpd4wzA2
URL:https://longmeadowhoa.com/event/hoa-board-meeting-35/
END:VEVENT
BEGIN:VEVENT
DTSTART;VALUE=DATE:20250208
DTEND;VALUE=DATE:20250209
DTSTAMP:20260422T180127
CREATED:20250119T193834Z
LAST-MODIFIED:20250119T193834Z
UID:2082-1738972800-1739059199@longmeadowhoa.com
SUMMARY:Clubhouse Rental
DESCRIPTION:
URL:https://longmeadowhoa.com/event/clubhouse-rental-108/
END:VEVENT
BEGIN:VEVENT
DTSTART;VALUE=DATE:20250201
DTEND;VALUE=DATE:20250202
DTSTAMP:20260422T180127
CREATED:20250119T193811Z
LAST-MODIFIED:20250119T193811Z
UID:2080-1738368000-1738454399@longmeadowhoa.com
SUMMARY:Clubhouse Rental
DESCRIPTION:
URL:https://longmeadowhoa.com/event/clubhouse-rental-107/
END:VEVENT
BEGIN:VEVENT
DTSTART;VALUE=DATE:20250125
DTEND;VALUE=DATE:20250126
DTSTAMP:20260422T180127
CREATED:20250119T193631Z
LAST-MODIFIED:20250119T193631Z
UID:2077-1737763200-1737849599@longmeadowhoa.com
SUMMARY:Clubhouse Rental
DESCRIPTION:
URL:https://longmeadowhoa.com/event/clubhouse-rental-106/
END:VEVENT
BEGIN:VEVENT
DTSTART;TZID=America/New_York:20250114T190000
DTEND;TZID=America/New_York:20250114T203000
DTSTAMP:20260422T180127
CREATED:20241229T224538Z
LAST-MODIFIED:20241229T224715Z
UID:2023-1736881200-1736886600@longmeadowhoa.com
SUMMARY:HOA Board Meeting
DESCRIPTION:Villages of Longmeadow HOA Board Mtng. @ Clubhouse (& Zoom) \nLongmeadow HOA is inviting you to a scheduled Zoom meeting. \nTopic: Longmeadow HOA’s Zoom Board Meeting\nTime: 7:00 PM \nJoin Zoom Meeting\nhttps://us02web.zoom.us/j/83247426566?pwd=bExsT2NNWVBGT09qZGx5QUhPTHg5dz09 \nMeeting ID: 832 4742 6566\nPasscode: 095363\nOne tap mobile\n+16469313860\,\,83247426566#\,\,\,\,*095363# US\n+19292056099\,\,83247426566#\,\,\,\,*095363# US (New York) \nDial by your location\n+1 646 931 3860 US\n+1 929 205 6099 US (New York)\n+1 301 715 8592 US (Washington DC)\n+1 305 224 1968 US\n+1 309 205 3325 US\n+1 312 626 6799 US (Chicago)\n+1 386 347 5053 US\n+1 507 473 4847 US\n+1 564 217 2000 US\n+1 669 444 9171 US\n+1 669 900 6833 US (San Jose)\n+1 689 278 1000 US\n+1 719 359 4580 US\n+1 253 205 0468 US\n+1 253 215 8782 US (Tacoma)\n+1 346 248 7799 US (Houston)\n+1 360 209 5623 US\nMeeting ID: 832 4742 6566\nPasscode: 095363\nFind your local number: https://us02web.zoom.us/u/kdBpd4wzA2
URL:https://longmeadowhoa.com/event/hoa-board-meeting-34/
END:VEVENT
BEGIN:VEVENT
DTSTART;TZID=America/New_York:20250104T153000
DTEND;TZID=America/New_York:20250104T170000
DTSTAMP:20260422T180127
CREATED:20241229T223826Z
LAST-MODIFIED:20250104T155053Z
UID:2013-1736004600-1736010000@longmeadowhoa.com
SUMMARY:Longmeadow New Year Social at the Clubhouse
DESCRIPTION:Please come to our Clubhouse and meet your fellow Villages of Longmeadow Neighbors.  We’ll kick off our New Year together!  We can hang out\, enjoy eating together\, and at 4pm\, our Chesterfield County Community Police Officer will be speaking with us especially as part of our Neighborhood Watch\, and will gladly field questions.  Feel free to bring a game\, and your interest(s) in our Neighborhood’s upcoming activities.  Let’s see which of our Villages has the most attendees!  Any of our Neighborhood’s Business Owners are welcomed to bring your business cards\, set up a display\, and share with us.  We estimate starting by 3:30pm.
URL:https://longmeadowhoa.com/event/longmeadow-new-year-social-event-at-the-clubhouse/
END:VEVENT
BEGIN:VEVENT
DTSTART;VALUE=DATE:20241221
DTEND;VALUE=DATE:20241222
DTSTAMP:20260422T180127
CREATED:20241117T015137Z
LAST-MODIFIED:20241117T015335Z
UID:2007-1734739200-1734825599@longmeadowhoa.com
SUMMARY:Clubhouse Rental
DESCRIPTION:
URL:https://longmeadowhoa.com/event/clubhouse-rental-101/
END:VEVENT
BEGIN:VEVENT
DTSTART;VALUE=DATE:20241214
DTEND;VALUE=DATE:20241215
DTSTAMP:20260422T180127
CREATED:20241104T024827Z
LAST-MODIFIED:20241104T024827Z
UID:1999-1734134400-1734220799@longmeadowhoa.com
SUMMARY:Clubhouse Rental
DESCRIPTION:
URL:https://longmeadowhoa.com/event/clubhouse-rental-99/
END:VEVENT
BEGIN:VEVENT
DTSTART;TZID=America/New_York:20241210T190000
DTEND;TZID=America/New_York:20241210T200000
DTSTAMP:20260422T180127
CREATED:20240122T020211Z
LAST-MODIFIED:20240122T020211Z
UID:1788-1733857200-1733860800@longmeadowhoa.com
SUMMARY:HOA Board Meeting
DESCRIPTION:Villages of Longmeadow HOA Board Mtng. @ Clubhouse (& Zoom) \nLongmeadow HOA is inviting you to a scheduled Zoom meeting. \nTopic: Longmeadow HOA’s Zoom Board Meeting\nTime: 7:00 PM \nJoin Zoom Meeting\nhttps://us02web.zoom.us/j/83247426566?pwd=bExsT2NNWVBGT09qZGx5QUhPTHg5dz09 \nMeeting ID: 832 4742 6566\nPasscode: 095363\nOne tap mobile\n+16469313860\,\,83247426566#\,\,\,\,*095363# US\n+19292056099\,\,83247426566#\,\,\,\,*095363# US (New York) \nDial by your location\n+1 646 931 3860 US\n+1 929 205 6099 US (New York)\n+1 301 715 8592 US (Washington DC)\n+1 305 224 1968 US\n+1 309 205 3325 US\n+1 312 626 6799 US (Chicago)\n+1 386 347 5053 US\n+1 507 473 4847 US\n+1 564 217 2000 US\n+1 669 444 9171 US\n+1 669 900 6833 US (San Jose)\n+1 689 278 1000 US\n+1 719 359 4580 US\n+1 253 205 0468 US\n+1 253 215 8782 US (Tacoma)\n+1 346 248 7799 US (Houston)\n+1 360 209 5623 US\nMeeting ID: 832 4742 6566\nPasscode: 095363\nFind your local number: https://us02web.zoom.us/u/kdBpd4wzA2
URL:https://longmeadowhoa.com/event/hoa-board-meeting-33/
END:VEVENT
END:VCALENDAR