BEGIN:VCALENDAR
VERSION:2.0
PRODID:-//The Villages of Longmeadow HOA - ECPv6.15.20//NONSGML v1.0//EN
CALSCALE:GREGORIAN
METHOD:PUBLISH
X-WR-CALNAME:The Villages of Longmeadow HOA
X-ORIGINAL-URL:https://longmeadowhoa.com
X-WR-CALDESC:Events for The Villages of Longmeadow HOA
REFRESH-INTERVAL;VALUE=DURATION:PT1H
X-Robots-Tag:noindex
X-PUBLISHED-TTL:PT1H
BEGIN:VTIMEZONE
TZID:America/New_York
BEGIN:DAYLIGHT
TZOFFSETFROM:-0500
TZOFFSETTO:-0400
TZNAME:EDT
DTSTART:20190310T070000
END:DAYLIGHT
BEGIN:STANDARD
TZOFFSETFROM:-0400
TZOFFSETTO:-0500
TZNAME:EST
DTSTART:20191103T060000
END:STANDARD
BEGIN:DAYLIGHT
TZOFFSETFROM:-0500
TZOFFSETTO:-0400
TZNAME:EDT
DTSTART:20200308T070000
END:DAYLIGHT
BEGIN:STANDARD
TZOFFSETFROM:-0400
TZOFFSETTO:-0500
TZNAME:EST
DTSTART:20201101T060000
END:STANDARD
BEGIN:DAYLIGHT
TZOFFSETFROM:-0500
TZOFFSETTO:-0400
TZNAME:EDT
DTSTART:20210314T070000
END:DAYLIGHT
BEGIN:STANDARD
TZOFFSETFROM:-0400
TZOFFSETTO:-0500
TZNAME:EST
DTSTART:20211107T060000
END:STANDARD
END:VTIMEZONE
BEGIN:VTIMEZONE
TZID:America/New_York
BEGIN:DAYLIGHT
TZOFFSETFROM:-0500
TZOFFSETTO:-0400
TZNAME:EDT
DTSTART:20190310T070000
END:DAYLIGHT
BEGIN:STANDARD
TZOFFSETFROM:-0400
TZOFFSETTO:-0500
TZNAME:EST
DTSTART:20191103T060000
END:STANDARD
BEGIN:DAYLIGHT
TZOFFSETFROM:-0500
TZOFFSETTO:-0400
TZNAME:EDT
DTSTART:20200308T070000
END:DAYLIGHT
BEGIN:STANDARD
TZOFFSETFROM:-0400
TZOFFSETTO:-0500
TZNAME:EST
DTSTART:20201101T060000
END:STANDARD
BEGIN:DAYLIGHT
TZOFFSETFROM:-0500
TZOFFSETTO:-0400
TZNAME:EDT
DTSTART:20210314T070000
END:DAYLIGHT
BEGIN:STANDARD
TZOFFSETFROM:-0400
TZOFFSETTO:-0500
TZNAME:EST
DTSTART:20211107T060000
END:STANDARD
END:VTIMEZONE
BEGIN:VEVENT
DTSTART;TZID=America/New_York:20201010T080000
DTEND;TZID=America/New_York:20201010T170000
DTSTAMP:20260425T200406
CREATED:20200915T012150Z
LAST-MODIFIED:20200915T012150Z
UID:910-1602316800-1602349200@longmeadowhoa.com
SUMMARY:Clubhouse Rented
DESCRIPTION:
URL:https://longmeadowhoa.com/event/clubhouse-rented-36/
END:VEVENT
BEGIN:VEVENT
DTSTART;TZID=America/New_York:20201006T180000
DTEND;TZID=America/New_York:20201006T190000
DTSTAMP:20260425T200406
CREATED:20200930T173337Z
LAST-MODIFIED:20200930T173337Z
UID:933-1602007200-1602010800@longmeadowhoa.com
SUMMARY:National Night out
DESCRIPTION:Then on October 6th we’ll celebrate National Night Out at our Pavilion and Pool Parking Lot starting at 6pm.  We hope you will come socially distantly meet your neighbors at this/our family event\, and learn how we can work together as partners to help keep our Neighborhood safe.\nNational Night Out is designed to\n\nHeighten crime and drug prevention awareness\nGenerate support for\, and participation in\, local anti-crime efforts\nStrengthen neighborhood spirit and police‐community partnerships\nSend a message to criminals letting them know neighborhoods are organized and fighting back.\n\nWe’ll have hot dogs\, chips\, and drinks\, and have invited some GREAT Guests to visit!
URL:https://longmeadowhoa.com/event/national-night-out-3/
END:VEVENT
BEGIN:VEVENT
DTSTART;TZID=America/New_York:20201001T174500
DTEND;TZID=America/New_York:20201001T194500
DTSTAMP:20260425T200406
CREATED:20200917T151634Z
LAST-MODIFIED:20200917T151634Z
UID:916-1601574300-1601581500@longmeadowhoa.com
SUMMARY:Girl Scouts Pavilion - Bond
DESCRIPTION:
URL:https://longmeadowhoa.com/event/girl-scouts-pavilion-bond-2/
END:VEVENT
BEGIN:VEVENT
DTSTART;TZID=America/New_York:20200926T100000
DTEND;TZID=America/New_York:20200926T120000
DTSTAMP:20260425T200406
CREATED:20200922T125919Z
LAST-MODIFIED:20200922T125919Z
UID:926-1601114400-1601121600@longmeadowhoa.com
SUMMARY:Pavilion Rented - Davis
DESCRIPTION:
URL:https://longmeadowhoa.com/event/pavilion-rented-davis/
END:VEVENT
BEGIN:VEVENT
DTSTART;TZID=America/New_York:20200926T080000
DTEND;TZID=America/New_York:20200926T170000
DTSTAMP:20260425T200406
CREATED:20201015T191344Z
LAST-MODIFIED:20201015T191344Z
UID:948-1601107200-1601139600@longmeadowhoa.com
SUMMARY:Clubhouse Rented
DESCRIPTION:
URL:https://longmeadowhoa.com/event/clubhouse-rented-39/
END:VEVENT
BEGIN:VEVENT
DTSTART;VALUE=DATE:20200926
DTEND;VALUE=DATE:20200927
DTSTAMP:20260425T200406
CREATED:20200910T012738Z
LAST-MODIFIED:20200910T012738Z
UID:906-1601078400-1601164799@longmeadowhoa.com
SUMMARY:Clubhouse Rented
DESCRIPTION:
URL:https://longmeadowhoa.com/event/clubhouse-rented-32/
END:VEVENT
BEGIN:VEVENT
DTSTART;TZID=America/New_York:20200919T080000
DTEND;TZID=America/New_York:20200919T200000
DTSTAMP:20260425T200406
CREATED:20200915T012043Z
LAST-MODIFIED:20200915T012043Z
UID:908-1600502400-1600545600@longmeadowhoa.com
SUMMARY:Clubhouse Rented
DESCRIPTION:
URL:https://longmeadowhoa.com/event/clubhouse-rented-35/
END:VEVENT
BEGIN:VEVENT
DTSTART;TZID=America/New_York:20200919T080000
DTEND;TZID=America/New_York:20200919T170000
DTSTAMP:20260425T200406
CREATED:20201015T191259Z
LAST-MODIFIED:20201015T191259Z
UID:946-1600502400-1600534800@longmeadowhoa.com
SUMMARY:Clubhouse Rented
DESCRIPTION:
URL:https://longmeadowhoa.com/event/clubhouse-rented-38/
END:VEVENT
BEGIN:VEVENT
DTSTART;TZID=America/New_York:20200917T174500
DTEND;TZID=America/New_York:20200917T194500
DTSTAMP:20260425T200406
CREATED:20200917T151411Z
LAST-MODIFIED:20200917T151411Z
UID:914-1600364700-1600371900@longmeadowhoa.com
SUMMARY:Girl Scouts Pavilion - Bond
DESCRIPTION:
URL:https://longmeadowhoa.com/event/girl-scouts-pavilion-bond/
END:VEVENT
BEGIN:VEVENT
DTSTART;TZID=America/New_York:20200915T190000
DTEND;TZID=America/New_York:20200915T210000
DTSTAMP:20260425T200406
CREATED:20200310T124256Z
LAST-MODIFIED:20200901T173913Z
UID:794-1600196400-1600203600@longmeadowhoa.com
SUMMARY:HOA Board Meeting
DESCRIPTION:Longmeadow HOA is inviting you to a scheduled Zoom meeting. \nTopic: Longmeadow HOA’s Zoom Meeting\nTime: Sep 15\, 2020 07:00 PM Eastern Time (US and Canada) \nJoin Zoom Meeting\nhttps://us02web.zoom.us/j/83151321929?pwd=Tnk1YUNNZU5SUGpRaW4vNmVLNVE3UT09 \nMeeting ID: 831 5132 1929\nPasscode: 075040\nOne tap mobile\n+13126266799\,\,83151321929#\,\,\,\,\,\,0#\,\,075040# US (Chicago)\n+19292056099\,\,83151321929#\,\,\,\,\,\,0#\,\,075040# US (New York) \nDial by your location\n+1 312 626 6799 US (Chicago)\n+1 929 205 6099 US (New York)\n+1 301 715 8592 US (Germantown)\n+1 346 248 7799 US (Houston)\n+1 669 900 6833 US (San Jose)\n+1 253 215 8782 US (Tacoma)\nMeeting ID: 831 5132 1929\nPasscode: 075040\nFind your local number: https://us02web.zoom.us/u/kdYkl6OHOI \n 
URL:https://longmeadowhoa.com/event/hoa-board-meeting-7/
END:VEVENT
BEGIN:VEVENT
DTSTART;VALUE=DATE:20200910
DTEND;VALUE=DATE:20200911
DTSTAMP:20260425T200406
CREATED:20200125T165913Z
LAST-MODIFIED:20200125T165913Z
UID:708-1599696000-1599782399@longmeadowhoa.com
SUMMARY:Clubhouse - Girl Scout Meeting - Troop 891
DESCRIPTION:
URL:https://longmeadowhoa.com/event/clubhouse-girl-scout-meeting-troop-891/
END:VEVENT
BEGIN:VEVENT
DTSTART;TZID=America/New_York:20200905T080000
DTEND;TZID=America/New_York:20200905T200000
DTSTAMP:20260425T200406
CREATED:20200709T191220Z
LAST-MODIFIED:20200709T191220Z
UID:869-1599292800-1599336000@longmeadowhoa.com
SUMMARY:Clubhouse Rented
DESCRIPTION:
URL:https://longmeadowhoa.com/event/clubhouse-rented-31/
END:VEVENT
BEGIN:VEVENT
DTSTART;TZID=America/New_York:20200829T120000
DTEND;TZID=America/New_York:20200829T200000
DTSTAMP:20260425T200406
CREATED:20200719T004737Z
LAST-MODIFIED:20200719T004737Z
UID:876-1598702400-1598731200@longmeadowhoa.com
SUMMARY:Pavilion Rented - Tanner
DESCRIPTION:
URL:https://longmeadowhoa.com/event/pavilion-rented-tanner/
END:VEVENT
BEGIN:VEVENT
DTSTART;TZID=America/New_York:20200825T180000
DTEND;TZID=America/New_York:20200825T200000
DTSTAMP:20260425T200406
CREATED:20200811T211910Z
LAST-MODIFIED:20200811T211910Z
UID:894-1598378400-1598385600@longmeadowhoa.com
SUMMARY:Community Meeting - Verizon Wireless Tower - Conditional Use Permit Application
DESCRIPTION:Verizon Wireless is proposing a wireless facility consisting of 150’ monopole with flush-mounted antennas and associated ground equipment.  The property is wooded between the compound and your neighborhood\, but there also will be a 100’ tree radius (no-cut zone) around the leased compound\, which is 100’ x 100’. \nBelow is a link and an invitation to a virtual community meeting for a Verizon Wireless application for a conditional use permit for a new wireless facility proposed for the Bermuda District adjacent to our neighborhood. \nCommissioner Sloan and planning officials and staff will join the meeting as panelists\, who can be seen and heard.  If you would like to join as a panelist\, please let me know. Otherwise\, if you are interested in attending\, you may register through the public link included in the letter. \nZoom meeting invite (Register in advance): https://williamsmullen.zoom.us/webinar/register/WN_Tgaf4WDdQPms0V2X3BZNGg \nVerizon Wireless Long Meadow Community Meeting Letter 8-11-2020
URL:https://longmeadowhoa.com/event/community-meeting-verizon-wireless-tower-conditional-use-permit-application/
END:VEVENT
BEGIN:VEVENT
DTSTART;VALUE=DATE:20200822
DTEND;VALUE=DATE:20200823
DTSTAMP:20260425T200406
CREATED:20200721T225210Z
LAST-MODIFIED:20200803T181333Z
UID:881-1598054400-1598140799@longmeadowhoa.com
SUMMARY:Clubhouse Rented
DESCRIPTION:
URL:https://longmeadowhoa.com/event/clubhouse-rented-33/
END:VEVENT
BEGIN:VEVENT
DTSTART;TZID=America/New_York:20200815T103000
DTEND;TZID=America/New_York:20200815T123000
DTSTAMP:20260425T200406
CREATED:20200630T173640Z
LAST-MODIFIED:20200812T233022Z
UID:859-1597487400-1597494600@longmeadowhoa.com
SUMMARY:Food Donations
DESCRIPTION:Let’s give back and help our community during COVID-19 by donating food to the Chesterfield Food Bank. Come to our Pavilion at 10:30 -12:30 and drop off a non perishable food item such as canned fruits\, jelly\, pop tarts\, dry cake mix\, breakfast bars\, pasta and canned tuna.
URL:https://longmeadowhoa.com/event/food-donations-2/
END:VEVENT
BEGIN:VEVENT
DTSTART;TZID=America/New_York:20200813T163000
DTEND;TZID=America/New_York:20200813T193000
DTSTAMP:20260425T200406
CREATED:20200812T232937Z
LAST-MODIFIED:20200812T232937Z
UID:901-1597336200-1597347000@longmeadowhoa.com
SUMMARY:Lady Sharon's Food Truck 4:30-7:30
DESCRIPTION: we will have the Lady Sharon‘s Soul Food Kitchen Food Truck here again in our Clubhouse parking lot from  4:30p-7:30p.  Please order ahead of this day at  https://www.ladysharonskitchen.com/menu   so that on August 13th you may socially distance as you pick up your order.  🙂
URL:https://longmeadowhoa.com/event/lady-sharons-food-truck-430-730/
END:VEVENT
BEGIN:VEVENT
DTSTART;TZID=America/New_York:20200811T190000
DTEND;TZID=America/New_York:20200811T210000
DTSTAMP:20260425T200406
CREATED:20200310T124145Z
LAST-MODIFIED:20200730T143947Z
UID:792-1597172400-1597179600@longmeadowhoa.com
SUMMARY:HOA Board Meeting
DESCRIPTION:Longmeadow HOA is inviting you to a scheduled Zoom meeting. \nTopic: Longmeadow HOA’s Zoom Meeting\nTime: Aug 11\, 2020 07:00 PM Eastern Time (US and Canada) \nJoin Zoom Meeting\nhttps://us02web.zoom.us/j/86979721021 \nMeeting ID: 869 7972 1021\nOne tap mobile\n+19292056099\,\,86979721021# US (New York)\n+13017158592\,\,86979721021# US (Germantown) \nDial by your location\n+1 929 205 6099 US (New York)\n+1 301 715 8592 US (Germantown)\n+1 312 626 6799 US (Chicago)\n+1 669 900 6833 US (San Jose)\n+1 253 215 8782 US (Tacoma)\n+1 346 248 7799 US (Houston)\nMeeting ID: 869 7972 1021\nFind your local number: https://us02web.zoom.us/u/kcBdHHexmX
URL:https://longmeadowhoa.com/event/hoa-board-meeting-6/
END:VEVENT
BEGIN:VEVENT
DTSTART;TZID=America/New_York:20200808T140000
DTEND;TZID=America/New_York:20200808T180000
DTSTAMP:20260425T200406
CREATED:20200727T185550Z
LAST-MODIFIED:20200803T170742Z
UID:888-1596895200-1596909600@longmeadowhoa.com
SUMMARY:Pavilion Rented - Wyche 2-6
DESCRIPTION:
URL:https://longmeadowhoa.com/event/pavilion-rented-wyche-12-4/
END:VEVENT
BEGIN:VEVENT
DTSTART;TZID=America/New_York:20200808T080000
DTEND;TZID=America/New_York:20200808T200000
DTSTAMP:20260425T200406
CREATED:20200709T191135Z
LAST-MODIFIED:20200709T191135Z
UID:867-1596873600-1596916800@longmeadowhoa.com
SUMMARY:Clubhouse Rented
DESCRIPTION:
URL:https://longmeadowhoa.com/event/clubhouse-rented-30/
END:VEVENT
BEGIN:VEVENT
DTSTART;VALUE=DATE:20200802
DTEND;VALUE=DATE:20200803
DTSTAMP:20260425T200406
CREATED:20200721T225323Z
LAST-MODIFIED:20200721T225323Z
UID:883-1596326400-1596412799@longmeadowhoa.com
SUMMARY:Clubhouse Rented
DESCRIPTION:
URL:https://longmeadowhoa.com/event/clubhouse-rented-34/
END:VEVENT
BEGIN:VEVENT
DTSTART;TZID=America/New_York:20200725T080000
DTEND;TZID=America/New_York:20200725T200000
DTSTAMP:20260425T200406
CREATED:20200709T191051Z
LAST-MODIFIED:20200709T191051Z
UID:865-1595664000-1595707200@longmeadowhoa.com
SUMMARY:Clubhouse Rented
DESCRIPTION:
URL:https://longmeadowhoa.com/event/clubhouse-rented-29/
END:VEVENT
BEGIN:VEVENT
DTSTART;TZID=America/New_York:20200721T190000
DTEND;TZID=America/New_York:20200721T210000
DTSTAMP:20260425T200406
CREATED:20200310T124105Z
LAST-MODIFIED:20200626T123507Z
UID:790-1595358000-1595365200@longmeadowhoa.com
SUMMARY:HOA Board Meeting
DESCRIPTION:Zoom meeting details: \nLongmeadow HOA is inviting you to a scheduled Zoom meeting. \nTopic: Longmeadow HOA’s Zoom Meeting\nTime: Jul 21\, 2020 07:00 PM Eastern Time (US and Canada) \nJoin Zoom Meeting\nhttps://us02web.zoom.us/j/84515449672 \nMeeting ID: 845 1544 9672\nOne tap mobile\n+19292056099\,\,84515449672# US (New York)\n+13017158592\,\,84515449672# US (Germantown) \nDial by your location\n+1 929 205 6099 US (New York)\n+1 301 715 8592 US (Germantown)\n+1 312 626 6799 US (Chicago)\n+1 669 900 6833 US (San Jose)\n+1 253 215 8782 US (Tacoma)\n+1 346 248 7799 US (Houston)\nMeeting ID: 845 1544 9672\nFind your local number: https://us02web.zoom.us/u/kbkYZjRPU4
URL:https://longmeadowhoa.com/event/hoa-board-meeting-5/
END:VEVENT
BEGIN:VEVENT
DTSTART;TZID=America/New_York:20200721T080000
DTEND;TZID=America/New_York:20200721T170000
DTSTAMP:20260425T200406
CREATED:20200721T225050Z
LAST-MODIFIED:20200721T225109Z
UID:878-1595318400-1595350800@longmeadowhoa.com
SUMMARY:CLubhouse Rented
DESCRIPTION:
URL:https://longmeadowhoa.com/event/clubhouse-rented-clements/
END:VEVENT
BEGIN:VEVENT
DTSTART;TZID=America/New_York:20200712T160000
DTEND;TZID=America/New_York:20200712T200000
DTSTAMP:20260425T200406
CREATED:20200702T011431Z
LAST-MODIFIED:20200702T011431Z
UID:861-1594569600-1594584000@longmeadowhoa.com
SUMMARY:Pavilion - Behne
DESCRIPTION:
URL:https://longmeadowhoa.com/event/pavilion-behne/
END:VEVENT
BEGIN:VEVENT
DTSTART;TZID=America/New_York:20200711T173000
DTEND;TZID=America/New_York:20200711T190000
DTSTAMP:20260425T200406
CREATED:20200630T173524Z
LAST-MODIFIED:20200630T173524Z
UID:857-1594488600-1594494000@longmeadowhoa.com
SUMMARY:Food Donations
DESCRIPTION:Let’s give back and help our community during COVID-19 by donating food to the Chesterfield Food Bank. Come to our Pavilion at 5:30 -7 and drop off a non perishable food item such as canned fruits\, jelly\, pop tarts\, dry cake mix\, breakfast bars\, pasta and canned tuna.
URL:https://longmeadowhoa.com/event/food-donations/
END:VEVENT
BEGIN:VEVENT
DTSTART;TZID=America/New_York:20200711T173000
DTEND;TZID=America/New_York:20200711T190000
DTSTAMP:20260425T200406
CREATED:20200626T123822Z
LAST-MODIFIED:20200626T180056Z
UID:848-1594488600-1594494000@longmeadowhoa.com
SUMMARY:Hot dog handout - pavilion
DESCRIPTION:The longmeadow HOA will be cooking hot dogs and have assorted chips and popsicles to handout to residents.
URL:https://longmeadowhoa.com/event/hot-dog-handout/
END:VEVENT
BEGIN:VEVENT
DTSTART;VALUE=DATE:20200705
DTEND;VALUE=DATE:20200706
DTSTAMP:20260425T200406
CREATED:20200207T202545Z
LAST-MODIFIED:20200608T232844Z
UID:735-1593907200-1593993599@longmeadowhoa.com
SUMMARY:Clubhouse Rented – House
DESCRIPTION:
URL:https://longmeadowhoa.com/event/clubhouse-rented-house/
END:VEVENT
BEGIN:VEVENT
DTSTART;TZID=America/New_York:20200624T160000
DTEND;TZID=America/New_York:20200624T200000
DTSTAMP:20260425T200406
CREATED:20200610T115945Z
LAST-MODIFIED:20200610T115945Z
UID:834-1593014400-1593028800@longmeadowhoa.com
SUMMARY:Pavilion Rented - Bond
DESCRIPTION:
URL:https://longmeadowhoa.com/event/pavilion-rented-bond/
END:VEVENT
BEGIN:VEVENT
DTSTART;VALUE=DATE:20200620
DTEND;VALUE=DATE:20200621
DTSTAMP:20260425T200406
CREATED:20200310T120100Z
LAST-MODIFIED:20200310T120128Z
UID:778-1592611200-1592697599@longmeadowhoa.com
SUMMARY:Clubhouse Rented – Woods
DESCRIPTION:
URL:https://longmeadowhoa.com/event/clubhouse-rented-woods/
END:VEVENT
END:VCALENDAR