BEGIN:VCALENDAR
VERSION:2.0
PRODID:-//The Villages of Longmeadow HOA - ECPv6.15.20//NONSGML v1.0//EN
CALSCALE:GREGORIAN
METHOD:PUBLISH
X-WR-CALNAME:The Villages of Longmeadow HOA
X-ORIGINAL-URL:https://longmeadowhoa.com
X-WR-CALDESC:Events for The Villages of Longmeadow HOA
REFRESH-INTERVAL;VALUE=DURATION:PT1H
X-Robots-Tag:noindex
X-PUBLISHED-TTL:PT1H
BEGIN:VTIMEZONE
TZID:America/New_York
BEGIN:DAYLIGHT
TZOFFSETFROM:-0500
TZOFFSETTO:-0400
TZNAME:EDT
DTSTART:20200308T070000
END:DAYLIGHT
BEGIN:STANDARD
TZOFFSETFROM:-0400
TZOFFSETTO:-0500
TZNAME:EST
DTSTART:20201101T060000
END:STANDARD
BEGIN:DAYLIGHT
TZOFFSETFROM:-0500
TZOFFSETTO:-0400
TZNAME:EDT
DTSTART:20210314T070000
END:DAYLIGHT
BEGIN:STANDARD
TZOFFSETFROM:-0400
TZOFFSETTO:-0500
TZNAME:EST
DTSTART:20211107T060000
END:STANDARD
BEGIN:DAYLIGHT
TZOFFSETFROM:-0500
TZOFFSETTO:-0400
TZNAME:EDT
DTSTART:20220313T070000
END:DAYLIGHT
BEGIN:STANDARD
TZOFFSETFROM:-0400
TZOFFSETTO:-0500
TZNAME:EST
DTSTART:20221106T060000
END:STANDARD
END:VTIMEZONE
BEGIN:VTIMEZONE
TZID:America/New_York
BEGIN:DAYLIGHT
TZOFFSETFROM:-0500
TZOFFSETTO:-0400
TZNAME:EDT
DTSTART:20200308T070000
END:DAYLIGHT
BEGIN:STANDARD
TZOFFSETFROM:-0400
TZOFFSETTO:-0500
TZNAME:EST
DTSTART:20201101T060000
END:STANDARD
BEGIN:DAYLIGHT
TZOFFSETFROM:-0500
TZOFFSETTO:-0400
TZNAME:EDT
DTSTART:20210314T070000
END:DAYLIGHT
BEGIN:STANDARD
TZOFFSETFROM:-0400
TZOFFSETTO:-0500
TZNAME:EST
DTSTART:20211107T060000
END:STANDARD
BEGIN:DAYLIGHT
TZOFFSETFROM:-0500
TZOFFSETTO:-0400
TZNAME:EDT
DTSTART:20220313T070000
END:DAYLIGHT
BEGIN:STANDARD
TZOFFSETFROM:-0400
TZOFFSETTO:-0500
TZNAME:EST
DTSTART:20221106T060000
END:STANDARD
END:VTIMEZONE
BEGIN:VEVENT
DTSTART;TZID=America/New_York:20210618T163000
DTEND;TZID=America/New_York:20210618T213000
DTSTAMP:20260425T104314
CREATED:20210617T015839Z
LAST-MODIFIED:20210617T015839Z
UID:1171-1624033800-1624051800@longmeadowhoa.com
SUMMARY:Pavillion Reserved - McGovern - 6/18 - 4:30PM-9:30PM
DESCRIPTION:
URL:https://longmeadowhoa.com/event/pavillion-reserved-mcgovern-6-18-430pm-930pm/
END:VEVENT
BEGIN:VEVENT
DTSTART;TZID=America/New_York:20210618T153000
DTEND;TZID=America/New_York:20210618T170000
DTSTAMP:20260425T104314
CREATED:20210524T172247Z
LAST-MODIFIED:20210524T172316Z
UID:1157-1624030200-1624035600@longmeadowhoa.com
SUMMARY:FOOD TRUCK - Mister Softee
DESCRIPTION:Mister Softee Food Truck will be at the Clubhouse
URL:https://longmeadowhoa.com/event/food-truck-mister-softee/
END:VEVENT
BEGIN:VEVENT
DTSTART;VALUE=DATE:20210618
DTEND;VALUE=DATE:20210619
DTSTAMP:20260425T104314
CREATED:20210518T221152Z
LAST-MODIFIED:20210518T221333Z
UID:1149-1623974400-1624060799@longmeadowhoa.com
SUMMARY:Class of 2021 Graduate Parade: 5:30 PM
DESCRIPTION:Parade through the neighborhood with the Class of 2021.  Parade will begin at the Clubhouse at 5:30 PM
URL:https://longmeadowhoa.com/event/class-of-2021-graduate-parade-time-tbd/
END:VEVENT
BEGIN:VEVENT
DTSTART;TZID=America/New_York:20210615T190000
DTEND;TZID=America/New_York:20210615T200000
DTSTAMP:20260425T104314
CREATED:20210120T144815Z
LAST-MODIFIED:20210615T230356Z
UID:1029-1623783600-1623787200@longmeadowhoa.com
SUMMARY:June 2021 HOA Board Meeting
DESCRIPTION:Longmeadow HOA is inviting you to a scheduled Zoom meeting. \nTopic: Longmeadow HOA’s Personal Meeting Room \nJoin Zoom Meeting\nhttps://us02web.zoom.us/j/2311901860?pwd=T2o5UXY2OGhWTU5YZXU2eC9HWG42dz09 \nMeeting ID: 231 190 1860\nPasscode: 8b2RpN\nOne tap mobile\n+19292056099\,\,2311901860#\,\,\,\,*351414# US (New York)\n+13017158592\,\,2311901860#\,\,\,\,*351414# US (Washington DC) \nDial by your location\n+1 929 205 6099 US (New York)\n+1 301 715 8592 US (Washington DC)\n+1 312 626 6799 US (Chicago)\n+1 669 900 6833 US (San Jose)\n+1 253 215 8782 US (Tacoma)\n+1 346 248 7799 US (Houston)\nMeeting ID: 231 190 1860\nPasscode: 351414\nFind your local number: https://us02web.zoom.us/u/kSH
URL:https://longmeadowhoa.com/event/june-2021-hoa-board-meeting/
END:VEVENT
BEGIN:VEVENT
DTSTART;VALUE=DATE:20210612
DTEND;VALUE=DATE:20210613
DTSTAMP:20260425T104314
CREATED:20210206T162451Z
LAST-MODIFIED:20210206T170544Z
UID:1052-1623456000-1623542399@longmeadowhoa.com
SUMMARY:Neighborhood Cleanup Day - 6/12 - 9 AM
DESCRIPTION:Click here to RSVP \nVolunteers for the Villages of Longmeadow Neighborhood clean-up day will meet at the pavilion on SATURDAY\, June 12TH @ 9 AM. \nTrash bags\, gloves\, trash pickets\, and maps will be provided.   This is a great opportunity to meet you neighbors and keep our community clean.
URL:https://longmeadowhoa.com/event/neighborhood-cleanup-day_210612/
END:VEVENT
BEGIN:VEVENT
DTSTART;TZID=America/New_York:20210611T153000
DTEND;TZID=America/New_York:20210611T173000
DTSTAMP:20260425T104314
CREATED:20210524T171345Z
LAST-MODIFIED:20210524T172140Z
UID:1153-1623425400-1623432600@longmeadowhoa.com
SUMMARY:FOOD TRUCK - Kona Ice
DESCRIPTION:Kona Ice food truck will be at the Clubhouse
URL:https://longmeadowhoa.com/event/food-truck-kona-ice-time-tba/
END:VEVENT
BEGIN:VEVENT
DTSTART;TZID=America/New_York:20210607T190000
DTEND;TZID=America/New_York:20210607T200000
DTSTAMP:20260425T104314
CREATED:20210324T015433Z
LAST-MODIFIED:20210510T201553Z
UID:1123-1623092400-1623096000@longmeadowhoa.com
SUMMARY:Committee Night at the Clubhouse
DESCRIPTION:This night is for Longmeadow Residents interested in volunteering and participating in any of the planning activities for each committee.  This will be a regularly scheduled event\, on the second Monday of each month. Please reference the committee webpage for a description of the committees. \nThe Villages of Longmeadow Committees
URL:https://longmeadowhoa.com/event/committee-night-20210614/
END:VEVENT
BEGIN:VEVENT
DTSTART;TZID=America/New_York:20210531T123000
DTEND;TZID=America/New_York:20210531T140000
DTSTAMP:20260425T104314
CREATED:20210305T153556Z
LAST-MODIFIED:20210524T121225Z
UID:1089-1622464200-1622469600@longmeadowhoa.com
SUMMARY:Memorial Day Hotdog and Ice Cream Social at the Clubhouse and Pool
DESCRIPTION:Come out and enjoy the opening of the pool and celebrate Memorial Day with your neighbors. Lunch will be served (hotdogs\, chips and drinks) and there will be lots of ice cream & toppings for dessert. Get to know your neighbors and enjoy this fun-filled day.
URL:https://longmeadowhoa.com/event/memorial-day-hotdog-and-ice-cream-social-at-the-clubhouse-and-pool/
END:VEVENT
BEGIN:VEVENT
DTSTART;TZID=America/New_York:20210528T160000
DTEND;TZID=America/New_York:20210528T200000
DTSTAMP:20260425T104314
CREATED:20210525T151813Z
LAST-MODIFIED:20210525T151813Z
UID:1159-1622217600-1622232000@longmeadowhoa.com
SUMMARY:Pavilion Reserved - McGovern
DESCRIPTION:
URL:https://longmeadowhoa.com/event/pavilion-reserved-mcgovern/
END:VEVENT
BEGIN:VEVENT
DTSTART;TZID=America/New_York:20210521T170000
DTEND;TZID=America/New_York:20210521T190000
DTSTAMP:20260425T104314
CREATED:20210510T192049Z
LAST-MODIFIED:20210510T192449Z
UID:1144-1621616400-1621623600@longmeadowhoa.com
SUMMARY:FOOD Truck - Lady Sharon's
DESCRIPTION:Food Truck at the Clubhouse.  Lady Sharon’s prefers pre-orders\, but will also accept walk-ups. \nwww.toasttab.com/lssoulfood
URL:https://longmeadowhoa.com/event/food-truck-lady-sharons/
END:VEVENT
BEGIN:VEVENT
DTSTART;TZID=America/New_York:20210518T190000
DTEND;TZID=America/New_York:20210518T200000
DTSTAMP:20260425T104314
CREATED:20210120T144815Z
LAST-MODIFIED:20210120T144952Z
UID:1028-1621364400-1621368000@longmeadowhoa.com
SUMMARY:May 2021 HOA Board Meeting
DESCRIPTION:Longmeadow HOA is inviting you to a scheduled Zoom meeting.\nTopic: Longmeadow HOA’s Zoom Meeting\nTime: This is a recurring meeting Meet anytime \nJoin Zoom Meeting\nhttps://us02web.zoom.us/j/83247426566?pwd=bExsT2NNWVBGT09qZGx5QUhPTHg5dz09 \nMeeting ID: 832 4742 6566\nPasscode: 095363\nOne tap mobile\n+13126266799\,\,83247426566#\,\,\,\,*095363# US (Chicago)\n+19292056099\,\,83247426566#\,\,\,\,*095363# US (New York) \nDial by your location\n+1 312 626 6799 US (Chicago)\n+1 929 205 6099 US (New York)\n+1 301 715 8592 US (Washington D.C)\n+1 346 248 7799 US (Houston)\n+1 669 900 6833 US (San Jose)\n+1 253 215 8782 US (Tacoma)\nMeeting ID: 832 4742 6566\nPasscode: 095363\nFind your local number: https://us02web.zoom.us/u/kdBpd4wzA2
URL:https://longmeadowhoa.com/event/may-2021-hoa-board-meeting/
END:VEVENT
BEGIN:VEVENT
DTSTART;TZID=America/New_York:20210515T170000
DTEND;TZID=America/New_York:20210515T200000
DTSTAMP:20260425T104314
CREATED:20210510T191249Z
LAST-MODIFIED:20210510T192346Z
UID:1141-1621098000-1621108800@longmeadowhoa.com
SUMMARY:FOOD TRUCK - Mell's Kitchen
DESCRIPTION:Food Truck at the Clubhouse \nYou can go to their website at:  www.Mellsfood.com and plan an online ordering that day.  Residents can call in orders at (804) 955-8849 or order through their walk up service too.   Their Facebook and IG handles are mellskitchenva.
URL:https://longmeadowhoa.com/event/food-truck-mels-kitchen_20200510/
END:VEVENT
BEGIN:VEVENT
DTSTART;TZID=America/New_York:20210510T190000
DTEND;TZID=America/New_York:20210510T200000
DTSTAMP:20260425T104314
CREATED:20210324T015023Z
LAST-MODIFIED:20210324T015023Z
UID:1121-1620673200-1620676800@longmeadowhoa.com
SUMMARY:Committee Night at the Clubhouse
DESCRIPTION:This night is for Longmeadow Residents interested in volunteering and participating in any of the planning activities for each committee.  This will be a regularly scheduled event\, on the second Monday of each month. Please reference the committee webpage for a description of the committees. \nThe Villages of Longmeadow Committees
URL:https://longmeadowhoa.com/event/committee-night-20210510/
END:VEVENT
BEGIN:VEVENT
DTSTART;VALUE=DATE:20210508
DTEND;VALUE=DATE:20210509
DTSTAMP:20260425T104314
CREATED:20210206T164818Z
LAST-MODIFIED:20210206T164818Z
UID:1058-1620432000-1620518399@longmeadowhoa.com
SUMMARY:Neighborhood Cleanup Day - 5/8 - 9 AM
DESCRIPTION:Click here to RSVP \nVolunteers for the Villages of Longmeadow Neighborhood clean-up day will meet at the pavilion on SATURDAY\, May 8TH @ 9 AM. \nTrash bags\, gloves\, trash pickets\, and maps will be provided.   This is a great opportunity to meet you neighbors and keep our community clean.
URL:https://longmeadowhoa.com/event/neighborhood-cleanup-day_210508/
END:VEVENT
BEGIN:VEVENT
DTSTART;TZID=America/New_York:20210501T080000
DTEND;TZID=America/New_York:20210501T120000
DTSTAMP:20260425T104314
CREATED:20210305T153556Z
LAST-MODIFIED:20210305T153556Z
UID:1088-1619856000-1619870400@longmeadowhoa.com
SUMMARY:Community Yardsale
DESCRIPTION:All residents are invited to participate in the annual spring community yard sale by selling items in their yards or driveways.
URL:https://longmeadowhoa.com/event/community-yardsale/
END:VEVENT
BEGIN:VEVENT
DTSTART;TZID=America/New_York:20210424T090000
DTEND;TZID=America/New_York:20210424T120000
DTSTAMP:20260425T104314
CREATED:20210316T141516Z
LAST-MODIFIED:20210316T141516Z
UID:1107-1619254800-1619265600@longmeadowhoa.com
SUMMARY:Pool Volunteer Day
DESCRIPTION:We need volunteers to paint the lifeguard chairs and assemble new pool tables which were purchased late 2020.
URL:https://longmeadowhoa.com/event/pool-volunteer-day/
END:VEVENT
BEGIN:VEVENT
DTSTART;TZID=America/New_York:20210422T180000
DTEND;TZID=America/New_York:20210422T200000
DTSTAMP:20260425T104314
CREATED:20210419T230339Z
LAST-MODIFIED:20210419T230339Z
UID:1135-1619114400-1619121600@longmeadowhoa.com
SUMMARY:Pavilion Reserved 4/22 -Behne - Girl Scouts
DESCRIPTION:
URL:https://longmeadowhoa.com/event/pavilion-reserved-4-22-behne-girl-scouts/
END:VEVENT
BEGIN:VEVENT
DTSTART;TZID=America/New_York:20210420T190000
DTEND;TZID=America/New_York:20210420T200000
DTSTAMP:20260425T104314
CREATED:20210120T144815Z
LAST-MODIFIED:20210420T231249Z
UID:1027-1618945200-1618948800@longmeadowhoa.com
SUMMARY:April 2021 HOA Board Meeting
DESCRIPTION:Longmeadow HOA is inviting you to a scheduled Zoom meeting. \nTopic: Longmeadow HOA’s Personal Meeting Room \nJoin Zoom Meeting\nhttps://us02web.zoom.us/j/2311901860?pwd=T2o5UXY2OGhWTU5YZXU2eC9HWG42dz09 \nMeeting ID: 231 190 1860\nPasscode: 8b2RpN\nOne tap mobile\n+19292056099\,\,2311901860#\,\,\,\,*351414# US (New York)\n+13017158592\,\,2311901860#\,\,\,\,*351414# US (Washington DC) \nDial by your location\n+1 929 205 6099 US (New York)\n+1 301 715 8592 US (Washington DC)\n+1 312 626 6799 US (Chicago)\n+1 669 900 6833 US (San Jose)\n+1 253 215 8782 US (Tacoma)\n+1 346 248 7799 US (Houston)\nMeeting ID: 231 190 1860\nPasscode: 351414\nFind your local number: https://us02web.zoom.us/u/kSHYGFslj \n 
URL:https://longmeadowhoa.com/event/april-2021-hoa-board-meeting/
END:VEVENT
BEGIN:VEVENT
DTSTART;TZID=America/New_York:20210418T140000
DTEND;TZID=America/New_York:20210418T170000
DTSTAMP:20260425T104314
CREATED:20210415T115831Z
LAST-MODIFIED:20210415T115831Z
UID:1133-1618754400-1618765200@longmeadowhoa.com
SUMMARY:Pavilion Reserved - Riggins - 4/18
DESCRIPTION:
URL:https://longmeadowhoa.com/event/pavilion-reserved-riggins-4-18/
END:VEVENT
BEGIN:VEVENT
DTSTART;TZID=America/New_York:20210414T173000
DTEND;TZID=America/New_York:20210414T200000
DTSTAMP:20260425T104314
CREATED:20210311T183750Z
LAST-MODIFIED:20210311T183750Z
UID:1096-1618421400-1618430400@longmeadowhoa.com
SUMMARY:Pavilion - Girl Scouts
DESCRIPTION:
URL:https://longmeadowhoa.com/event/pavilion-girl-scouts/
END:VEVENT
BEGIN:VEVENT
DTSTART;TZID=America/New_York:20210412T190000
DTEND;TZID=America/New_York:20210412T200000
DTSTAMP:20260425T104314
CREATED:20210324T014812Z
LAST-MODIFIED:20210324T014812Z
UID:1119-1618254000-1618257600@longmeadowhoa.com
SUMMARY:Committee Night at the Clubhouse
DESCRIPTION:This night is for Longmeadow Residents interested in volunteering and participating in any of the planning activities for each committee.  This will be a regularly scheduled event\, on the second Monday of each month. Please reference the committee webpage for a description of the committees. \nThe Villages of Longmeadow Committees
URL:https://longmeadowhoa.com/event/committee_night-20210412/
END:VEVENT
BEGIN:VEVENT
DTSTART;VALUE=DATE:20210410
DTEND;VALUE=DATE:20210411
DTSTAMP:20260425T104314
CREATED:20210206T163419Z
LAST-MODIFIED:20210206T170618Z
UID:1056-1618012800-1618099199@longmeadowhoa.com
SUMMARY:Neighborhood Cleanup Day - 4/10 - 9 AM
DESCRIPTION:Click here to RSVP \nVolunteers for the Villages of Longmeadow Neighborhood clean-up day will meet at the pavilion on SATURDAY\, April 10TH @ 9 AM. \nTrash bags\, gloves\, trash pickets\, and maps will be provided.   This is a great opportunity to meet you neighbors and keep our community clean.
URL:https://longmeadowhoa.com/event/neighborhood-cleanup-day_210410/
END:VEVENT
BEGIN:VEVENT
DTSTART;TZID=America/New_York:20210328T150000
DTEND;TZID=America/New_York:20210328T163000
DTSTAMP:20260425T104314
CREATED:20210305T153556Z
LAST-MODIFIED:20210305T153556Z
UID:1087-1616943600-1616949000@longmeadowhoa.com
SUMMARY:Easter Celebration
DESCRIPTION:Bring your cameras to take pictures of your children visiting the Easter Bunny. There will be an Easter Egg Hunt for 3 age groups from 2-10 years old. There will be many fun activities for the kids to enjoy including egg races\, face painting\, jewelry making\, chalk drawing\, a cake walk\, coloring\, and corn hole games.  Snacks and beverages will be served.\nOR (if restrictions exist)         Easter Bunny Rides Through the Neighborhood
URL:https://longmeadowhoa.com/event/easter-celebration/
END:VEVENT
BEGIN:VEVENT
DTSTART;TZID=America/New_York:20210322T190000
DTEND;TZID=America/New_York:20210322T200000
DTSTAMP:20260425T104314
CREATED:20210311T184130Z
LAST-MODIFIED:20210311T184346Z
UID:1101-1616439600-1616443200@longmeadowhoa.com
SUMMARY:Committee Night at the Clubhouse
DESCRIPTION:This night is for Longmeadow Residents interested in any of the committees. This will be a regularly scheduled event\, on the second Monday of each month. Please reference the committee webpage for a description of the committees. \nCommittees
URL:https://longmeadowhoa.com/event/committee-night-at-the-clubhouse/
END:VEVENT
BEGIN:VEVENT
DTSTART;TZID=America/New_York:20210320T080000
DTEND;TZID=America/New_York:20210320T230000
DTSTAMP:20260425T104314
CREATED:20210311T183933Z
LAST-MODIFIED:20210311T183933Z
UID:1098-1616227200-1616281200@longmeadowhoa.com
SUMMARY:Clubhouse Rented
DESCRIPTION:
URL:https://longmeadowhoa.com/event/clubhouse-rented-40/
END:VEVENT
BEGIN:VEVENT
DTSTART;TZID=America/New_York:20210316T190000
DTEND;TZID=America/New_York:20210316T200000
DTSTAMP:20260425T104314
CREATED:20210120T143337Z
LAST-MODIFIED:20210120T143337Z
UID:1019-1615921200-1615924800@longmeadowhoa.com
SUMMARY:March 2021 HOA Board Meeting
DESCRIPTION:Longmeadow HOA is inviting you to a scheduled Zoom meeting. \nTopic: Longmeadow HOA’s Zoom Meeting\nTime: Mar 16\, 2021 07:00 PM Eastern Time (US and Canada) \nJoin Zoom Meeting\nhttps://us02web.zoom.us/j/87313867460?pwd=K1EzbXhUTnBqbDdVcWVib1k4TStidz09 \nMeeting ID: 873 1386 7460\nPasscode: 464245\nOne tap mobile\n+13126266799\,\,87313867460#\,\,\,\,*464245# US (Chicago)\n+19292056099\,\,87313867460#\,\,\,\,*464245# US (New York) \nDial by your location\n+1 312 626 6799 US (Chicago)\n+1 929 205 6099 US (New York)\n+1 301 715 8592 US (Washington D.C)\n+1 346 248 7799 US (Houston)\n+1 669 900 6833 US (San Jose)\n+1 253 215 8782 US (Tacoma)\nMeeting ID: 873 1386 7460\nPasscode: 464245\nFind your local number: https://us02web.zoom.us/u/kAhgp52bN \n 
URL:https://longmeadowhoa.com/event/march-2021-hoa-board-meeting/
END:VEVENT
BEGIN:VEVENT
DTSTART;VALUE=DATE:20210313
DTEND;VALUE=DATE:20210314
DTSTAMP:20260425T104314
CREATED:20210206T161424Z
LAST-MODIFIED:20210206T170639Z
UID:1049-1615593600-1615679999@longmeadowhoa.com
SUMMARY:Neighborhood Cleanup Day - 3/13 - 9 AM
DESCRIPTION:Click here to RSVP \nVolunteers for the Villages of Longmeadow Neighborhood clean-up day will meet at the pavilion on SATURDAY\, March 13TH @ 9 AM. \nTrash bags\, gloves\, trash pickets\, and maps will be provided.   This is a great opportunity to meet you neighbors and keep our community clean.
URL:https://longmeadowhoa.com/event/neighborhood-cleanup-day_210313/
END:VEVENT
BEGIN:VEVENT
DTSTART;TZID=America/New_York:20210216T190000
DTEND;TZID=America/New_York:20210216T200000
DTSTAMP:20260425T104314
CREATED:20210120T135906Z
LAST-MODIFIED:20210120T150610Z
UID:1015-1613502000-1613505600@longmeadowhoa.com
SUMMARY:February 2021 HOA Board Meeting
DESCRIPTION:Longmeadow HOA is inviting you to a scheduled Zoom meeting. \nTopic: Longmeadow HOA’s Zoom Meeting\nTime: Feb 16\, 2021 07:00 PM Eastern Time (US and Canada) \nJoin Zoom Meeting\nhttps://us02web.zoom.us/j/88922065962?pwd=TEE0OW9VcVlMMEN5cy9UNHA2ZnRRUT09 \nMeeting ID: 889 2206 5962\nPasscode: 057427\nOne tap mobile\n+13017158592\,\,88922065962#\,\,\,\,*057427# US (Washington D.C)\n+13126266799\,\,88922065962#\,\,\,\,*057427# US (Chicago) \nDial by your location\n+1 301 715 8592 US (Washington D.C)\n+1 312 626 6799 US (Chicago)\n+1 929 205 6099 US (New York)\n+1 253 215 8782 US (Tacoma)\n+1 346 248 7799 US (Houston)\n+1 669 900 6833 US (San Jose)\nMeeting ID: 889 2206 5962\nPasscode: 057427\nFind your local number: https://us02web.zoom.us/u/keE9sIOA7 \n 
URL:https://longmeadowhoa.com/event/hoa-board-meeting-11/
END:VEVENT
BEGIN:VEVENT
DTSTART;VALUE=DATE:20210213
DTEND;VALUE=DATE:20210214
DTSTAMP:20260425T104314
CREATED:20210206T161231Z
LAST-MODIFIED:20210206T163234Z
UID:1046-1613174400-1613260799@longmeadowhoa.com
SUMMARY:Neighborhood Cleanup Day - 2/13 - 9 AM
DESCRIPTION:Click here to RSVP \nVolunteers for the Villages of Longmeadow Neighborhood clean-up day will meet at the pavilion on SATURDAY\, February 13TH @ 9 AM. \nTrash bags\, gloves\, trash pickets\, and maps will be provided.   This is a great opportunity to meet you neighbors and keep our community clean.
URL:https://longmeadowhoa.com/event/neighborhood-cleanup-day_210213/
END:VEVENT
BEGIN:VEVENT
DTSTART;TZID=America/New_York:20210119T190000
DTEND;TZID=America/New_York:20210119T190000
DTSTAMP:20260425T104314
CREATED:20210111T194757Z
LAST-MODIFIED:20210119T234633Z
UID:1012-1611082800-1611082800@longmeadowhoa.com
SUMMARY:January 2021 HOA Board Meeting
DESCRIPTION:Longmeadow HOA is inviting you to a scheduled Zoom meeting. \nTopic: Longmeadow HOA’s Zoom Meeting\nTime: Jan 19\, 2021 07:00 PM Eastern Time (US and Canada) \nJoin Zoom Meeting\nhttps://us02web.zoom.us/j/84534235117?pwd=NGxWVEh2U0NZODAzWjNCWXFma2FKZz09 \nMeeting ID: 845 3423 5117\nPasscode: 211155\nOne tap mobile\n+19292056099\,\,84534235117#\,\,\,\,*211155# US (New York)\n+13017158592\,\,84534235117#\,\,\,\,*211155# US (Washington D.C) \nDial by your location\n+1 929 205 6099 US (New York)\n+1 301 715 8592 US (Washington D.C)\n+1 312 626 6799 US (Chicago)\n+1 669 900 6833 US (San Jose)\n+1 253 215 8782 US (Tacoma)\n+1 346 248 7799 US (Houston)\nMeeting ID: 845 3423 5117\nPasscode: 211155\nFind your local number: https://us02web.zoom.us/u/kbuLWBhX47 \n 
URL:https://longmeadowhoa.com/event/january-2021-hoa-board-meeting/
END:VEVENT
END:VCALENDAR