BEGIN:VCALENDAR
VERSION:2.0
PRODID:-//The Villages of Longmeadow HOA - ECPv6.15.20//NONSGML v1.0//EN
CALSCALE:GREGORIAN
METHOD:PUBLISH
X-WR-CALNAME:The Villages of Longmeadow HOA
X-ORIGINAL-URL:https://longmeadowhoa.com
X-WR-CALDESC:Events for The Villages of Longmeadow HOA
REFRESH-INTERVAL;VALUE=DURATION:PT1H
X-Robots-Tag:noindex
X-PUBLISHED-TTL:PT1H
BEGIN:VTIMEZONE
TZID:America/New_York
BEGIN:DAYLIGHT
TZOFFSETFROM:-0500
TZOFFSETTO:-0400
TZNAME:EDT
DTSTART:20220313T070000
END:DAYLIGHT
BEGIN:STANDARD
TZOFFSETFROM:-0400
TZOFFSETTO:-0500
TZNAME:EST
DTSTART:20221106T060000
END:STANDARD
BEGIN:DAYLIGHT
TZOFFSETFROM:-0500
TZOFFSETTO:-0400
TZNAME:EDT
DTSTART:20230312T070000
END:DAYLIGHT
BEGIN:STANDARD
TZOFFSETFROM:-0400
TZOFFSETTO:-0500
TZNAME:EST
DTSTART:20231105T060000
END:STANDARD
BEGIN:DAYLIGHT
TZOFFSETFROM:-0500
TZOFFSETTO:-0400
TZNAME:EDT
DTSTART:20240310T070000
END:DAYLIGHT
BEGIN:STANDARD
TZOFFSETFROM:-0400
TZOFFSETTO:-0500
TZNAME:EST
DTSTART:20241103T060000
END:STANDARD
BEGIN:DAYLIGHT
TZOFFSETFROM:-0500
TZOFFSETTO:-0400
TZNAME:EDT
DTSTART:20250309T070000
END:DAYLIGHT
BEGIN:STANDARD
TZOFFSETFROM:-0400
TZOFFSETTO:-0500
TZNAME:EST
DTSTART:20251102T060000
END:STANDARD
END:VTIMEZONE
BEGIN:VEVENT
DTSTART;TZID=America/New_York:20240427T090000
DTEND;TZID=America/New_York:20240427T110000
DTSTAMP:20260423T154159
CREATED:20240122T021225Z
LAST-MODIFIED:20240410T021134Z
UID:1794-1714208400-1714215600@longmeadowhoa.com
SUMMARY:Pool Volunteer Day
DESCRIPTION:We have several volunteer opportunities to help get the pool ready for opening weekend.  Anyone is welcome to come on out and help and will be greatly appreciated.  The following tasks are needed\, but it depends on how many volunteers who come out on what we can actually accomplish. \nThe following tasks are needed\, but we are not limited to just these: \n– assess umbrella/tables/chairs\n– sweep pool deck\n– sweep pavilion\n– empty ashes from grill\n– clean grills\n– evaluate downstairs clubhouse pool area\n– help organize pump building\n– identify and address any other needs for upcoming pool season
URL:https://longmeadowhoa.com/event/pool-volunteer-day-3/
END:VEVENT
BEGIN:VEVENT
DTSTART;VALUE=DATE:20240427
DTEND;VALUE=DATE:20240428
DTSTAMP:20260423T154159
CREATED:20240410T012255Z
LAST-MODIFIED:20240410T014655Z
UID:1821-1714176000-1714262399@longmeadowhoa.com
SUMMARY:Clubhouse Rental
DESCRIPTION:
URL:https://longmeadowhoa.com/event/clubhouse-rental-72/
END:VEVENT
BEGIN:VEVENT
DTSTART;VALUE=DATE:20240420
DTEND;VALUE=DATE:20240421
DTSTAMP:20260423T154159
CREATED:20240410T012227Z
LAST-MODIFIED:20240410T014754Z
UID:1819-1713571200-1713657599@longmeadowhoa.com
SUMMARY:Clubhouse Rental
DESCRIPTION:
URL:https://longmeadowhoa.com/event/clubhouse-rental-71/
END:VEVENT
BEGIN:VEVENT
DTSTART;VALUE=DATE:20240414
DTEND;VALUE=DATE:20240415
DTSTAMP:20260423T154159
CREATED:20240410T012139Z
LAST-MODIFIED:20240410T014846Z
UID:1817-1713052800-1713139199@longmeadowhoa.com
SUMMARY:Clubhouse Rental
DESCRIPTION:
URL:https://longmeadowhoa.com/event/clubhouse-rental-70/
END:VEVENT
BEGIN:VEVENT
DTSTART;TZID=America/New_York:20240409T190000
DTEND;TZID=America/New_York:20240409T200000
DTSTAMP:20260423T154159
CREATED:20240122T013707Z
LAST-MODIFIED:20240122T013707Z
UID:1772-1712689200-1712692800@longmeadowhoa.com
SUMMARY:HOA Board Meeting
DESCRIPTION:Villages of Longmeadow HOA Board Mtng. @ Clubhouse (& Zoom) \nLongmeadow HOA is inviting you to a scheduled Zoom meeting. \nTopic: Longmeadow HOA’s Zoom Board Meeting\nTime: 7:00 PM \nJoin Zoom Meeting\nhttps://us02web.zoom.us/j/83247426566?pwd=bExsT2NNWVBGT09qZGx5QUhPTHg5dz09 \nMeeting ID: 832 4742 6566\nPasscode: 095363\nOne tap mobile\n+16469313860\,\,83247426566#\,\,\,\,*095363# US\n+19292056099\,\,83247426566#\,\,\,\,*095363# US (New York) \nDial by your location\n+1 646 931 3860 US\n+1 929 205 6099 US (New York)\n+1 301 715 8592 US (Washington DC)\n+1 305 224 1968 US\n+1 309 205 3325 US\n+1 312 626 6799 US (Chicago)\n+1 386 347 5053 US\n+1 507 473 4847 US\n+1 564 217 2000 US\n+1 669 444 9171 US\n+1 669 900 6833 US (San Jose)\n+1 689 278 1000 US\n+1 719 359 4580 US\n+1 253 205 0468 US\n+1 253 215 8782 US (Tacoma)\n+1 346 248 7799 US (Houston)\n+1 360 209 5623 US\nMeeting ID: 832 4742 6566\nPasscode: 095363\nFind your local number: https://us02web.zoom.us/u/kdBpd4wzA2
URL:https://longmeadowhoa.com/event/hoa-board-meeting-26/
END:VEVENT
BEGIN:VEVENT
DTSTART;VALUE=DATE:20240405
DTEND;VALUE=DATE:20240406
DTSTAMP:20260423T154159
CREATED:20240410T012054Z
LAST-MODIFIED:20240410T014931Z
UID:1815-1712275200-1712361599@longmeadowhoa.com
SUMMARY:Clubhouse Rental
DESCRIPTION:
URL:https://longmeadowhoa.com/event/clubhouse-rental-69/
END:VEVENT
BEGIN:VEVENT
DTSTART;VALUE=DATE:20240330
DTEND;VALUE=DATE:20240331
DTSTAMP:20260423T154159
CREATED:20240410T013144Z
LAST-MODIFIED:20240410T015040Z
UID:1841-1711756800-1711843199@longmeadowhoa.com
SUMMARY:Clubhouse Rental
DESCRIPTION:
URL:https://longmeadowhoa.com/event/clubhouse-rental-82/
END:VEVENT
BEGIN:VEVENT
DTSTART;TZID=America/New_York:20240324T150000
DTEND;TZID=America/New_York:20240324T170000
DTSTAMP:20260423T154159
CREATED:20240122T020921Z
LAST-MODIFIED:20240122T020921Z
UID:1790-1711292400-1711299600@longmeadowhoa.com
SUMMARY:Easter Egg Hunt and Celebration at the Clubhouse
DESCRIPTION:Bring your cameras to take pictures of your children visiting the Easter Bunny. There will be an Easter Egg Hunt for 3 age groups from 2-10 years old. There will be many fun activities for the kids to enjoy including egg races\, face painting\, jewelry making\, chalk drawing\, a cake walk\, coloring\, and corn hole games.  Snacks and beverages will be served. \n 
URL:https://longmeadowhoa.com/event/easter-egg-hunt-and-celebration-at-the-clubhouse/
END:VEVENT
BEGIN:VEVENT
DTSTART;TZID=America/New_York:20240312T190000
DTEND;TZID=America/New_York:20240312T200000
DTSTAMP:20260423T154159
CREATED:20240122T013540Z
LAST-MODIFIED:20240122T013540Z
UID:1770-1710270000-1710273600@longmeadowhoa.com
SUMMARY:HOA Board Meeting
DESCRIPTION:Villages of Longmeadow HOA Board Mtng. @ Clubhouse (& Zoom) \nLongmeadow HOA is inviting you to a scheduled Zoom meeting. \nTopic: Longmeadow HOA’s Zoom Board Meeting\nTime: 7:00 PM \nJoin Zoom Meeting\nhttps://us02web.zoom.us/j/83247426566?pwd=bExsT2NNWVBGT09qZGx5QUhPTHg5dz09 \nMeeting ID: 832 4742 6566\nPasscode: 095363\nOne tap mobile\n+16469313860\,\,83247426566#\,\,\,\,*095363# US\n+19292056099\,\,83247426566#\,\,\,\,*095363# US (New York) \nDial by your location\n+1 646 931 3860 US\n+1 929 205 6099 US (New York)\n+1 301 715 8592 US (Washington DC)\n+1 305 224 1968 US\n+1 309 205 3325 US\n+1 312 626 6799 US (Chicago)\n+1 386 347 5053 US\n+1 507 473 4847 US\n+1 564 217 2000 US\n+1 669 444 9171 US\n+1 669 900 6833 US (San Jose)\n+1 689 278 1000 US\n+1 719 359 4580 US\n+1 253 205 0468 US\n+1 253 215 8782 US (Tacoma)\n+1 346 248 7799 US (Houston)\n+1 360 209 5623 US\nMeeting ID: 832 4742 6566\nPasscode: 095363\nFind your local number: https://us02web.zoom.us/u/kdBpd4wzA2
URL:https://longmeadowhoa.com/event/hoa-board-meeting-25/
END:VEVENT
BEGIN:VEVENT
DTSTART;TZID=America/New_York:20240309T090000
DTEND;TZID=America/New_York:20240309T103000
DTSTAMP:20260423T154159
CREATED:20240122T021505Z
LAST-MODIFIED:20240222T181433Z
UID:1796-1709974800-1709980200@longmeadowhoa.com
SUMMARY:Neighborhood Cleanup Day
DESCRIPTION:We need volunteers for the Villages of Longmeadow Neighborhood clean-up day on Saturday\, 9am to 10:30am (or as long as you can stay). We will meet at the pavilion at 9am.   Trash bags\, gloves and trash pickers will be provided.   This is a great opportunity to meet you neighbors and keep your community clean.  No sign-up is required and a HOA Board member will be present to sign off on Community Service hours.
URL:https://longmeadowhoa.com/event/neighborhood-cleanup-day-4/
END:VEVENT
BEGIN:VEVENT
DTSTART;TZID=America/New_York:20240213T190000
DTEND;TZID=America/New_York:20240213T200000
DTSTAMP:20260423T154159
CREATED:20240122T013326Z
LAST-MODIFIED:20240122T013326Z
UID:1768-1707850800-1707854400@longmeadowhoa.com
SUMMARY:HOA Board Meeting
DESCRIPTION:Villages of Longmeadow HOA Board Mtng. @ Clubhouse (& Zoom) \nLongmeadow HOA is inviting you to a scheduled Zoom meeting. \nTopic: Longmeadow HOA’s Zoom Board Meeting\nTime: 7:00 PM \nJoin Zoom Meeting\nhttps://us02web.zoom.us/j/83247426566?pwd=bExsT2NNWVBGT09qZGx5QUhPTHg5dz09 \nMeeting ID: 832 4742 6566\nPasscode: 095363\nOne tap mobile\n+16469313860\,\,83247426566#\,\,\,\,*095363# US\n+19292056099\,\,83247426566#\,\,\,\,*095363# US (New York) \nDial by your location\n+1 646 931 3860 US\n+1 929 205 6099 US (New York)\n+1 301 715 8592 US (Washington DC)\n+1 305 224 1968 US\n+1 309 205 3325 US\n+1 312 626 6799 US (Chicago)\n+1 386 347 5053 US\n+1 507 473 4847 US\n+1 564 217 2000 US\n+1 669 444 9171 US\n+1 669 900 6833 US (San Jose)\n+1 689 278 1000 US\n+1 719 359 4580 US\n+1 253 205 0468 US\n+1 253 215 8782 US (Tacoma)\n+1 346 248 7799 US (Houston)\n+1 360 209 5623 US\nMeeting ID: 832 4742 6566\nPasscode: 095363\nFind your local number: https://us02web.zoom.us/u/kdBpd4wzA2
URL:https://longmeadowhoa.com/event/hoa-board-meeting-24/
END:VEVENT
BEGIN:VEVENT
DTSTART;TZID=America/New_York:20240210T090000
DTEND;TZID=America/New_York:20240210T230000
DTSTAMP:20260423T154159
CREATED:20231028T005947Z
LAST-MODIFIED:20231028T005947Z
UID:1738-1707555600-1707606000@longmeadowhoa.com
SUMMARY:Clubhouse Rental
DESCRIPTION:Clubhouse Rental
URL:https://longmeadowhoa.com/event/clubhouse-rental-64/
END:VEVENT
BEGIN:VEVENT
DTSTART;TZID=America/New_York:20240116T190000
DTEND;TZID=America/New_York:20240116T200000
DTSTAMP:20260423T154159
CREATED:20240109T224705Z
LAST-MODIFIED:20240116T215021Z
UID:1762-1705431600-1705435200@longmeadowhoa.com
SUMMARY:HOA BOARD MEETING (Rescheduled - originally 1/9/2023)
DESCRIPTION:Villages of Longmeadow HOA Board Mtng. @ Clubhouse (& Zoom) \nLongmeadow HOA is inviting you to a scheduled Zoom meeting. \nTopic: Longmeadow HOA’s Zoom Board Meeting\nTime: 7:00 PM \nJoin Zoom Meeting\nhttps://us02web.zoom.us/j/83247426566?pwd=bExsT2NNWVBGT09qZGx5QUhPTHg5dz09 \nMeeting ID: 832 4742 6566\nPasscode: 095363\nOne tap mobile\n+16469313860\,\,83247426566#\,\,\,\,*095363# US\n+19292056099\,\,83247426566#\,\,\,\,*095363# US (New York) \nDial by your location\n+1 646 931 3860 US\n+1 929 205 6099 US (New York)\n+1 301 715 8592 US (Washington DC)\n+1 305 224 1968 US\n+1 309 205 3325 US\n+1 312 626 6799 US (Chicago)\n+1 386 347 5053 US\n+1 507 473 4847 US\n+1 564 217 2000 US\n+1 669 444 9171 US\n+1 669 900 6833 US (San Jose)\n+1 689 278 1000 US\n+1 719 359 4580 US\n+1 253 205 0468 US\n+1 253 215 8782 US (Tacoma)\n+1 346 248 7799 US (Houston)\n+1 360 209 5623 US\nMeeting ID: 832 4742 6566\nPasscode: 095363\nFind your local number: https://us02web.zoom.us/u/kdBpd4wzA2
URL:https://longmeadowhoa.com/event/1762/
END:VEVENT
BEGIN:VEVENT
DTSTART;TZID=America/New_York:20240113T090000
DTEND;TZID=America/New_York:20240113T230000
DTSTAMP:20260423T154159
CREATED:20231214T162825Z
LAST-MODIFIED:20231214T162825Z
UID:1752-1705136400-1705186800@longmeadowhoa.com
SUMMARY:Clubhouse Rental
DESCRIPTION:Clubhouse Rental 9am-11pm
URL:https://longmeadowhoa.com/event/clubhouse-rental-68/
END:VEVENT
BEGIN:VEVENT
DTSTART;TZID=America/New_York:20240109T190000
DTEND;TZID=America/New_York:20240109T203000
DTSTAMP:20260423T154159
CREATED:20240101T225609Z
LAST-MODIFIED:20240109T224150Z
UID:1757-1704826800-1704832200@longmeadowhoa.com
SUMMARY:POSTPONED DUE TO INCLEMENT WEATHER - HOA Board Meeting - RESCHEDULED FOR 1/16/2023 @ 7 PM
DESCRIPTION:——————————————————————————————–\nPOSTPONED DUE TO INCLEMENT WEATHER – HOA Board Meeting – RESCHEDULED FOR 1/16/2023 @ 7 PM\n——————————————————————————————– \nVillages of Longmeadow HOA Board Mtng. @ Clubhouse (& Zoom) \nLongmeadow HOA is inviting you to a scheduled Zoom meeting. \nTopic: Longmeadow HOA’s Zoom Board Meeting\nTime: 7:00 PM \nJoin Zoom Meeting\nhttps://us02web.zoom.us/j/83247426566?pwd=bExsT2NNWVBGT09qZGx5QUhPTHg5dz09 \nMeeting ID: 832 4742 6566\nPasscode: 095363\nOne tap mobile\n+16469313860\,\,83247426566#\,\,\,\,*095363# US\n+19292056099\,\,83247426566#\,\,\,\,*095363# US (New York) \nDial by your location\n+1 646 931 3860 US\n+1 929 205 6099 US (New York)\n+1 301 715 8592 US (Washington DC)\n+1 305 224 1968 US\n+1 309 205 3325 US\n+1 312 626 6799 US (Chicago)\n+1 386 347 5053 US\n+1 507 473 4847 US\n+1 564 217 2000 US\n+1 669 444 9171 US\n+1 669 900 6833 US (San Jose)\n+1 689 278 1000 US\n+1 719 359 4580 US\n+1 253 205 0468 US\n+1 253 215 8782 US (Tacoma)\n+1 346 248 7799 US (Houston)\n+1 360 209 5623 US\nMeeting ID: 832 4742 6566\nPasscode: 095363\nFind your local number: https://us02web.zoom.us/u/kdBpd4wzA2
URL:https://longmeadowhoa.com/event/hoa-board-meeting-23/
END:VEVENT
BEGIN:VEVENT
DTSTART;TZID=America/New_York:20240106T090000
DTEND;TZID=America/New_York:20240106T230000
DTSTAMP:20260423T154159
CREATED:20231214T162702Z
LAST-MODIFIED:20231214T162702Z
UID:1750-1704531600-1704582000@longmeadowhoa.com
SUMMARY:Clubhouse Rental
DESCRIPTION:Clubhouse Rental 9am-11pm
URL:https://longmeadowhoa.com/event/clubhouse-rental-67/
END:VEVENT
BEGIN:VEVENT
DTSTART;TZID=America/New_York:20231230T090000
DTEND;TZID=America/New_York:20231230T230000
DTSTAMP:20260423T154159
CREATED:20231214T161553Z
LAST-MODIFIED:20231214T161553Z
UID:1747-1703926800-1703977200@longmeadowhoa.com
SUMMARY:Clubhouse Rental
DESCRIPTION:Clubhouse Rental 9am-11pm
URL:https://longmeadowhoa.com/event/clubhouse-rental-66/
END:VEVENT
BEGIN:VEVENT
DTSTART;TZID=America/New_York:20231225T080000
DTEND;TZID=America/New_York:20231225T090000
DTSTAMP:20260423T154159
CREATED:20230212T215130Z
LAST-MODIFIED:20230212T215130Z
UID:1567-1703491200-1703494800@longmeadowhoa.com
SUMMARY:Luminary Clean Up
DESCRIPTION:Luminary Clean Up on Longmeadow Blvd and the villages
URL:https://longmeadowhoa.com/event/luminary-clean-up-2/
END:VEVENT
BEGIN:VEVENT
DTSTART;TZID=America/New_York:20231224T150000
DTEND;TZID=America/New_York:20231224T170000
DTSTAMP:20260423T154159
CREATED:20230212T214952Z
LAST-MODIFIED:20230212T214952Z
UID:1565-1703430000-1703437200@longmeadowhoa.com
SUMMARY:Christmas Eve Luminary Lighting
DESCRIPTION:Christmas Eve Luminary Lighting on Longmeadow Blvd and the villages
URL:https://longmeadowhoa.com/event/christmas-eve-luminary-lighting-3/
END:VEVENT
BEGIN:VEVENT
DTSTART;TZID=America/New_York:20231223T090000
DTEND;TZID=America/New_York:20231223T230000
DTSTAMP:20260423T154159
CREATED:20231214T161435Z
LAST-MODIFIED:20231214T161435Z
UID:1745-1703322000-1703372400@longmeadowhoa.com
SUMMARY:Clubhouse Rental
DESCRIPTION:Clubhouse Rental 9am-11pm
URL:https://longmeadowhoa.com/event/clubhouse-rental-65/
END:VEVENT
BEGIN:VEVENT
DTSTART;TZID=America/New_York:20231216T183000
DTEND;TZID=America/New_York:20231216T203000
DTSTAMP:20260423T154159
CREATED:20230212T214454Z
LAST-MODIFIED:20231214T162244Z
UID:1561-1702751400-1702758600@longmeadowhoa.com
SUMMARY:Christmas Holiday Celebration
DESCRIPTION:Christmas Holiday Celebration @ the Clubhouse.  Celebrate with Santa\, cocoa\, snacks\, and a ride on the RVA Trolley around Longmeadow to enjoy our Christmas lights.
URL:https://longmeadowhoa.com/event/christmas-holiday-celebration/
END:VEVENT
BEGIN:VEVENT
DTSTART;TZID=America/New_York:20231216T180000
DTEND;TZID=America/New_York:20231216T193000
DTSTAMP:20260423T154159
CREATED:20230212T214728Z
LAST-MODIFIED:20230212T214728Z
UID:1563-1702749600-1702755000@longmeadowhoa.com
SUMMARY:Luminaries Pick Up
DESCRIPTION:Luminaries Pick Up @ Clubhouse
URL:https://longmeadowhoa.com/event/luminaries-pick-up-2/
END:VEVENT
BEGIN:VEVENT
DTSTART;TZID=America/New_York:20231215T090000
DTEND;TZID=America/New_York:20231215T230000
DTSTAMP:20260423T154159
CREATED:20231028T005831Z
LAST-MODIFIED:20231028T005831Z
UID:1736-1702630800-1702681200@longmeadowhoa.com
SUMMARY:Clubhouse Rental
DESCRIPTION:Clubhouse Rental
URL:https://longmeadowhoa.com/event/clubhouse-rental-63/
END:VEVENT
BEGIN:VEVENT
DTSTART;TZID=America/New_York:20231209T090000
DTEND;TZID=America/New_York:20231209T230000
DTSTAMP:20260423T154159
CREATED:20231028T005640Z
LAST-MODIFIED:20231028T005640Z
UID:1734-1702112400-1702162800@longmeadowhoa.com
SUMMARY:Clubhouse Rental
DESCRIPTION:Clubhouse Rental
URL:https://longmeadowhoa.com/event/clubhouse-rental-62/
END:VEVENT
BEGIN:VEVENT
DTSTART;TZID=America/New_York:20231205T190000
DTEND;TZID=America/New_York:20231205T203000
DTSTAMP:20260423T154159
CREATED:20230211T212539Z
LAST-MODIFIED:20230211T212539Z
UID:1531-1701802800-1701808200@longmeadowhoa.com
SUMMARY:HOA Board Meeting
DESCRIPTION:Villages of Longmeadow HOA Board Mtng. @ Clubhouse (& Zoom) \nLongmeadow HOA is inviting you to a scheduled Zoom meeting. \nTopic: Longmeadow HOA’s Zoom Board Meeting\nTime: This is a recurring meeting Meet anytime \nJoin Zoom Meeting\nhttps://us02web.zoom.us/j/83247426566?pwd=bExsT2NNWVBGT09qZGx5QUhPTHg5dz09 \nMeeting ID: 832 4742 6566\nPasscode: 095363\nOne tap mobile\n+16469313860\,\,83247426566#\,\,\,\,*095363# US\n+19292056099\,\,83247426566#\,\,\,\,*095363# US (New York) \nDial by your location\n+1 646 931 3860 US\n+1 929 205 6099 US (New York)\n+1 301 715 8592 US (Washington DC)\n+1 305 224 1968 US\n+1 309 205 3325 US\n+1 312 626 6799 US (Chicago)\n+1 386 347 5053 US\n+1 507 473 4847 US\n+1 564 217 2000 US\n+1 669 444 9171 US\n+1 669 900 6833 US (San Jose)\n+1 689 278 1000 US\n+1 719 359 4580 US\n+1 253 205 0468 US\n+1 253 215 8782 US (Tacoma)\n+1 346 248 7799 US (Houston)\n+1 360 209 5623 US\nMeeting ID: 832 4742 6566\nPasscode: 095363\nFind your local number: https://us02web.zoom.us/u/kdBpd4wzA2
URL:https://longmeadowhoa.com/event/hoa-board-meeting-22/
END:VEVENT
BEGIN:VEVENT
DTSTART;TZID=America/New_York:20231125T090000
DTEND;TZID=America/New_York:20231125T230000
DTSTAMP:20260423T154159
CREATED:20231028T005155Z
LAST-MODIFIED:20231028T005155Z
UID:1732-1700902800-1700953200@longmeadowhoa.com
SUMMARY:Clubhouse Rental
DESCRIPTION:Clubhouse Rental
URL:https://longmeadowhoa.com/event/clubhouse-rental-61/
END:VEVENT
BEGIN:VEVENT
DTSTART;TZID=America/New_York:20231118T090000
DTEND;TZID=America/New_York:20231118T230000
DTSTAMP:20260423T154159
CREATED:20231028T005029Z
LAST-MODIFIED:20231028T005029Z
UID:1730-1700298000-1700348400@longmeadowhoa.com
SUMMARY:Clubhouse Rental
DESCRIPTION:Clubhouse Rental
URL:https://longmeadowhoa.com/event/clubhouse-rental-60/
END:VEVENT
BEGIN:VEVENT
DTSTART;TZID=America/New_York:20231107T190000
DTEND;TZID=America/New_York:20231107T203000
DTSTAMP:20260423T154159
CREATED:20230211T212414Z
LAST-MODIFIED:20231028T010338Z
UID:1529-1699383600-1699389000@longmeadowhoa.com
SUMMARY:HOA Board Meeting
DESCRIPTION:Villages of Longmeadow HOA Board Mtng. @ Clubhouse (& Zoom) \nLongmeadow HOA is inviting you to a scheduled Zoom meeting. \nTopic: Longmeadow HOA’s Zoom Board Meeting\nTime: This is a recurring meeting Meet anytime \nJoin Zoom Meeting\nhttps://us02web.zoom.us/j/83247426566?pwd=bExsT2NNWVBGT09qZGx5QUhPTHg5dz09 \nMeeting ID: 832 4742 6566\nPasscode: 095363\nOne tap mobile\n+16469313860\,\,83247426566#\,\,\,\,*095363# US\n+19292056099\,\,83247426566#\,\,\,\,*095363# US (New York) \nDial by your location\n+1 646 931 3860 US\n+1 929 205 6099 US (New York)\n+1 301 715 8592 US (Washington DC)\n+1 305 224 1968 US\n+1 309 205 3325 US\n+1 312 626 6799 US (Chicago)\n+1 386 347 5053 US\n+1 507 473 4847 US\n+1 564 217 2000 US\n+1 669 444 9171 US\n+1 669 900 6833 US (San Jose)\n+1 689 278 1000 US\n+1 719 359 4580 US\n+1 253 205 0468 US\n+1 253 215 8782 US (Tacoma)\n+1 346 248 7799 US (Houston)\n+1 360 209 5623 US\nMeeting ID: 832 4742 6566\nPasscode: 095363\nFind your local number: https://us02web.zoom.us/u/kdBpd4wzA2
URL:https://longmeadowhoa.com/event/hoa-board-meeting-21/
END:VEVENT
BEGIN:VEVENT
DTSTART;TZID=America/New_York:20231107T183000
DTEND;TZID=America/New_York:20231107T200000
DTSTAMP:20260423T154159
CREATED:20231028T010227Z
LAST-MODIFIED:20231028T010227Z
UID:1740-1699381800-1699387200@longmeadowhoa.com
SUMMARY:Annual HOA Board Meeting
DESCRIPTION:Annual HOA Board Meeting – bring your votes! \n\n\n6:30 pm – 8:30 pm\nAnnual HOA Board Meeting\n\n\n\n\n7:00 pm – 8:30 pm\nHOA Board Meeting
URL:https://longmeadowhoa.com/event/annual-hoa-board-meeting-5/
END:VEVENT
BEGIN:VEVENT
DTSTART;TZID=America/New_York:20231104T090000
DTEND;TZID=America/New_York:20231104T230000
DTSTAMP:20260423T154159
CREATED:20231028T004935Z
LAST-MODIFIED:20231028T004935Z
UID:1728-1699088400-1699138800@longmeadowhoa.com
SUMMARY:Clubhouse Rental
DESCRIPTION:Clubhouse Rental
URL:https://longmeadowhoa.com/event/clubhouse-rental-59/
END:VEVENT
END:VCALENDAR