BEGIN:VCALENDAR
VERSION:2.0
PRODID:-//The Villages of Longmeadow HOA - ECPv6.15.20//NONSGML v1.0//EN
CALSCALE:GREGORIAN
METHOD:PUBLISH
X-WR-CALNAME:The Villages of Longmeadow HOA
X-ORIGINAL-URL:http://longmeadowhoa.com
X-WR-CALDESC:Events for The Villages of Longmeadow HOA
REFRESH-INTERVAL;VALUE=DURATION:PT1H
X-Robots-Tag:noindex
X-PUBLISHED-TTL:PT1H
BEGIN:VTIMEZONE
TZID:America/New_York
BEGIN:DAYLIGHT
TZOFFSETFROM:-0500
TZOFFSETTO:-0400
TZNAME:EDT
DTSTART:20220313T070000
END:DAYLIGHT
BEGIN:STANDARD
TZOFFSETFROM:-0400
TZOFFSETTO:-0500
TZNAME:EST
DTSTART:20221106T060000
END:STANDARD
BEGIN:DAYLIGHT
TZOFFSETFROM:-0500
TZOFFSETTO:-0400
TZNAME:EDT
DTSTART:20230312T070000
END:DAYLIGHT
BEGIN:STANDARD
TZOFFSETFROM:-0400
TZOFFSETTO:-0500
TZNAME:EST
DTSTART:20231105T060000
END:STANDARD
BEGIN:DAYLIGHT
TZOFFSETFROM:-0500
TZOFFSETTO:-0400
TZNAME:EDT
DTSTART:20240310T070000
END:DAYLIGHT
BEGIN:STANDARD
TZOFFSETFROM:-0400
TZOFFSETTO:-0500
TZNAME:EST
DTSTART:20241103T060000
END:STANDARD
END:VTIMEZONE
BEGIN:VEVENT
DTSTART;TZID=America/New_York:20231003T183000
DTEND;TZID=America/New_York:20231003T203000
DTSTAMP:20260424T000308
CREATED:20230212T213638Z
LAST-MODIFIED:20231003T015730Z
UID:1557-1696357800-1696365000@longmeadowhoa.com
SUMMARY:Annual HOA Board Meeting
DESCRIPTION:Annual HOA Board Meeting – Come Vote from 6:30p-7p! \nLongmeadow HOA is inviting you to a scheduled Zoom meeting. \nTopic: Longmeadow HOA’s Zoom Board Meeting\nTime: This is a recurring meeting Meet anytime \nJoin Zoom Meeting\nhttps://us02web.zoom.us/j/83247426566?pwd=bExsT2NNWVBGT09qZGx5QUhPTHg5dz09 \nMeeting ID: 832 4742 6566\nPasscode: 095363\nOne tap mobile\n+13462487799\,\,83247426566#\,\,\,\,*095363# US (Houston)\n+16699006833\,\,83247426566#\,\,\,\,*095363# US (San Jose) \nDial by your location\n+1 346 248 7799 US (Houston)\n+1 669 900 6833 US (San Jose)\n+1 253 215 8782 US (Tacoma)\n+1 312 626 6799 US (Chicago)\n+1 929 205 6099 US (New York)\n+1 301 715 8592 US (Washington DC)\nMeeting ID: 832 4742 6566\nPasscode: 095363\nFind your local number: https://us02web.zoom.us/u/kdBpd4wzA2
URL:http://longmeadowhoa.com/event/annual-hoa-board-meeting-4/
END:VEVENT
BEGIN:VEVENT
DTSTART;TZID=America/New_York:20231003T190000
DTEND;TZID=America/New_York:20231003T203000
DTSTAMP:20260424T000308
CREATED:20230211T212204Z
LAST-MODIFIED:20230211T212233Z
UID:1527-1696359600-1696365000@longmeadowhoa.com
SUMMARY:HOA Board Meeting
DESCRIPTION:Villages of Longmeadow HOA Board Mtng. @ Clubhouse (& Zoom) \nLongmeadow HOA is inviting you to a scheduled Zoom meeting. \nTopic: Longmeadow HOA’s Zoom Board Meeting\nTime: This is a recurring meeting Meet anytime \nJoin Zoom Meeting\nhttps://us02web.zoom.us/j/83247426566?pwd=bExsT2NNWVBGT09qZGx5QUhPTHg5dz09 \nMeeting ID: 832 4742 6566\nPasscode: 095363\nOne tap mobile\n+16469313860\,\,83247426566#\,\,\,\,*095363# US\n+19292056099\,\,83247426566#\,\,\,\,*095363# US (New York) \nDial by your location\n+1 646 931 3860 US\n+1 929 205 6099 US (New York)\n+1 301 715 8592 US (Washington DC)\n+1 305 224 1968 US\n+1 309 205 3325 US\n+1 312 626 6799 US (Chicago)\n+1 386 347 5053 US\n+1 507 473 4847 US\n+1 564 217 2000 US\n+1 669 444 9171 US\n+1 669 900 6833 US (San Jose)\n+1 689 278 1000 US\n+1 719 359 4580 US\n+1 253 205 0468 US\n+1 253 215 8782 US (Tacoma)\n+1 346 248 7799 US (Houston)\n+1 360 209 5623 US\nMeeting ID: 832 4742 6566\nPasscode: 095363\nFind your local number: https://us02web.zoom.us/u/kdBpd4wzA2
URL:http://longmeadowhoa.com/event/hoa-board-meeting-20/
END:VEVENT
BEGIN:VEVENT
DTSTART;TZID=America/New_York:20231015T140000
DTEND;TZID=America/New_York:20231015T180000
DTSTAMP:20260424T000308
CREATED:20231003T020247Z
LAST-MODIFIED:20231003T020247Z
UID:1718-1697378400-1697392800@longmeadowhoa.com
SUMMARY:Seniors Meet & Greet Together from Villages of Longmeadow
DESCRIPTION:Villages of Longmeadow’s Seniors Meet & Greet Together\, at our Clubhouse.
URL:http://longmeadowhoa.com/event/seniors-meet-greet-together-from-villages-of-longmeadow/
END:VEVENT
BEGIN:VEVENT
DTSTART;TZID=America/New_York:20231021T090000
DTEND;TZID=America/New_York:20231021T230000
DTSTAMP:20260424T000308
CREATED:20231003T020922Z
LAST-MODIFIED:20231003T020922Z
UID:1720-1697878800-1697929200@longmeadowhoa.com
SUMMARY:Clubhouse Rental
DESCRIPTION:Clubhouse Rental
URL:http://longmeadowhoa.com/event/clubhouse-rental-56/
END:VEVENT
BEGIN:VEVENT
DTSTART;TZID=America/New_York:20231028T030000
DTEND;TZID=America/New_York:20231028T170000
DTSTAMP:20260424T000308
CREATED:20230212T213839Z
LAST-MODIFIED:20231027T223616Z
UID:1559-1698462000-1698512400@longmeadowhoa.com
SUMMARY:Cancelled - Fall Festival and Trunk or Treat @ the Clubhouse
DESCRIPTION:Cancelled
URL:http://longmeadowhoa.com/event/1559/
END:VEVENT
BEGIN:VEVENT
DTSTART;TZID=America/New_York:20231028T090000
DTEND;TZID=America/New_York:20231028T230000
DTSTAMP:20260424T000308
CREATED:20231028T004525Z
LAST-MODIFIED:20231028T004832Z
UID:1726-1698483600-1698534000@longmeadowhoa.com
SUMMARY:Clubhouse Rental
DESCRIPTION:Clubhouse Rental
URL:http://longmeadowhoa.com/event/clubhouse-rental-58/
END:VEVENT
END:VCALENDAR