BEGIN:VCALENDAR
VERSION:2.0
PRODID:-//The Villages of Longmeadow HOA - ECPv6.15.20//NONSGML v1.0//EN
CALSCALE:GREGORIAN
METHOD:PUBLISH
X-WR-CALNAME:The Villages of Longmeadow HOA
X-ORIGINAL-URL:http://longmeadowhoa.com
X-WR-CALDESC:Events for The Villages of Longmeadow HOA
REFRESH-INTERVAL;VALUE=DURATION:PT1H
X-Robots-Tag:noindex
X-PUBLISHED-TTL:PT1H
BEGIN:VTIMEZONE
TZID:America/New_York
BEGIN:DAYLIGHT
TZOFFSETFROM:-0500
TZOFFSETTO:-0400
TZNAME:EDT
DTSTART:20220313T070000
END:DAYLIGHT
BEGIN:STANDARD
TZOFFSETFROM:-0400
TZOFFSETTO:-0500
TZNAME:EST
DTSTART:20221106T060000
END:STANDARD
BEGIN:DAYLIGHT
TZOFFSETFROM:-0500
TZOFFSETTO:-0400
TZNAME:EDT
DTSTART:20230312T070000
END:DAYLIGHT
BEGIN:STANDARD
TZOFFSETFROM:-0400
TZOFFSETTO:-0500
TZNAME:EST
DTSTART:20231105T060000
END:STANDARD
BEGIN:DAYLIGHT
TZOFFSETFROM:-0500
TZOFFSETTO:-0400
TZNAME:EDT
DTSTART:20240310T070000
END:DAYLIGHT
BEGIN:STANDARD
TZOFFSETFROM:-0400
TZOFFSETTO:-0500
TZNAME:EST
DTSTART:20241103T060000
END:STANDARD
END:VTIMEZONE
BEGIN:VEVENT
DTSTART;TZID=America/New_York:20230506T080000
DTEND;TZID=America/New_York:20230506T120000
DTSTAMP:20260424T073113
CREATED:20230211T215934Z
LAST-MODIFIED:20230211T222807Z
UID:1541-1683360000-1683374400@longmeadowhoa.com
SUMMARY:Community Yard Sale
DESCRIPTION:
URL:http://longmeadowhoa.com/event/community-yard-sale-5/
END:VEVENT
BEGIN:VEVENT
DTSTART;TZID=America/New_York:20230507T090000
DTEND;TZID=America/New_York:20230507T230000
DTSTAMP:20260424T073113
CREATED:20230326T212620Z
LAST-MODIFIED:20230326T212620Z
UID:1592-1683450000-1683500400@longmeadowhoa.com
SUMMARY:Clubhouse Rental
DESCRIPTION:Clubhouse Rental
URL:http://longmeadowhoa.com/event/clubhouse-rental-41/
END:VEVENT
BEGIN:VEVENT
DTSTART;TZID=America/New_York:20230513T073000
DTEND;TZID=America/New_York:20230513T113000
DTSTAMP:20260424T073113
CREATED:20230211T220338Z
LAST-MODIFIED:20230510T000527Z
UID:1543-1683963000-1683977400@longmeadowhoa.com
SUMMARY:Dumpsters at the Clubhouse and Neighborhood Cleanup Day
DESCRIPTION:  \nSign up to volunteer here: https://www.signupgenius.com/go/10c0e4fa9a72baaf8c70-dumpsters#/ \nJust in time to get to get rid of that stuff you couldn’t sell at the yard sale and you can’t even give away.  PLEASE tell your neighbors of this free opportunity to de-clutter their yard\, house\, garage\, deck\, etc. \nItems are NOT accepted in the dumpsters: \n\nMattresses / box springs\nTires\nMedical hazardous waste\nFreon (including freon appliances and tanks)\nLiquid or flammable products (paint can be dried up with kitty litter)\n\nTo help answer any questions about the items that are not accepted\, here are the why’s\, explained: \n\nThese items are not allowed in the dumpsters because\, ultimately\, Choice doesn’t take them.\n\no   For each mattress or box spring there is a $250 fee from the landfill that is passed along on the invoice.  They damage landfill equipment. \n\nCurrently the Southern Area Convenience Center\, located at 6700 Landfill Dr.\, they are still taking mattresses and box springs.\nThey are limiting mattresses and box springs to a certain amount for each residential household\, per year.\n\no   The landfill will not accept tires at all since they need to be recycled at another facility. \n\nThe Convenience Centers do accept regular-sized tires\, though for a fee and then hauls them by bulk to a tire recycling facility.\n\no   Freon requires a recovery technician to safely handle the freon and/or pressurized tanks. \n\nThe Convenience Center accepts Freon and Freon appliances for $15 each and contracts a Recovery Technician to handle them.\n\no   Liquids leak out of the dumpsters onto the roads and often make a big mess. \n  \n 
URL:http://longmeadowhoa.com/event/dumpsters-at-the-clubhouse-2/
END:VEVENT
BEGIN:VEVENT
DTSTART;TZID=America/New_York:20230516T190000
DTEND;TZID=America/New_York:20230516T203000
DTSTAMP:20260424T073113
CREATED:20230211T204301Z
LAST-MODIFIED:20230509T234753Z
UID:1517-1684263600-1684269000@longmeadowhoa.com
SUMMARY:HOA Board Meeting
DESCRIPTION:Villages of Longmeadow HOA Board Mtng. @ Clubhouse (& Zoom) \nLongmeadow HOA is inviting you to a scheduled Zoom meeting. \nTopic: Longmeadow HOA’s Zoom Board Meeting\nTime: This is a recurring meeting Meet anytime \nJoin Zoom Meeting\nhttps://us02web.zoom.us/j/83247426566?pwd=bExsT2NNWVBGT09qZGx5QUhPTHg5dz09 \nMeeting ID: 832 4742 6566\nPasscode: 095363\nOne tap mobile\n+16469313860\,\,83247426566#\,\,\,\,*095363# US\n+19292056099\,\,83247426566#\,\,\,\,*095363# US (New York) \nDial by your location\n+1 646 931 3860 US\n+1 929 205 6099 US (New York)\n+1 301 715 8592 US (Washington DC)\n+1 305 224 1968 US\n+1 309 205 3325 US\n+1 312 626 6799 US (Chicago)\n+1 386 347 5053 US\n+1 507 473 4847 US\n+1 564 217 2000 US\n+1 669 444 9171 US\n+1 669 900 6833 US (San Jose)\n+1 689 278 1000 US\n+1 719 359 4580 US\n+1 253 205 0468 US\n+1 253 215 8782 US (Tacoma)\n+1 346 248 7799 US (Houston)\n+1 360 209 5623 US\nMeeting ID: 832 4742 6566\nPasscode: 095363\nFind your local number: https://us02web.zoom.us/u/kdBpd4wzA2
URL:http://longmeadowhoa.com/event/hoa-board-meeting-15/
END:VEVENT
BEGIN:VEVENT
DTSTART;TZID=America/New_York:20230527T080000
DTEND;TZID=America/New_York:20230527T170000
DTSTAMP:20260424T073113
CREATED:20230211T221328Z
LAST-MODIFIED:20230211T221328Z
UID:1549-1685174400-1685206800@longmeadowhoa.com
SUMMARY:Pool Opens For the Summer
DESCRIPTION:
URL:http://longmeadowhoa.com/event/pool-opens-for-the-summer-2/
END:VEVENT
BEGIN:VEVENT
DTSTART;TZID=America/New_York:20230527T090000
DTEND;TZID=America/New_York:20230527T220000
DTSTAMP:20260424T073113
CREATED:20230121T115207Z
LAST-MODIFIED:20230121T115207Z
UID:1500-1685178000-1685224800@longmeadowhoa.com
SUMMARY:Clubhouse Rental
DESCRIPTION:Clubhouse Rental
URL:http://longmeadowhoa.com/event/clubhouse-rental-36/
END:VEVENT
BEGIN:VEVENT
DTSTART;TZID=America/New_York:20230529T113000
DTEND;TZID=America/New_York:20230529T123000
DTSTAMP:20260424T073113
CREATED:20230211T221159Z
LAST-MODIFIED:20230529T133301Z
UID:1547-1685359800-1685363400@longmeadowhoa.com
SUMMARY:CANCELED - Memorial Day Hotdog and Ice Cream Social at the Clubhouse and Pool
DESCRIPTION:CANCELED – Memorial Day Hotdog and Ice Cream Social at the Clubhouse and Pool \nCANCELED due to prediction of continued rain and not enough Volunteers to continue this Event.
URL:http://longmeadowhoa.com/event/memorial-day-hotdog-and-ice-cream-social-at-the-clubhouse-and-pool-3/
END:VEVENT
END:VCALENDAR