BEGIN:VCALENDAR
VERSION:2.0
PRODID:-//The Villages of Longmeadow HOA - ECPv6.15.20//NONSGML v1.0//EN
CALSCALE:GREGORIAN
METHOD:PUBLISH
X-ORIGINAL-URL:http://longmeadowhoa.com
X-WR-CALDESC:Events for The Villages of Longmeadow HOA
REFRESH-INTERVAL;VALUE=DURATION:PT1H
X-Robots-Tag:noindex
X-PUBLISHED-TTL:PT1H
BEGIN:VTIMEZONE
TZID:America/New_York
BEGIN:DAYLIGHT
TZOFFSETFROM:-0500
TZOFFSETTO:-0400
TZNAME:EDT
DTSTART:20220313T070000
END:DAYLIGHT
BEGIN:STANDARD
TZOFFSETFROM:-0400
TZOFFSETTO:-0500
TZNAME:EST
DTSTART:20221106T060000
END:STANDARD
BEGIN:DAYLIGHT
TZOFFSETFROM:-0500
TZOFFSETTO:-0400
TZNAME:EDT
DTSTART:20230312T070000
END:DAYLIGHT
BEGIN:STANDARD
TZOFFSETFROM:-0400
TZOFFSETTO:-0500
TZNAME:EST
DTSTART:20231105T060000
END:STANDARD
BEGIN:DAYLIGHT
TZOFFSETFROM:-0500
TZOFFSETTO:-0400
TZNAME:EDT
DTSTART:20240310T070000
END:DAYLIGHT
BEGIN:STANDARD
TZOFFSETFROM:-0400
TZOFFSETTO:-0500
TZNAME:EST
DTSTART:20241103T060000
END:STANDARD
END:VTIMEZONE
BEGIN:VEVENT
DTSTART;TZID=America/New_York:20230401T090000
DTEND;TZID=America/New_York:20230401T230000
DTSTAMP:20260424T091610
CREATED:20230307T235540Z
LAST-MODIFIED:20230307T235540Z
UID:1585-1680339600-1680390000@longmeadowhoa.com
SUMMARY:Clubhouse Rental
DESCRIPTION:Clubhouse Rental   9a-10p
URL:http://longmeadowhoa.com/event/clubhouse-rental-39/
END:VEVENT
BEGIN:VEVENT
DTSTART;TZID=America/New_York:20230401T150000
DTEND;TZID=America/New_York:20230401T200000
DTSTAMP:20260424T091610
CREATED:20230329T204534Z
LAST-MODIFIED:20230329T204534Z
UID:1599-1680361200-1680379200@longmeadowhoa.com
SUMMARY:Pavilion Reservation - George
DESCRIPTION:Pavilion Reservation – George
URL:http://longmeadowhoa.com/event/pavilion-reservation-george/
END:VEVENT
BEGIN:VEVENT
DTSTART;TZID=America/New_York:20230402T150000
DTEND;TZID=America/New_York:20230402T160000
DTSTAMP:20260424T091610
CREATED:20230211T220743Z
LAST-MODIFIED:20230211T220743Z
UID:1545-1680447600-1680451200@longmeadowhoa.com
SUMMARY:Easter Egg Hunt at the Clubhouse
DESCRIPTION:
URL:http://longmeadowhoa.com/event/easter-egg-hunt-at-the-clubhouse-2/
END:VEVENT
BEGIN:VEVENT
DTSTART;TZID=America/New_York:20230404T190000
DTEND;TZID=America/New_York:20230404T200000
DTSTAMP:20260424T091610
CREATED:20230211T203904Z
LAST-MODIFIED:20230404T022127Z
UID:1514-1680634800-1680638400@longmeadowhoa.com
SUMMARY:HOA Board Meeting
DESCRIPTION:Villages of Longmeadow HOA Board Mtng. @ Clubhouse (& Zoom) \nLongmeadow HOA is inviting you to a scheduled Zoom meeting. \nTopic: Longmeadow HOA’s Zoom Board Meeting\nTime: This is a recurring meeting Meet anytime \nJoin Zoom Meeting\nhttps://us02web.zoom.us/j/83247426566?pwd=bExsT2NNWVBGT09qZGx5QUhPTHg5dz09 \nMeeting ID: 832 4742 6566\nPasscode: 095363\nOne tap mobile\n+16469313860\,\,83247426566#\,\,\,\,*095363# US\n+19292056099\,\,83247426566#\,\,\,\,*095363# US (New York) \nDial by your location\n+1 646 931 3860 US\n+1 929 205 6099 US (New York)\n+1 301 715 8592 US (Washington DC)\n+1 305 224 1968 US\n+1 309 205 3325 US\n+1 312 626 6799 US (Chicago)\n+1 386 347 5053 US\n+1 507 473 4847 US\n+1 564 217 2000 US\n+1 669 444 9171 US\n+1 669 900 6833 US (San Jose)\n+1 689 278 1000 US\n+1 719 359 4580 US\n+1 253 205 0468 US\n+1 253 215 8782 US (Tacoma)\n+1 346 248 7799 US (Houston)\n+1 360 209 5623 US\nMeeting ID: 832 4742 6566\nPasscode: 095363\nFind your local number: https://us02web.zoom.us/u/kdBpd4wzA2
URL:http://longmeadowhoa.com/event/hoa-board-meeting-14/
END:VEVENT
BEGIN:VEVENT
DTSTART;TZID=America/New_York:20230408T090000
DTEND;TZID=America/New_York:20230408T100000
DTSTAMP:20260424T091610
CREATED:20230211T213952Z
LAST-MODIFIED:20230405T010811Z
UID:1536-1680944400-1680948000@longmeadowhoa.com
SUMMARY:Neighborhood Cleanup Day
DESCRIPTION:Click here to RSVP \nVolunteers for the Villages of Longmeadow Neighborhood clean-up day will meet at the pavilion on Saturday\, April 8 @ 9 AM.\nTrash bags\, gloves\, trash pickets\, and maps will be provided.   This is a great opportunity to meet you neighbors and keep our community clean.
URL:http://longmeadowhoa.com/event/20230408/
END:VEVENT
BEGIN:VEVENT
DTSTART;TZID=America/New_York:20230415T090000
DTEND;TZID=America/New_York:20230415T230000
DTSTAMP:20260424T091610
CREATED:20230326T212226Z
LAST-MODIFIED:20230326T212226Z
UID:1590-1681549200-1681599600@longmeadowhoa.com
SUMMARY:Clubhouse Rental
DESCRIPTION:Clubhouse Rental
URL:http://longmeadowhoa.com/event/clubhouse-rental-40/
END:VEVENT
BEGIN:VEVENT
DTSTART;TZID=America/New_York:20230429T090000
DTEND;TZID=America/New_York:20230429T110000
DTSTAMP:20260424T091610
CREATED:20230211T215534Z
LAST-MODIFIED:20230404T232108Z
UID:1539-1682758800-1682766000@longmeadowhoa.com
SUMMARY:Pool Volunteer Day
DESCRIPTION:We have several volunteer opportunities to help get the pool ready for opening weekend: \n– paint lifeguard stand(s)\n– assess umbrella/tables/chairs\n– sweep pool deck\n– sweep pavilion\n– empty ashes from grill\n– clean grills\n– evaluate downstairs clubhouse pool area\n– help organize pump building\n– identify and address any other needs for upcoming pool season
URL:http://longmeadowhoa.com/event/pool-volunteer-day-2/
END:VEVENT
END:VCALENDAR