BEGIN:VCALENDAR
VERSION:2.0
PRODID:-//The Villages of Longmeadow HOA - ECPv6.15.20//NONSGML v1.0//EN
CALSCALE:GREGORIAN
METHOD:PUBLISH
X-ORIGINAL-URL:http://longmeadowhoa.com
X-WR-CALDESC:Events for The Villages of Longmeadow HOA
REFRESH-INTERVAL;VALUE=DURATION:PT1H
X-Robots-Tag:noindex
X-PUBLISHED-TTL:PT1H
BEGIN:VTIMEZONE
TZID:America/New_York
BEGIN:DAYLIGHT
TZOFFSETFROM:-0500
TZOFFSETTO:-0400
TZNAME:EDT
DTSTART:20210314T070000
END:DAYLIGHT
BEGIN:STANDARD
TZOFFSETFROM:-0400
TZOFFSETTO:-0500
TZNAME:EST
DTSTART:20211107T060000
END:STANDARD
BEGIN:DAYLIGHT
TZOFFSETFROM:-0500
TZOFFSETTO:-0400
TZNAME:EDT
DTSTART:20220313T070000
END:DAYLIGHT
BEGIN:STANDARD
TZOFFSETFROM:-0400
TZOFFSETTO:-0500
TZNAME:EST
DTSTART:20221106T060000
END:STANDARD
BEGIN:DAYLIGHT
TZOFFSETFROM:-0500
TZOFFSETTO:-0400
TZNAME:EDT
DTSTART:20230312T070000
END:DAYLIGHT
BEGIN:STANDARD
TZOFFSETFROM:-0400
TZOFFSETTO:-0500
TZNAME:EST
DTSTART:20231105T060000
END:STANDARD
END:VTIMEZONE
BEGIN:VEVENT
DTSTART;TZID=America/New_York:20220903T090000
DTEND;TZID=America/New_York:20220903T220000
DTSTAMP:20260424T203206
CREATED:20220727T183903Z
LAST-MODIFIED:20220727T183903Z
UID:1376-1662195600-1662242400@longmeadowhoa.com
SUMMARY:Clubhouse Rental
DESCRIPTION:Clubhouse Rental
URL:http://longmeadowhoa.com/event/clubhouse-rental-14/
END:VEVENT
BEGIN:VEVENT
DTSTART;TZID=America/New_York:20220906T190000
DTEND;TZID=America/New_York:20220906T200000
DTSTAMP:20260424T203206
CREATED:20220727T181549Z
LAST-MODIFIED:20220906T223631Z
UID:1356-1662490800-1662494400@longmeadowhoa.com
SUMMARY:HOA Board Mtng.
DESCRIPTION:Villages of Longmeadow HOA Board Mtng. @ Clubhouse (& Zoom) \nLongmeadow HOA is inviting you to a scheduled Zoom meeting. \nTopic: Longmeadow HOA’s Zoom Board Meeting\nTime: This is a recurring meeting Meet anytime \nJoin Zoom Meeting\nhttps://us02web.zoom.us/j/83247426566?pwd=bExsT2NNWVBGT09qZGx5QUhPTHg5dz09 \nMeeting ID: 832 4742 6566\nPasscode: 095363\nOne tap mobile\n+13462487799\,\,83247426566#\,\,\,\,*095363# US (Houston)\n+16699006833\,\,83247426566#\,\,\,\,*095363# US (San Jose) \nDial by your location\n+1 346 248 7799 US (Houston)\n+1 669 900 6833 US (San Jose)\n+1 253 215 8782 US (Tacoma)\n+1 312 626 6799 US (Chicago)\n+1 929 205 6099 US (New York)\n+1 301 715 8592 US (Washington DC)\nMeeting ID: 832 4742 6566\nPasscode: 095363\nFind your local number: https://us02web.zoom.us/u/kdBpd4wzA2 \n 
URL:http://longmeadowhoa.com/event/hoa-board-mtng-2/
END:VEVENT
BEGIN:VEVENT
DTSTART;TZID=America/New_York:20220910T090000
DTEND;TZID=America/New_York:20220910T103000
DTSTAMP:20260424T203206
CREATED:20220810T140019Z
LAST-MODIFIED:20220908T013339Z
UID:1262-1662800400-1662805800@longmeadowhoa.com
SUMMARY:Neighborhood Cleanup Day - 9/10 - 9AM
DESCRIPTION:Click here to RSVP \nVolunteers for the Villages of Longmeadow Neighborhood clean-up day will meet at the pavilion on Saturday\, Sept 10th @ 9 AM. \nTrash bags\, gloves\, trash pickets\, and maps will be provided.   This is a great opportunity to meet you neighbors and keep our community clean.
URL:http://longmeadowhoa.com/event/https-www-signupgenius-com-go-10c0e4fa9a72baaf8c70-neighborhood5/
END:VEVENT
BEGIN:VEVENT
DTSTART;TZID=America/New_York:20220911T150000
DTEND;TZID=America/New_York:20220911T180000
DTSTAMP:20260424T203206
CREATED:20220906T210526Z
LAST-MODIFIED:20220910T194224Z
UID:1415-1662908400-1662919200@longmeadowhoa.com
SUMMARY:Clubhouse Neighborhood Networking Gathering
DESCRIPTION:Clubhouse Neighborhood Networking Gathering
URL:http://longmeadowhoa.com/event/clubhouse-reserved-for-hoa/
END:VEVENT
BEGIN:VEVENT
DTSTART;TZID=America/New_York:20220924T090000
DTEND;TZID=America/New_York:20220924T220000
DTSTAMP:20260424T203206
CREATED:20220906T205132Z
LAST-MODIFIED:20220906T205132Z
UID:1405-1664010000-1664056800@longmeadowhoa.com
SUMMARY:Clubhouse Rental
DESCRIPTION:Clubhouse Rental
URL:http://longmeadowhoa.com/event/clubhouse-rental-16/
END:VEVENT
END:VCALENDAR