BEGIN:VCALENDAR
VERSION:2.0
PRODID:-//The Villages of Longmeadow HOA - ECPv6.15.20//NONSGML v1.0//EN
CALSCALE:GREGORIAN
METHOD:PUBLISH
X-WR-CALNAME:The Villages of Longmeadow HOA
X-ORIGINAL-URL:http://longmeadowhoa.com
X-WR-CALDESC:Events for The Villages of Longmeadow HOA
REFRESH-INTERVAL;VALUE=DURATION:PT1H
X-Robots-Tag:noindex
X-PUBLISHED-TTL:PT1H
BEGIN:VTIMEZONE
TZID:America/New_York
BEGIN:DAYLIGHT
TZOFFSETFROM:-0500
TZOFFSETTO:-0400
TZNAME:EDT
DTSTART:20200308T070000
END:DAYLIGHT
BEGIN:STANDARD
TZOFFSETFROM:-0400
TZOFFSETTO:-0500
TZNAME:EST
DTSTART:20201101T060000
END:STANDARD
BEGIN:DAYLIGHT
TZOFFSETFROM:-0500
TZOFFSETTO:-0400
TZNAME:EDT
DTSTART:20210314T070000
END:DAYLIGHT
BEGIN:STANDARD
TZOFFSETFROM:-0400
TZOFFSETTO:-0500
TZNAME:EST
DTSTART:20211107T060000
END:STANDARD
BEGIN:DAYLIGHT
TZOFFSETFROM:-0500
TZOFFSETTO:-0400
TZNAME:EDT
DTSTART:20220313T070000
END:DAYLIGHT
BEGIN:STANDARD
TZOFFSETFROM:-0400
TZOFFSETTO:-0500
TZNAME:EST
DTSTART:20221106T060000
END:STANDARD
BEGIN:DAYLIGHT
TZOFFSETFROM:-0500
TZOFFSETTO:-0400
TZNAME:EDT
DTSTART:20230312T070000
END:DAYLIGHT
BEGIN:STANDARD
TZOFFSETFROM:-0400
TZOFFSETTO:-0500
TZNAME:EST
DTSTART:20231105T060000
END:STANDARD
END:VTIMEZONE
BEGIN:VEVENT
DTSTART;TZID=America/New_York:20220409T090000
DTEND;TZID=America/New_York:20220409T100000
DTSTAMP:20260425T062825
CREATED:20220328T235612Z
LAST-MODIFIED:20220328T235751Z
UID:1244-1649494800-1649498400@longmeadowhoa.com
SUMMARY:Neighborhood Cleanup Day - 4/9 - 9 AM
DESCRIPTION:Click here to RSVP \nVolunteers for the Villages of Longmeadow Neighborhood clean-up day will meet at the pavilion on SATURDAY\, April 9TH @ 9 AM. \nTrash bags\, gloves\, trash pickets\, and maps will be provided.   This is a great opportunity to meet you neighbors and keep our community clean.
URL:http://longmeadowhoa.com/event/trashcleanup_20220409/
END:VEVENT
BEGIN:VEVENT
DTSTART;TZID=America/New_York:20220322T190000
DTEND;TZID=America/New_York:20220322T200000
DTSTAMP:20260425T062825
CREATED:20220322T223321Z
LAST-MODIFIED:20220328T233028Z
UID:1233-1647975600-1647979200@longmeadowhoa.com
SUMMARY:March Board Meeting - Rescheduled - 7 PM
DESCRIPTION:Longmeadow HOA is inviting you to a scheduled Zoom meeting. \nTopic: Longmeadow HOA’s Zoom Board Meeting\nTime: This is a recurring meeting Meet anytime \nJoin Zoom Meeting\nhttps://us02web.zoom.us/j/83247426566?pwd=bExsT2NNWVBGT09qZGx5QUhPTHg5dz09 \nMeeting ID: 832 4742 6566\nPasscode: 095363\nOne tap mobile\n+13462487799\,\,83247426566#\,\,\,\,*095363# US (Houston)\n+16699006833\,\,83247426566#\,\,\,\,*095363# US (San Jose) \nDial by your location\n+1 346 248 7799 US (Houston)\n+1 669 900 6833 US (San Jose)\n+1 253 215 8782 US (Tacoma)\n+1 312 626 6799 US (Chicago)\n+1 929 205 6099 US (New York)\n+1 301 715 8592 US (Washington DC)\nMeeting ID: 832 4742 6566\nPasscode: 095363\nFind your local number: https://us02web.zoom.us/u/kdBpd4wzA2 \n 
URL:http://longmeadowhoa.com/event/march-board-meeting-rescheduled-7-pm/
END:VEVENT
BEGIN:VEVENT
DTSTART;TZID=America/New_York:20220315T190000
DTEND;TZID=America/New_York:20220315T200000
DTSTAMP:20260425T062825
CREATED:20220315T211601Z
LAST-MODIFIED:20220315T220029Z
UID:1228-1647370800-1647374400@longmeadowhoa.com
SUMMARY:March Board Meeting - Rescheduled
DESCRIPTION:Rescheduled for 3/22
URL:http://longmeadowhoa.com/event/march-board-meeting-7-pm/
END:VEVENT
BEGIN:VEVENT
DTSTART;TZID=America/New_York:20220222T190000
DTEND;TZID=America/New_York:20220222T200000
DTSTAMP:20260425T062825
CREATED:20220222T124633Z
LAST-MODIFIED:20220222T124752Z
UID:1219-1645556400-1645560000@longmeadowhoa.com
SUMMARY:Rescheduled - February 2022 HOA Board Meeting
DESCRIPTION:Longmeadow HOA is inviting you to a scheduled Zoom meeting. \nTopic: Longmeadow HOA’s Zoom Board Meeting\nTime: This is a recurring meeting Meet anytime \nJoin Zoom Meeting\nhttps://us02web.zoom.us/j/83247426566?pwd=bExsT2NNWVBGT09qZGx5QUhPTHg5dz09 \nMeeting ID: 832 4742 6566\nPasscode: 095363\nOne tap mobile\n+13126266799\,\,83247426566#\,\,\,\,*095363# US (Chicago)\n+19292056099\,\,83247426566#\,\,\,\,*095363# US (New York) \nDial by your location\n+1 312 626 6799 US (Chicago)\n+1 929 205 6099 US (New York)\n+1 301 715 8592 US (Washington DC)\n+1 346 248 7799 US (Houston)\n+1 669 900 6833 US (San Jose)\n+1 253 215 8782 US (Tacoma)\nMeeting ID: 832 4742 6566\nPasscode: 095363\nFind your local number: https://us02web.zoom.us/u/kdBpd4wzA2 \n 
URL:http://longmeadowhoa.com/event/rescheduled-february-2022-hoa-board-meeting/
END:VEVENT
BEGIN:VEVENT
DTSTART;TZID=America/New_York:20220215T190000
DTEND;TZID=America/New_York:20220215T200000
DTSTAMP:20260425T062825
CREATED:20220215T231418Z
LAST-MODIFIED:20220215T231418Z
UID:1214-1644951600-1644955200@longmeadowhoa.com
SUMMARY:February 2022 HOA Board Meeting
DESCRIPTION:Longmeadow HOA is inviting you to a scheduled Zoom meeting. \nTopic: Longmeadow HOA’s Zoom Board Meeting\nTime: This is a recurring meeting Meet anytime \nJoin Zoom Meeting\nhttps://us02web.zoom.us/j/83247426566?pwd=bExsT2NNWVBGT09qZGx5QUhPTHg5dz09 \nMeeting ID: 832 4742 6566\nPasscode: 095363\nOne tap mobile\n+13126266799\,\,83247426566#\,\,\,\,*095363# US (Chicago)\n+19292056099\,\,83247426566#\,\,\,\,*095363# US (New York) \nDial by your location\n+1 312 626 6799 US (Chicago)\n+1 929 205 6099 US (New York)\n+1 301 715 8592 US (Washington DC)\n+1 346 248 7799 US (Houston)\n+1 669 900 6833 US (San Jose)\n+1 253 215 8782 US (Tacoma)\nMeeting ID: 832 4742 6566\nPasscode: 095363\nFind your local number: https://us02web.zoom.us/u/kdBpd4wzA2 \n 
URL:http://longmeadowhoa.com/event/february-2022-hoa-board-meeting/
LOCATION:Clubhouse\, 2819 Longmeadow\, Chester\, VA\, 23831
END:VEVENT
BEGIN:VEVENT
DTSTART;TZID=America/New_York:20220118T190000
DTEND;TZID=America/New_York:20220118T200000
DTSTAMP:20260425T062825
CREATED:20220118T213235Z
LAST-MODIFIED:20220118T213235Z
UID:1211-1642532400-1642536000@longmeadowhoa.com
SUMMARY:Rescheduled Annual Meeting 2021
DESCRIPTION:Longmeadow HOA is inviting you to a scheduled Zoom meeting. \nTopic: Annual Meeting\nTime: Jan 18\, 2022 07:00 PM Eastern Time (US and Canada) \nJoin Zoom Meeting\nhttps://us02web.zoom.us/j/87139772337?pwd=aFNPZithTEJ2SDQvUVdCZDlPaWpuUT09 \nMeeting ID: 871 3977 2337\nPasscode: 052901\nOne tap mobile\n+19292056099\,\,87139772337#\,\,\,\,*052901# US (New York)\n+13126266799\,\,87139772337#\,\,\,\,*052901# US (Chicago) \nDial by your location\n+1 929 205 6099 US (New York)\n+1 312 626 6799 US (Chicago)\n+1 301 715 8592 US (Washington DC)\n+1 253 215 8782 US (Tacoma)\n+1 346 248 7799 US (Houston)\n+1 669 900 6833 US (San Jose)\nMeeting ID: 871 3977 2337\nPasscode: 052901\nFind your local number: https://us02web.zoom.us/u/kcW0SzERLr \n 
URL:http://longmeadowhoa.com/event/rescheduled-annual-meeting-2021/
END:VEVENT
BEGIN:VEVENT
DTSTART;TZID=America/New_York:20211225T090000
DTEND;TZID=America/New_York:20211225T120000
DTSTAMP:20260425T062825
CREATED:20210305T153601Z
LAST-MODIFIED:20210305T153601Z
UID:1095-1640422800-1640433600@longmeadowhoa.com
SUMMARY:Luminary Cleanup
DESCRIPTION:All residents are asked to pick up luminaries that were placed along the streets around their homes.  Please be a good neighbor and help by picking up and discarding the luminaries.
URL:http://longmeadowhoa.com/event/luminary-cleanup/
END:VEVENT
BEGIN:VEVENT
DTSTART;TZID=America/New_York:20211224T150000
DTEND;TZID=America/New_York:20211224T170000
DTSTAMP:20260425T062825
CREATED:20210305T153601Z
LAST-MODIFIED:20210305T153601Z
UID:1094-1640358000-1640365200@longmeadowhoa.com
SUMMARY:Christmas Eve Luminary Lighting
DESCRIPTION:Neighbors who picked up luminaries should place and light luminaries between 3-5 p.m.
URL:http://longmeadowhoa.com/event/christmas-eve-luminary-lighting/
END:VEVENT
BEGIN:VEVENT
DTSTART;TZID=America/New_York:20211221T190000
DTEND;TZID=America/New_York:20211221T200000
DTSTAMP:20260425T062825
CREATED:20210120T144820Z
LAST-MODIFIED:20210120T150452Z
UID:1035-1640113200-1640116800@longmeadowhoa.com
SUMMARY:December 2021 HOA Board Meeting
DESCRIPTION:Longmeadow HOA is inviting you to a scheduled Zoom meeting.\nTopic: Longmeadow HOA’s Zoom Meeting\nTime: This is a recurring meeting Meet anytime \nJoin Zoom Meeting\nhttps://us02web.zoom.us/j/83247426566?pwd=bExsT2NNWVBGT09qZGx5QUhPTHg5dz09 \nMeeting ID: 832 4742 6566\nPasscode: 095363\nOne tap mobile\n+13126266799\,\,83247426566#\,\,\,\,*095363# US (Chicago)\n+19292056099\,\,83247426566#\,\,\,\,*095363# US (New York) \nDial by your location\n+1 312 626 6799 US (Chicago)\n+1 929 205 6099 US (New York)\n+1 301 715 8592 US (Washington D.C)\n+1 346 248 7799 US (Houston)\n+1 669 900 6833 US (San Jose)\n+1 253 215 8782 US (Tacoma)\nMeeting ID: 832 4742 6566\nPasscode: 095363\nFind your local number: https://us02web.zoom.us/u/kdBpd4wzA2
URL:http://longmeadowhoa.com/event/december-2021-hoa-board-meeting/
END:VEVENT
BEGIN:VEVENT
DTSTART;TZID=America/New_York:20211220T183000
DTEND;TZID=America/New_York:20211220T193000
DTSTAMP:20260425T062825
CREATED:20211211T164304Z
LAST-MODIFIED:20211211T164304Z
UID:1202-1640025000-1640028600@longmeadowhoa.com
SUMMARY:Luminary P/U at Clubhouse
DESCRIPTION:
URL:http://longmeadowhoa.com/event/luminary-p-u-at-clubhouse/
END:VEVENT
BEGIN:VEVENT
DTSTART;TZID=America/New_York:20211219T140000
DTEND;TZID=America/New_York:20211219T153000
DTSTAMP:20260425T062825
CREATED:20211219T190013Z
LAST-MODIFIED:20211218T203112Z
UID:1205-1639922400-1639927800@longmeadowhoa.com
SUMMARY:Santa's Riding thru Longmeadow!
DESCRIPTION:2p-3:30p Santa is riding through Longmeadow with a goodie for each child!  (Rain canceled Sat.)
URL:http://longmeadowhoa.com/event/santas-riding-thru-longmeadow/
END:VEVENT
BEGIN:VEVENT
DTSTART;TZID=America/New_York:20211219T140000
DTEND;TZID=America/New_York:20211219T153000
DTSTAMP:20260425T062825
CREATED:20211218T203435Z
LAST-MODIFIED:20211218T203435Z
UID:1208-1639922400-1639927800@longmeadowhoa.com
SUMMARY:Santa's Riding thru Longmeadow!
DESCRIPTION:2p-3:30p Santa is riding through Longmeadow with a goodie for each child!  (Rain canceled Sat.)
URL:http://longmeadowhoa.com/event/santas-riding-thru-longmeadow-2/
END:VEVENT
BEGIN:VEVENT
DTSTART;VALUE=DATE:20211211
DTEND;VALUE=DATE:20211212
DTSTAMP:20260425T062825
CREATED:20210206T170147Z
LAST-MODIFIED:20210206T170147Z
UID:1070-1639180800-1639267199@longmeadowhoa.com
SUMMARY:Neighborhood Cleanup Day - 12/11 - 9 AM
DESCRIPTION:Click here to RSVP \nVolunteers for the Villages of Longmeadow Neighborhood clean-up day will meet at the pavilion on SATURDAY\, December 11TH @ 9 AM. \nTrash bags\, gloves\, trash pickets\, and maps will be provided.   This is a great opportunity to meet you neighbors and keep our community clean.
URL:http://longmeadowhoa.com/event/neighborhood-cleanup-day_211211/
END:VEVENT
BEGIN:VEVENT
DTSTART;TZID=America/New_York:20211116T190000
DTEND;TZID=America/New_York:20211116T200000
DTSTAMP:20260425T062825
CREATED:20210120T144819Z
LAST-MODIFIED:20210120T150428Z
UID:1034-1637089200-1637092800@longmeadowhoa.com
SUMMARY:November 2021 HOA Board Meeting
DESCRIPTION:Longmeadow HOA is inviting you to a scheduled Zoom meeting.\nTopic: Longmeadow HOA’s Zoom Meeting\nTime: This is a recurring meeting Meet anytime \nJoin Zoom Meeting\nhttps://us02web.zoom.us/j/83247426566?pwd=bExsT2NNWVBGT09qZGx5QUhPTHg5dz09 \nMeeting ID: 832 4742 6566\nPasscode: 095363\nOne tap mobile\n+13126266799\,\,83247426566#\,\,\,\,*095363# US (Chicago)\n+19292056099\,\,83247426566#\,\,\,\,*095363# US (New York) \nDial by your location\n+1 312 626 6799 US (Chicago)\n+1 929 205 6099 US (New York)\n+1 301 715 8592 US (Washington D.C)\n+1 346 248 7799 US (Houston)\n+1 669 900 6833 US (San Jose)\n+1 253 215 8782 US (Tacoma)\nMeeting ID: 832 4742 6566\nPasscode: 095363\nFind your local number: https://us02web.zoom.us/u/kdBpd4wzA2
URL:http://longmeadowhoa.com/event/november-2021-hoa-board-meeting/
END:VEVENT
BEGIN:VEVENT
DTSTART;VALUE=DATE:20211113
DTEND;VALUE=DATE:20211114
DTSTAMP:20260425T062825
CREATED:20210206T170018Z
LAST-MODIFIED:20210206T170349Z
UID:1068-1636761600-1636847999@longmeadowhoa.com
SUMMARY:Neighborhood Cleanup Day - 11/13 - 9 AM
DESCRIPTION:Click here to RSVP \nVolunteers for the Villages of Longmeadow Neighborhood clean-up day will meet at the pavilion on SATURDAY\, November 13TH @ 9 AM. \nTrash bags\, gloves\, trash pickets\, and maps will be provided.   This is a great opportunity to meet you neighbors and keep our community clean.
URL:http://longmeadowhoa.com/event/neighborhood-cleanup-day_211113/
END:VEVENT
BEGIN:VEVENT
DTSTART;TZID=America/New_York:20211106T120000
DTEND;TZID=America/New_York:20211106T140000
DTSTAMP:20260425T062825
CREATED:20210305T153557Z
LAST-MODIFIED:20211030T021438Z
UID:1091-1636200000-1636207200@longmeadowhoa.com
SUMMARY:A Turkey Trail & Treats all along our Walking Path/Trail!
DESCRIPTION:Come celebrate the fall.  On 11/6 from 12p-2p each Village in Longmeadow is asked to ‘bring your pumpkins’ and “decorate your section of the walking path/trail!”  We’re thinking of tables/stations to be visited as neighbors walk this Turkey Trail.  Setup your own station.  Some ideas are:  a haunted station\, a hot chocolate station\, a nutella station\, etc.  And we’ll set up a hot dog & chips & drinks station\, a toy station\, a craft station\, a treats station\, etc.  Have fun and be creative!  Remember\, adults are coming around to enjoy the Turkey Trail as well as children…  🙂
URL:http://longmeadowhoa.com/event/fall-festival-and-trunk-or-treat-at-the-clubhouse/
END:VEVENT
BEGIN:VEVENT
DTSTART;TZID=America/New_York:20211019T190000
DTEND;TZID=America/New_York:20211019T200000
DTSTAMP:20260425T062825
CREATED:20210120T144819Z
LAST-MODIFIED:20210120T150403Z
UID:1033-1634670000-1634673600@longmeadowhoa.com
SUMMARY:October 2021 HOA Board Meeting
DESCRIPTION:Longmeadow HOA is inviting you to a scheduled Zoom meeting.\nTopic: Longmeadow HOA’s Zoom Meeting\nTime: This is a recurring meeting Meet anytime \nJoin Zoom Meeting\nhttps://us02web.zoom.us/j/83247426566?pwd=bExsT2NNWVBGT09qZGx5QUhPTHg5dz09 \nMeeting ID: 832 4742 6566\nPasscode: 095363\nOne tap mobile\n+13126266799\,\,83247426566#\,\,\,\,*095363# US (Chicago)\n+19292056099\,\,83247426566#\,\,\,\,*095363# US (New York) \nDial by your location\n+1 312 626 6799 US (Chicago)\n+1 929 205 6099 US (New York)\n+1 301 715 8592 US (Washington D.C)\n+1 346 248 7799 US (Houston)\n+1 669 900 6833 US (San Jose)\n+1 253 215 8782 US (Tacoma)\nMeeting ID: 832 4742 6566\nPasscode: 095363\nFind your local number: https://us02web.zoom.us/u/kdBpd4wzA2
URL:http://longmeadowhoa.com/event/october-2021-hoa-board-meeting/
END:VEVENT
BEGIN:VEVENT
DTSTART;VALUE=DATE:20211009
DTEND;VALUE=DATE:20211010
DTSTAMP:20260425T062825
CREATED:20210206T165858Z
LAST-MODIFIED:20210206T170414Z
UID:1066-1633737600-1633823999@longmeadowhoa.com
SUMMARY:Neighborhood Cleanup Day - 10/9 - 9 AM
DESCRIPTION:Click here to RSVP \nVolunteers for the Villages of Longmeadow Neighborhood clean-up day will meet at the pavilion on SATURDAY\, October 9TH @ 9 AM. \nTrash bags\, gloves\, trash pickets\, and maps will be provided.   This is a great opportunity to meet you neighbors and keep our community clean.
URL:http://longmeadowhoa.com/event/neighborhood-cleanup-day_211009/
END:VEVENT
BEGIN:VEVENT
DTSTART;TZID=America/New_York:20211002T080000
DTEND;TZID=America/New_York:20211002T120000
DTSTAMP:20260425T062825
CREATED:20210928T151402Z
LAST-MODIFIED:20210928T151402Z
UID:1190-1633161600-1633176000@longmeadowhoa.com
SUMMARY:Community Yard Sale
DESCRIPTION:
URL:http://longmeadowhoa.com/event/community-yard-sale-3/
END:VEVENT
BEGIN:VEVENT
DTSTART;TZID=America/New_York:20210928T190000
DTEND;TZID=America/New_York:20210928T200000
DTSTAMP:20260425T062825
CREATED:20210928T151819Z
LAST-MODIFIED:20210928T224546Z
UID:1192-1632855600-1632859200@longmeadowhoa.com
SUMMARY:September 2021 HOA Board Meeting Rescheduled
DESCRIPTION:Longmeadow HOA is inviting you to a scheduled Zoom meeting. \nTopic: Longmeadow HOA’s Zoom Board Meeting\nTime: This is a recurring meeting Meet anytime \nJoin Zoom Meeting\nhttps://us02web.zoom.us/j/83247426566?pwd=bExsT2NNWVBGT09qZGx5QUhPTHg5dz09 \nMeeting ID: 832 4742 6566\nPasscode: 095363\nOne tap mobile\n+13126266799\,\,83247426566#\,\,\,\,*095363# US (Chicago)\n+19292056099\,\,83247426566#\,\,\,\,*095363# US (New York) \nDial by your location\n+1 312 626 6799 US (Chicago)\n+1 929 205 6099 US (New York)\n+1 301 715 8592 US (Washington DC)\n+1 346 248 7799 US (Houston)\n+1 669 900 6833 US (San Jose)\n+1 253 215 8782 US (Tacoma)\nMeeting ID: 832 4742 6566\nPasscode: 095363\nFind your local number: https://us02web.zoom.us/u/kdBpd4wzA2 \n 
URL:http://longmeadowhoa.com/event/september-2021-hoa-board-meeting-rescheduled/
END:VEVENT
BEGIN:VEVENT
DTSTART;TZID=America/New_York:20210923T170000
DTEND;TZID=America/New_York:20210923T193000
DTSTAMP:20260425T062825
CREATED:20210921T233039Z
LAST-MODIFIED:20210921T233350Z
UID:1187-1632416400-1632425400@longmeadowhoa.com
SUMMARY:FOOD TRUCK - Funnel Cake Recess - 5PM-7:30PM
DESCRIPTION:
URL:http://longmeadowhoa.com/event/food-truck-funnel-cake-recess-5pm-730pm-2/
END:VEVENT
BEGIN:VEVENT
DTSTART;TZID=America/New_York:20210921T190000
DTEND;TZID=America/New_York:20210921T200000
DTSTAMP:20260425T062825
CREATED:20210120T144819Z
LAST-MODIFIED:20210120T150319Z
UID:1032-1632250800-1632254400@longmeadowhoa.com
SUMMARY:September 2021 HOA Board Meeting
DESCRIPTION:Longmeadow HOA is inviting you to a scheduled Zoom meeting.\nTopic: Longmeadow HOA’s Zoom Meeting\nTime: This is a recurring meeting Meet anytime \nJoin Zoom Meeting\nhttps://us02web.zoom.us/j/83247426566?pwd=bExsT2NNWVBGT09qZGx5QUhPTHg5dz09 \nMeeting ID: 832 4742 6566\nPasscode: 095363\nOne tap mobile\n+13126266799\,\,83247426566#\,\,\,\,*095363# US (Chicago)\n+19292056099\,\,83247426566#\,\,\,\,*095363# US (New York) \nDial by your location\n+1 312 626 6799 US (Chicago)\n+1 929 205 6099 US (New York)\n+1 301 715 8592 US (Washington D.C)\n+1 346 248 7799 US (Houston)\n+1 669 900 6833 US (San Jose)\n+1 253 215 8782 US (Tacoma)\nMeeting ID: 832 4742 6566\nPasscode: 095363\nFind your local number: https://us02web.zoom.us/u/kdBpd4wzA2
URL:http://longmeadowhoa.com/event/september-2021-hoa-board-meeting/
END:VEVENT
BEGIN:VEVENT
DTSTART;TZID=America/New_York:20210913T190000
DTEND;TZID=America/New_York:20210913T200000
DTSTAMP:20260425T062825
CREATED:20210324T021109Z
LAST-MODIFIED:20210324T021109Z
UID:1129-1631559600-1631563200@longmeadowhoa.com
SUMMARY:Committee Night at the Clubhouse
DESCRIPTION:This night is for Longmeadow Residents interested in volunteering and participating in any of the planning activities for each committee.  This will be a regularly scheduled event\, on the second Monday of each month. Please reference the committee webpage for a description of the committees. \nThe Villages of Longmeadow Committees
URL:http://longmeadowhoa.com/event/committee-night-20210913/
END:VEVENT
BEGIN:VEVENT
DTSTART;VALUE=DATE:20210911
DTEND;VALUE=DATE:20210912
DTSTAMP:20260425T062825
CREATED:20210206T165532Z
LAST-MODIFIED:20210206T165532Z
UID:1064-1631318400-1631404799@longmeadowhoa.com
SUMMARY:Neighborhood Cleanup Day - 9/11 - 9 AM
DESCRIPTION:Click here to RSVP \nVolunteers for the Villages of Longmeadow Neighborhood clean-up day will meet at the pavilion on SATURDAY\, September 11TH @ 9 AM. \nTrash bags\, gloves\, trash pickets\, and maps will be provided.   This is a great opportunity to meet you neighbors and keep our community clean.
URL:http://longmeadowhoa.com/event/neighborhood-cleanup-day_210911/
END:VEVENT
BEGIN:VEVENT
DTSTART;VALUE=DATE:20210822
DTEND;VALUE=DATE:20210823
DTSTAMP:20260425T062825
CREATED:20210801T174317Z
LAST-MODIFIED:20210801T174342Z
UID:1181-1629590400-1629676799@longmeadowhoa.com
SUMMARY:Pavillion Reserved – McGovern – 8/22 – 1PM-4PM - Phillips
DESCRIPTION:
URL:http://longmeadowhoa.com/event/pavillion-reserved-mcgovern-8-22-1pm-4pm-phillips/
END:VEVENT
BEGIN:VEVENT
DTSTART;VALUE=DATE:20210814
DTEND;VALUE=DATE:20210815
DTSTAMP:20260425T062825
CREATED:20210206T165418Z
LAST-MODIFIED:20210206T170327Z
UID:1062-1628899200-1628985599@longmeadowhoa.com
SUMMARY:Neighborhood Cleanup Day - 8/14 - 9 AM
DESCRIPTION:Click here to RSVP \nVolunteers for the Villages of Longmeadow Neighborhood clean-up day will meet at the pavilion on SATURDAY\, August 14TH @ 9 AM. \nTrash bags\, gloves\, trash pickets\, and maps will be provided.   This is a great opportunity to meet you neighbors and keep our community clean.
URL:http://longmeadowhoa.com/event/neighborhood-cleanup-day_210814/
END:VEVENT
BEGIN:VEVENT
DTSTART;TZID=America/New_York:20210810T190000
DTEND;TZID=America/New_York:20210810T200000
DTSTAMP:20260425T062825
CREATED:20210120T144816Z
LAST-MODIFIED:20210120T150240Z
UID:1031-1628622000-1628625600@longmeadowhoa.com
SUMMARY:August 2021 HOA Board Meeting
DESCRIPTION:Longmeadow HOA is inviting you to a scheduled Zoom meeting.\nTopic: Longmeadow HOA’s Zoom Meeting\nTime: This is a recurring meeting Meet anytime \nJoin Zoom Meeting\nhttps://us02web.zoom.us/j/83247426566?pwd=bExsT2NNWVBGT09qZGx5QUhPTHg5dz09 \nMeeting ID: 832 4742 6566\nPasscode: 095363\nOne tap mobile\n+13126266799\,\,83247426566#\,\,\,\,*095363# US (Chicago)\n+19292056099\,\,83247426566#\,\,\,\,*095363# US (New York) \nDial by your location\n+1 312 626 6799 US (Chicago)\n+1 929 205 6099 US (New York)\n+1 301 715 8592 US (Washington D.C)\n+1 346 248 7799 US (Houston)\n+1 669 900 6833 US (San Jose)\n+1 253 215 8782 US (Tacoma)\nMeeting ID: 832 4742 6566\nPasscode: 095363\nFind your local number: https://us02web.zoom.us/u/kdBpd4wzA2
URL:http://longmeadowhoa.com/event/august-2021-hoa-board-meeting/
END:VEVENT
BEGIN:VEVENT
DTSTART;TZID=America/New_York:20210809T190000
DTEND;TZID=America/New_York:20210809T200000
DTSTAMP:20260425T062825
CREATED:20210324T020521Z
LAST-MODIFIED:20210324T020752Z
UID:1127-1628535600-1628539200@longmeadowhoa.com
SUMMARY:Committee Night at the Clubhouse
DESCRIPTION:This night is for Longmeadow Residents interested in volunteering and participating in any of the planning activities for each committee.  This will be a regularly scheduled event\, on the second Monday of each month. Please reference the committee webpage for a description of the committees. \nThe Villages of Longmeadow Committees
URL:http://longmeadowhoa.com/event/committee-night-20210809/
END:VEVENT
BEGIN:VEVENT
DTSTART;TZID=America/New_York:20210803T180000
DTEND;TZID=America/New_York:20210803T200000
DTSTAMP:20260425T062825
CREATED:20210305T153557Z
LAST-MODIFIED:20210801T174459Z
UID:1090-1628013600-1628020800@longmeadowhoa.com
SUMMARY:National Night Out
DESCRIPTION:Come meet your neighbors at this family event\, as well as Chesterfield County Police\, Fire and Emergency Officials and learn how we can work as partners to help keep our neighborhood safe. We plan on having McGruff the Crime Dog or Sparky the Fire Dog. There are activities planned for the kids in addition to swimming in the pool. The event is free and all Longmeadow residents are welcome. Food and beverages will be served.
URL:http://longmeadowhoa.com/event/national-night-out-4/
END:VEVENT
BEGIN:VEVENT
DTSTART;TZID=America/New_York:20210720T190000
DTEND;TZID=America/New_York:20210720T200000
DTSTAMP:20260425T062825
CREATED:20210120T144816Z
LAST-MODIFIED:20210120T150208Z
UID:1030-1626807600-1626811200@longmeadowhoa.com
SUMMARY:July 2021 HOA Board Meeting
DESCRIPTION:Longmeadow HOA is inviting you to a scheduled Zoom meeting.\nTopic: Longmeadow HOA’s Zoom Meeting\nTime: This is a recurring meeting Meet anytime \nJoin Zoom Meeting\nhttps://us02web.zoom.us/j/83247426566?pwd=bExsT2NNWVBGT09qZGx5QUhPTHg5dz09 \nMeeting ID: 832 4742 6566\nPasscode: 095363\nOne tap mobile\n+13126266799\,\,83247426566#\,\,\,\,*095363# US (Chicago)\n+19292056099\,\,83247426566#\,\,\,\,*095363# US (New York) \nDial by your location\n+1 312 626 6799 US (Chicago)\n+1 929 205 6099 US (New York)\n+1 301 715 8592 US (Washington D.C)\n+1 346 248 7799 US (Houston)\n+1 669 900 6833 US (San Jose)\n+1 253 215 8782 US (Tacoma)\nMeeting ID: 832 4742 6566\nPasscode: 095363\nFind your local number: https://us02web.zoom.us/u/kdBpd4wzA2
URL:http://longmeadowhoa.com/event/july-2021-hoa-board-meeting/
END:VEVENT
END:VCALENDAR