BEGIN:VCALENDAR
VERSION:2.0
PRODID:-//The Villages of Longmeadow HOA - ECPv6.15.20//NONSGML v1.0//EN
CALSCALE:GREGORIAN
METHOD:PUBLISH
X-ORIGINAL-URL:http://longmeadowhoa.com
X-WR-CALDESC:Events for The Villages of Longmeadow HOA
REFRESH-INTERVAL;VALUE=DURATION:PT1H
X-Robots-Tag:noindex
X-PUBLISHED-TTL:PT1H
BEGIN:VTIMEZONE
TZID:America/New_York
BEGIN:DAYLIGHT
TZOFFSETFROM:-0500
TZOFFSETTO:-0400
TZNAME:EDT
DTSTART:20210314T070000
END:DAYLIGHT
BEGIN:STANDARD
TZOFFSETFROM:-0400
TZOFFSETTO:-0500
TZNAME:EST
DTSTART:20211107T060000
END:STANDARD
BEGIN:DAYLIGHT
TZOFFSETFROM:-0500
TZOFFSETTO:-0400
TZNAME:EDT
DTSTART:20220313T070000
END:DAYLIGHT
BEGIN:STANDARD
TZOFFSETFROM:-0400
TZOFFSETTO:-0500
TZNAME:EST
DTSTART:20221106T060000
END:STANDARD
BEGIN:DAYLIGHT
TZOFFSETFROM:-0500
TZOFFSETTO:-0400
TZNAME:EDT
DTSTART:20230312T070000
END:DAYLIGHT
BEGIN:STANDARD
TZOFFSETFROM:-0400
TZOFFSETTO:-0500
TZNAME:EST
DTSTART:20231105T060000
END:STANDARD
BEGIN:DAYLIGHT
TZOFFSETFROM:-0500
TZOFFSETTO:-0400
TZNAME:EDT
DTSTART:20240310T070000
END:DAYLIGHT
BEGIN:STANDARD
TZOFFSETFROM:-0400
TZOFFSETTO:-0500
TZNAME:EST
DTSTART:20241103T060000
END:STANDARD
END:VTIMEZONE
BEGIN:VEVENT
DTSTART;TZID=America/New_York:20221001T090000
DTEND;TZID=America/New_York:20221001T220000
DTSTAMP:20260425T124416
CREATED:20221004T190614Z
LAST-MODIFIED:20221004T190614Z
UID:1425-1664614800-1664661600@longmeadowhoa.com
SUMMARY:Clubhouse Rental
DESCRIPTION:Clubhouse Rental
URL:http://longmeadowhoa.com/event/clubhouse-rental-21/
END:VEVENT
BEGIN:VEVENT
DTSTART;TZID=America/New_York:20221004T190000
DTEND;TZID=America/New_York:20221004T200000
DTSTAMP:20260425T124416
CREATED:20220727T181751Z
LAST-MODIFIED:20221004T224645Z
UID:1358-1664910000-1664913600@longmeadowhoa.com
SUMMARY:HOA Board Mtng.
DESCRIPTION:Villages of Longmeadow HOA Board Mtng. @ Clubhouse (& Zoom) \nLongmeadow HOA is inviting you to a scheduled Zoom meeting. \nTopic: Longmeadow HOA’s Zoom Board Meeting\nTime: This is a recurring meeting Meet anytime \nJoin Zoom Meeting\nhttps://us02web.zoom.us/j/83247426566?pwd=bExsT2NNWVBGT09qZGx5QUhPTHg5dz09 \nMeeting ID: 832 4742 6566\nPasscode: 095363\nOne tap mobile\n+13462487799\,\,83247426566#\,\,\,\,*095363# US (Houston)\n+16699006833\,\,83247426566#\,\,\,\,*095363# US (San Jose) \nDial by your location\n+1 346 248 7799 US (Houston)\n+1 669 900 6833 US (San Jose)\n+1 253 215 8782 US (Tacoma)\n+1 312 626 6799 US (Chicago)\n+1 929 205 6099 US (New York)\n+1 301 715 8592 US (Washington DC)\nMeeting ID: 832 4742 6566\nPasscode: 095363\nFind your local number: https://us02web.zoom.us/u/kdBpd4wzA2 \n 
URL:http://longmeadowhoa.com/event/hoa-board-mtng-3/
END:VEVENT
BEGIN:VEVENT
DTSTART;TZID=America/New_York:20221008T090000
DTEND;TZID=America/New_York:20221008T090000
DTSTAMP:20260425T124416
CREATED:20220419T162906Z
LAST-MODIFIED:20221007T125223Z
UID:1264-1665219600-1665219600@longmeadowhoa.com
SUMMARY:Neighborhood Cleanup Day - 10/8 - 9AM
DESCRIPTION:Click here to RSVP \nVolunteers for the Villages of Longmeadow Neighborhood clean-up day will meet at the pavilion on SATURDAY\,  Oct 8th  @ 9 AM. \nTrash bags\, gloves\, trash pickets\, and maps will be provided.   This is a great opportunity to meet you neighbors and keep our community clean.
URL:http://longmeadowhoa.com/event/neighborhood-cleanup-day-10-8-9am/
END:VEVENT
BEGIN:VEVENT
DTSTART;TZID=America/New_York:20221008T090000
DTEND;TZID=America/New_York:20221008T220000
DTSTAMP:20260425T124416
CREATED:20220906T205329Z
LAST-MODIFIED:20220906T205329Z
UID:1407-1665219600-1665266400@longmeadowhoa.com
SUMMARY:Clubhouse Rental
DESCRIPTION:Clubhouse Rental
URL:http://longmeadowhoa.com/event/clubhouse-rental-17/
END:VEVENT
BEGIN:VEVENT
DTSTART;TZID=America/New_York:20221015T090000
DTEND;TZID=America/New_York:20221015T220000
DTSTAMP:20260425T124416
CREATED:20220906T205431Z
LAST-MODIFIED:20220906T205431Z
UID:1409-1665824400-1665871200@longmeadowhoa.com
SUMMARY:Clubhouse Rental
DESCRIPTION:Clubhouse Rental
URL:http://longmeadowhoa.com/event/clubhouse-rental-18/
END:VEVENT
BEGIN:VEVENT
DTSTART;TZID=America/New_York:20221021T090000
DTEND;TZID=America/New_York:20221021T220000
DTSTAMP:20260425T124416
CREATED:20221021T171847Z
LAST-MODIFIED:20221021T171847Z
UID:1441-1666342800-1666389600@longmeadowhoa.com
SUMMARY:Clubhouse Rental
DESCRIPTION:Clubhouse Rental
URL:http://longmeadowhoa.com/event/clubhouse-rental-23/
END:VEVENT
BEGIN:VEVENT
DTSTART;TZID=America/New_York:20221030T150000
DTEND;TZID=America/New_York:20221030T170000
DTSTAMP:20260425T124416
CREATED:20220727T190439Z
LAST-MODIFIED:20221021T172034Z
UID:1384-1667142000-1667149200@longmeadowhoa.com
SUMMARY:Fall Festival and Trunk or Treat
DESCRIPTION:Fall Festival and Trunk or Treat @ the Clubhouse
URL:http://longmeadowhoa.com/event/fall-festival-and-trunk-or-treat/
END:VEVENT
BEGIN:VEVENT
DTSTART;TZID=America/New_York:20221101T190000
DTEND;TZID=America/New_York:20221101T200000
DTSTAMP:20260425T124416
CREATED:20220727T181954Z
LAST-MODIFIED:20220727T181954Z
UID:1360-1667329200-1667332800@longmeadowhoa.com
SUMMARY:HOA Board Mtng.
DESCRIPTION:Villages of Longmeadow HOA Board Mtng. @ Clubhouse (& Zoom)
URL:http://longmeadowhoa.com/event/hoa-board-mtng-4/
END:VEVENT
BEGIN:VEVENT
DTSTART;TZID=America/New_York:20221105T090000
DTEND;TZID=America/New_York:20221105T220000
DTSTAMP:20260425T124416
CREATED:20220906T205824Z
LAST-MODIFIED:20220906T205824Z
UID:1411-1667638800-1667685600@longmeadowhoa.com
SUMMARY:Clubhouse Rental
DESCRIPTION:Clubhouse Rental
URL:http://longmeadowhoa.com/event/clubhouse-rental-19/
END:VEVENT
BEGIN:VEVENT
DTSTART;TZID=America/New_York:20221112T090000
DTEND;TZID=America/New_York:20221112T110000
DTSTAMP:20260425T124416
CREATED:20220419T162936Z
LAST-MODIFIED:20220419T164648Z
UID:1266-1668243600-1668250800@longmeadowhoa.com
SUMMARY:Neighborhood Cleanup Day - 11/12 - 9AM
DESCRIPTION:Click here to RSVP \nVolunteers for the Villages of Longmeadow Neighborhood clean-up day will meet at the pavilion on SATURDAY\, April 9TH @ 9 AM. \nTrash bags\, gloves\, trash pickets\, and maps will be provided.   This is a great opportunity to meet you neighbors and keep our community clean.
URL:http://longmeadowhoa.com/event/neighborhood-cleanup-day-11-12-9am/
END:VEVENT
BEGIN:VEVENT
DTSTART;TZID=America/New_York:20221115T190000
DTEND;TZID=America/New_York:20221115T200000
DTSTAMP:20260425T124416
CREATED:20221004T191044Z
LAST-MODIFIED:20221116T000207Z
UID:1430-1668538800-1668542400@longmeadowhoa.com
SUMMARY:Annual HOA Board Meeting
DESCRIPTION:Annual HOA Board Meeting – Come Vote from 6:30p-7p! \nLongmeadow HOA is inviting you to a scheduled Zoom meeting. \nTopic: Longmeadow HOA’s Zoom Board Meeting\nTime: This is a recurring meeting Meet anytime \nJoin Zoom Meeting\nhttps://us02web.zoom.us/j/83247426566?pwd=bExsT2NNWVBGT09qZGx5QUhPTHg5dz09 \nMeeting ID: 832 4742 6566\nPasscode: 095363\nOne tap mobile\n+13462487799\,\,83247426566#\,\,\,\,*095363# US (Houston)\n+16699006833\,\,83247426566#\,\,\,\,*095363# US (San Jose) \nDial by your location\n+1 346 248 7799 US (Houston)\n+1 669 900 6833 US (San Jose)\n+1 253 215 8782 US (Tacoma)\n+1 312 626 6799 US (Chicago)\n+1 929 205 6099 US (New York)\n+1 301 715 8592 US (Washington DC)\nMeeting ID: 832 4742 6566\nPasscode: 095363\nFind your local number: https://us02web.zoom.us/u/kdBpd4wzA2 \n 
URL:http://longmeadowhoa.com/event/annual-hoa-board-meeting-2/
END:VEVENT
BEGIN:VEVENT
DTSTART;TZID=America/New_York:20221203T090000
DTEND;TZID=America/New_York:20221203T220000
DTSTAMP:20260425T124416
CREATED:20221004T190833Z
LAST-MODIFIED:20221004T190833Z
UID:1427-1670058000-1670104800@longmeadowhoa.com
SUMMARY:Clubhouse Rental
DESCRIPTION:Clubhouse Rental
URL:http://longmeadowhoa.com/event/clubhouse-rental-22/
END:VEVENT
BEGIN:VEVENT
DTSTART;TZID=America/New_York:20221206T190000
DTEND;TZID=America/New_York:20221206T200000
DTSTAMP:20260425T124416
CREATED:20220727T182056Z
LAST-MODIFIED:20221206T230336Z
UID:1362-1670353200-1670356800@longmeadowhoa.com
SUMMARY:HOA Board Mtng.
DESCRIPTION:Villages of Longmeadow HOA Board Mtng. @ Clubhouse (& Zoom) \nLongmeadow HOA is inviting you to a scheduled Zoom meeting. \nTopic: Longmeadow HOA’s Zoom Board Meeting\nTime: This is a recurring meeting Meet anytime \nJoin Zoom Meeting\nhttps://us02web.zoom.us/j/83247426566?pwd=bExsT2NNWVBGT09qZGx5QUhPTHg5dz09 \nMeeting ID: 832 4742 6566\nPasscode: 095363\nOne tap mobile\n+16469313860\,\,83247426566#\,\,\,\,*095363# US\n+19292056099\,\,83247426566#\,\,\,\,*095363# US (New York) \nDial by your location\n+1 646 931 3860 US\n+1 929 205 6099 US (New York)\n+1 301 715 8592 US (Washington DC)\n+1 305 224 1968 US\n+1 309 205 3325 US\n+1 312 626 6799 US (Chicago)\n+1 386 347 5053 US\n+1 507 473 4847 US\n+1 564 217 2000 US\n+1 669 444 9171 US\n+1 669 900 6833 US (San Jose)\n+1 689 278 1000 US\n+1 719 359 4580 US\n+1 253 205 0468 US\n+1 253 215 8782 US (Tacoma)\n+1 346 248 7799 US (Houston)\n+1 360 209 5623 US\nMeeting ID: 832 4742 6566\nPasscode: 095363\nFind your local number: https://us02web.zoom.us/u/kdBpd4wzA2 \n 
URL:http://longmeadowhoa.com/event/hoa-board-mtng-5/
END:VEVENT
BEGIN:VEVENT
DTSTART;TZID=America/New_York:20221210T090000
DTEND;TZID=America/New_York:20221210T110000
DTSTAMP:20260425T124416
CREATED:20220419T163017Z
LAST-MODIFIED:20221116T012053Z
UID:1268-1670662800-1670670000@longmeadowhoa.com
SUMMARY:Neighborhood Cleanup Day - 12/10 - 9AM
DESCRIPTION:Click here to RSVP \nVolunteers for the Villages of Longmeadow Neighborhood clean-up day will meet at the pavilion on SATURDAY\, DEC 10@ 9 AM. \nTrash bags\, gloves\, trash pickets\, and maps will be provided.   This is a great opportunity to meet you neighbors and keep our community clean.
URL:http://longmeadowhoa.com/event/neighborhood-cleanup-day-12-10-9am/
END:VEVENT
BEGIN:VEVENT
DTSTART;TZID=America/New_York:20221210T090000
DTEND;TZID=America/New_York:20221210T220000
DTSTAMP:20260425T124416
CREATED:20221021T172437Z
LAST-MODIFIED:20221021T172437Z
UID:1443-1670662800-1670709600@longmeadowhoa.com
SUMMARY:Clubhouse Rental
DESCRIPTION:Clubhouse Rental
URL:http://longmeadowhoa.com/event/clubhouse-rental-24/
END:VEVENT
BEGIN:VEVENT
DTSTART;TZID=America/New_York:20221216T183000
DTEND;TZID=America/New_York:20221216T193000
DTSTAMP:20260425T124416
CREATED:20220727T191041Z
LAST-MODIFIED:20220727T191041Z
UID:1388-1671215400-1671219000@longmeadowhoa.com
SUMMARY:Luminaries Pick Up
DESCRIPTION:Luminaries Pick Up @ Clubhouse
URL:http://longmeadowhoa.com/event/luminaries-pick-up/
END:VEVENT
BEGIN:VEVENT
DTSTART;TZID=America/New_York:20221216T183000
DTEND;TZID=America/New_York:20221216T210000
DTSTAMP:20260425T124416
CREATED:20220727T190857Z
LAST-MODIFIED:20220727T190857Z
UID:1386-1671215400-1671224400@longmeadowhoa.com
SUMMARY:Christmas and Holiday Celebration
DESCRIPTION:Christmas and Holiday Celebration @ the Clubhouse
URL:http://longmeadowhoa.com/event/christmas-and-holiday-celebration-2/
END:VEVENT
BEGIN:VEVENT
DTSTART;TZID=America/New_York:20221217T090000
DTEND;TZID=America/New_York:20221217T220000
DTSTAMP:20260425T124416
CREATED:20220727T183947Z
LAST-MODIFIED:20220727T183947Z
UID:1378-1671267600-1671314400@longmeadowhoa.com
SUMMARY:Clubhouse Rental
DESCRIPTION:Clubhouse Rental
URL:http://longmeadowhoa.com/event/clubhouse-rental-15/
END:VEVENT
BEGIN:VEVENT
DTSTART;TZID=America/New_York:20221217T090000
DTEND;TZID=America/New_York:20221217T220000
DTSTAMP:20260425T124416
CREATED:20221021T172526Z
LAST-MODIFIED:20221021T172526Z
UID:1445-1671267600-1671314400@longmeadowhoa.com
SUMMARY:Clubhouse Rental
DESCRIPTION:Clubhouse Rental
URL:http://longmeadowhoa.com/event/clubhouse-rental-25/
END:VEVENT
BEGIN:VEVENT
DTSTART;TZID=America/New_York:20221219T190000
DTEND;TZID=America/New_York:20221219T200000
DTSTAMP:20260425T124416
CREATED:20221116T010204Z
LAST-MODIFIED:20221116T010204Z
UID:1455-1671476400-1671480000@longmeadowhoa.com
SUMMARY:Annual HOA Board Meeting
DESCRIPTION:Annual HOA Board Meeting – 7pm! \nLongmeadow HOA is inviting you to a scheduled Zoom meeting. \nTopic: Longmeadow HOA’s Zoom Board Meeting\nTime: This is a recurring meeting Meet anytime \nJoin Zoom Meeting\nhttps://us02web.zoom.us/j/83247426566?pwd=bExsT2NNWVBGT09qZGx5QUhPTHg5dz09 \nMeeting ID: 832 4742 6566\nPasscode: 095363\nOne tap mobile\n+13462487799\,\,83247426566#\,\,\,\,*095363# US (Houston)\n+16699006833\,\,83247426566#\,\,\,\,*095363# US (San Jose) \nDial by your location\n+1 346 248 7799 US (Houston)\n+1 669 900 6833 US (San Jose)\n+1 253 215 8782 US (Tacoma)\n+1 312 626 6799 US (Chicago)\n+1 929 205 6099 US (New York)\n+1 301 715 8592 US (Washington DC)\nMeeting ID: 832 4742 6566\nPasscode: 095363\nFind your local number: https://us02web.zoom.us/u/kdBpd4wzA2 \n 
URL:http://longmeadowhoa.com/event/annual-hoa-board-meeting-3/
END:VEVENT
BEGIN:VEVENT
DTSTART;TZID=America/New_York:20221223T090000
DTEND;TZID=America/New_York:20221223T220000
DTSTAMP:20260425T124416
CREATED:20221213T021325Z
LAST-MODIFIED:20221213T021325Z
UID:1464-1671786000-1671832800@longmeadowhoa.com
SUMMARY:Clubhouse Rental
DESCRIPTION:Clubhouse Rental
URL:http://longmeadowhoa.com/event/clubhouse-rental-28/
END:VEVENT
BEGIN:VEVENT
DTSTART;TZID=America/New_York:20221224T150000
DTEND;TZID=America/New_York:20221224T170000
DTSTAMP:20260425T124416
CREATED:20220727T191213Z
LAST-MODIFIED:20220727T191213Z
UID:1390-1671894000-1671901200@longmeadowhoa.com
SUMMARY:Christmas Eve Luminary Lighting
DESCRIPTION:Christmas Eve Luminary Lighting
URL:http://longmeadowhoa.com/event/christmas-eve-luminary-lighting-2/
END:VEVENT
BEGIN:VEVENT
DTSTART;TZID=America/New_York:20221225T080000
DTEND;TZID=America/New_York:20221225T090000
DTSTAMP:20260425T124416
CREATED:20220727T191319Z
LAST-MODIFIED:20220727T191319Z
UID:1392-1671955200-1671958800@longmeadowhoa.com
SUMMARY:Luminary Clean Up
DESCRIPTION:Luminary Clean Up
URL:http://longmeadowhoa.com/event/luminary-clean-up/
END:VEVENT
BEGIN:VEVENT
DTSTART;TZID=America/New_York:20221231T090000
DTEND;TZID=America/New_York:20221231T220000
DTSTAMP:20260425T124416
CREATED:20221021T172616Z
LAST-MODIFIED:20221021T172616Z
UID:1447-1672477200-1672524000@longmeadowhoa.com
SUMMARY:Clubhouse Rental
DESCRIPTION:Clubhouse Rental
URL:http://longmeadowhoa.com/event/clubhouse-rental-26/
END:VEVENT
BEGIN:VEVENT
DTSTART;TZID=America/New_York:20230103T190000
DTEND;TZID=America/New_York:20230103T200000
DTSTAMP:20260425T124416
CREATED:20221231T185848Z
LAST-MODIFIED:20221231T190959Z
UID:1473-1672772400-1672776000@longmeadowhoa.com
SUMMARY:HOA Board Mtng.
DESCRIPTION:Villages of Longmeadow HOA Board Mtng. @ Clubhouse (& Zoom) \nLongmeadow HOA is inviting you to a scheduled Zoom meeting. \nTopic: Longmeadow HOA’s Zoom Board Meeting\nTime: This is a recurring meeting Meet anytime \nJoin Zoom Meeting\nhttps://us02web.zoom.us/j/83247426566?pwd=bExsT2NNWVBGT09qZGx5QUhPTHg5dz09 \nMeeting ID: 832 4742 6566\nPasscode: 095363\nOne tap mobile\n+16469313860\,\,83247426566#\,\,\,\,*095363# US\n+19292056099\,\,83247426566#\,\,\,\,*095363# US (New York) \nDial by your location\n+1 646 931 3860 US\n+1 929 205 6099 US (New York)\n+1 301 715 8592 US (Washington DC)\n+1 305 224 1968 US\n+1 309 205 3325 US\n+1 312 626 6799 US (Chicago)\n+1 386 347 5053 US\n+1 507 473 4847 US\n+1 564 217 2000 US\n+1 669 444 9171 US\n+1 669 900 6833 US (San Jose)\n+1 689 278 1000 US\n+1 719 359 4580 US\n+1 253 205 0468 US\n+1 253 215 8782 US (Tacoma)\n+1 346 248 7799 US (Houston)\n+1 360 209 5623 US\nMeeting ID: 832 4742 6566\nPasscode: 095363\nFind your local number: https://us02web.zoom.us/u/kdBpd4wzA2
URL:http://longmeadowhoa.com/event/hoa-board-mtng-6/
END:VEVENT
BEGIN:VEVENT
DTSTART;TZID=America/New_York:20230114T090000
DTEND;TZID=America/New_York:20230114T100000
DTSTAMP:20260425T124416
CREATED:20230109T032819Z
LAST-MODIFIED:20230110T020551Z
UID:1478-1673686800-1673690400@longmeadowhoa.com
SUMMARY:Neighborhood Cleanup Day
DESCRIPTION:Click here to RSVP \nVolunteers for the Villages of Longmeadow Neighborhood clean-up day will meet at the pavilion on SATURDAY\, JAN 14 @ 9 AM. \nTrash bags\, gloves\, trash pickets\, and maps will be provided.   This is a great opportunity to meet you neighbors and keep our community clean. \n 
URL:http://longmeadowhoa.com/event/neighborhood-cleanup-day-1-14-23-9am/
END:VEVENT
BEGIN:VEVENT
DTSTART;TZID=America/New_York:20230114T090000
DTEND;TZID=America/New_York:20230114T220000
DTSTAMP:20260425T124416
CREATED:20221021T172918Z
LAST-MODIFIED:20221021T172918Z
UID:1449-1673686800-1673733600@longmeadowhoa.com
SUMMARY:Clubhouse Rental
DESCRIPTION:Clubhouse Rental
URL:http://longmeadowhoa.com/event/clubhouse-rental-27/
END:VEVENT
BEGIN:VEVENT
DTSTART;TZID=America/New_York:20230121T080000
DTEND;TZID=America/New_York:20230121T170000
DTSTAMP:20260425T124416
CREATED:20230121T115042Z
LAST-MODIFIED:20230121T115042Z
UID:1498-1674288000-1674320400@longmeadowhoa.com
SUMMARY:Clubhouse Rental
DESCRIPTION:Clubhouse Rental
URL:http://longmeadowhoa.com/event/clubhouse-rental-35/
END:VEVENT
BEGIN:VEVENT
DTSTART;TZID=America/New_York:20230121T090000
DTEND;TZID=America/New_York:20230121T220000
DTSTAMP:20260425T124416
CREATED:20221213T021532Z
LAST-MODIFIED:20221213T021532Z
UID:1466-1674291600-1674338400@longmeadowhoa.com
SUMMARY:Clubhouse Rental
DESCRIPTION:Clubhouse Rental
URL:http://longmeadowhoa.com/event/clubhouse-rental-29/
END:VEVENT
BEGIN:VEVENT
DTSTART;TZID=America/New_York:20230128T090000
DTEND;TZID=America/New_York:20230128T220000
DTSTAMP:20260425T124416
CREATED:20221213T021839Z
LAST-MODIFIED:20221213T021839Z
UID:1469-1674896400-1674943200@longmeadowhoa.com
SUMMARY:Clubhouse Rental
DESCRIPTION:Clubhouse Rental
URL:http://longmeadowhoa.com/event/clubhouse-rental-30/
END:VEVENT
END:VCALENDAR