BEGIN:VCALENDAR
VERSION:2.0
PRODID:-//The Villages of Longmeadow HOA - ECPv6.15.20//NONSGML v1.0//EN
CALSCALE:GREGORIAN
METHOD:PUBLISH
X-ORIGINAL-URL:http://longmeadowhoa.com
X-WR-CALDESC:Events for The Villages of Longmeadow HOA
REFRESH-INTERVAL;VALUE=DURATION:PT1H
X-Robots-Tag:noindex
X-PUBLISHED-TTL:PT1H
BEGIN:VTIMEZONE
TZID:America/New_York
BEGIN:DAYLIGHT
TZOFFSETFROM:-0500
TZOFFSETTO:-0400
TZNAME:EDT
DTSTART:20210314T070000
END:DAYLIGHT
BEGIN:STANDARD
TZOFFSETFROM:-0400
TZOFFSETTO:-0500
TZNAME:EST
DTSTART:20211107T060000
END:STANDARD
BEGIN:DAYLIGHT
TZOFFSETFROM:-0500
TZOFFSETTO:-0400
TZNAME:EDT
DTSTART:20220313T070000
END:DAYLIGHT
BEGIN:STANDARD
TZOFFSETFROM:-0400
TZOFFSETTO:-0500
TZNAME:EST
DTSTART:20221106T060000
END:STANDARD
BEGIN:DAYLIGHT
TZOFFSETFROM:-0500
TZOFFSETTO:-0400
TZNAME:EDT
DTSTART:20230312T070000
END:DAYLIGHT
BEGIN:STANDARD
TZOFFSETFROM:-0400
TZOFFSETTO:-0500
TZNAME:EST
DTSTART:20231105T060000
END:STANDARD
END:VTIMEZONE
BEGIN:VEVENT
DTSTART;TZID=America/New_York:20220528T090000
DTEND;TZID=America/New_York:20220528T230000
DTSTAMP:20260425T074935
CREATED:20220419T170501Z
LAST-MODIFIED:20220419T170501Z
UID:1291-1653728400-1653778800@longmeadowhoa.com
SUMMARY:Clubhouse Rental
DESCRIPTION:Clubhouse Rental
URL:http://longmeadowhoa.com/event/clubhouse-rental-4/
END:VEVENT
BEGIN:VEVENT
DTSTART;TZID=America/New_York:20220528T100000
DTEND;TZID=America/New_York:20220528T200000
DTSTAMP:20260425T074935
CREATED:20220522T013304Z
LAST-MODIFIED:20230211T220931Z
UID:1332-1653732000-1653768000@longmeadowhoa.com
SUMMARY:Pool Opens For the Summer
DESCRIPTION:
URL:http://longmeadowhoa.com/event/pool-opens-for-the-summer/
END:VEVENT
BEGIN:VEVENT
DTSTART;TZID=America/New_York:20220530T113000
DTEND;TZID=America/New_York:20220530T123000
DTSTAMP:20260425T074935
CREATED:20220419T171138Z
LAST-MODIFIED:20220419T171138Z
UID:1301-1653910200-1653913800@longmeadowhoa.com
SUMMARY:Memorial Day Hotdog and Ice Cream Social at the Clubhouse and Pool
DESCRIPTION:Memorial Day Hotdog and Ice Cream Social at the Clubhouse and Pool
URL:http://longmeadowhoa.com/event/memorial-day-hotdog-and-ice-cream-social-at-the-clubhouse-and-pool-2/
END:VEVENT
BEGIN:VEVENT
DTSTART;TZID=America/New_York:20220604T090000
DTEND;TZID=America/New_York:20220604T230000
DTSTAMP:20260425T074935
CREATED:20220419T170701Z
LAST-MODIFIED:20220419T170701Z
UID:1293-1654333200-1654383600@longmeadowhoa.com
SUMMARY:Clubhouse Rental
DESCRIPTION:Clubhouse Rental
URL:http://longmeadowhoa.com/event/clubhouse-rental-5/
END:VEVENT
BEGIN:VEVENT
DTSTART;TZID=America/New_York:20220607T190000
DTEND;TZID=America/New_York:20220607T200000
DTSTAMP:20260425T074935
CREATED:20220504T003556Z
LAST-MODIFIED:20220504T003625Z
UID:1305-1654628400-1654632000@longmeadowhoa.com
SUMMARY:June Board Meeting - 7 PM
DESCRIPTION:Longmeadow HOA is inviting you to a scheduled Zoom meeting. \nTopic: Longmeadow HOA’s Zoom Board Meeting\nTime: This is a recurring meeting Meet anytime \nJoin Zoom Meeting\nhttps://us02web.zoom.us/j/83247426566?pwd=bExsT2NNWVBGT09qZGx5QUhPTHg5dz09 \nMeeting ID: 832 4742 6566\nPasscode: 095363\nOne tap mobile\n+13462487799\,\,83247426566#\,\,\,\,*095363# US (Houston)\n+16699006833\,\,83247426566#\,\,\,\,*095363# US (San Jose) \nDial by your location\n+1 346 248 7799 US (Houston)\n+1 669 900 6833 US (San Jose)\n+1 253 215 8782 US (Tacoma)\n+1 312 626 6799 US (Chicago)\n+1 929 205 6099 US (New York)\n+1 301 715 8592 US (Washington DC)\nMeeting ID: 832 4742 6566\nPasscode: 095363\nFind your local number: https://us02web.zoom.us/u/kdBpd4wzA2 \n 
URL:http://longmeadowhoa.com/event/may-board-meeting-7-pm-2/
END:VEVENT
BEGIN:VEVENT
DTSTART;TZID=America/New_York:20220611T090000
DTEND;TZID=America/New_York:20220611T110000
DTSTAMP:20260425T074935
CREATED:20220419T165824Z
LAST-MODIFIED:20220604T233712Z
UID:1279-1654938000-1654945200@longmeadowhoa.com
SUMMARY:Neighborhood Cleanup - 6/11 - 9AM
DESCRIPTION:Click here to RSVP \nVolunteers for the Villages of Longmeadow Neighborhood clean-up day will meet at the pavilion on SATURDAY\, June 11th @ 9 AM. \nTrash bags\, gloves\, trash pickets\, and maps will be provided.   This is a great opportunity to meet you neighbors and keep our community clean.
URL:http://longmeadowhoa.com/event/neighborhood-cleanup-6-11-9am/
END:VEVENT
BEGIN:VEVENT
DTSTART;TZID=America/New_York:20220618T090000
DTEND;TZID=America/New_York:20220618T230000
DTSTAMP:20260425T074935
CREATED:20220419T170735Z
LAST-MODIFIED:20220419T170735Z
UID:1295-1655542800-1655593200@longmeadowhoa.com
SUMMARY:Clubhouse Rental
DESCRIPTION:Clubhouse Rental
URL:http://longmeadowhoa.com/event/clubhouse-rental-6/
END:VEVENT
BEGIN:VEVENT
DTSTART;TZID=America/New_York:20220618T140000
DTEND;TZID=America/New_York:20220618T180000
DTSTAMP:20260425T074935
CREATED:20220615T232351Z
LAST-MODIFIED:20220615T232351Z
UID:1339-1655560800-1655575200@longmeadowhoa.com
SUMMARY:Pavilion Reserved - Stech
DESCRIPTION:
URL:http://longmeadowhoa.com/event/pavilion-reserved-stech/
END:VEVENT
BEGIN:VEVENT
DTSTART;TZID=America/New_York:20220625T090000
DTEND;TZID=America/New_York:20220625T230000
DTSTAMP:20260425T074935
CREATED:20220419T170813Z
LAST-MODIFIED:20220419T170813Z
UID:1297-1656147600-1656198000@longmeadowhoa.com
SUMMARY:Clubhouse Rental
DESCRIPTION:Clubhouse Rental
URL:http://longmeadowhoa.com/event/clubhouse-rental-7/
END:VEVENT
BEGIN:VEVENT
DTSTART;TZID=America/New_York:20220705T190000
DTEND;TZID=America/New_York:20220705T200000
DTSTAMP:20260425T074935
CREATED:20220504T004405Z
LAST-MODIFIED:20220504T004405Z
UID:1311-1657047600-1657051200@longmeadowhoa.com
SUMMARY:July Board Meeting - 7 PM
DESCRIPTION:Longmeadow HOA is inviting you to a scheduled Zoom meeting. \nTopic: Longmeadow HOA’s Zoom Board Meeting\nTime: This is a recurring meeting Meet anytime \nJoin Zoom Meeting\nhttps://us02web.zoom.us/j/83247426566?pwd=bExsT2NNWVBGT09qZGx5QUhPTHg5dz09 \nMeeting ID: 832 4742 6566\nPasscode: 095363\nOne tap mobile\n+13462487799\,\,83247426566#\,\,\,\,*095363# US (Houston)\n+16699006833\,\,83247426566#\,\,\,\,*095363# US (San Jose) \nDial by your location\n+1 346 248 7799 US (Houston)\n+1 669 900 6833 US (San Jose)\n+1 253 215 8782 US (Tacoma)\n+1 312 626 6799 US (Chicago)\n+1 929 205 6099 US (New York)\n+1 301 715 8592 US (Washington DC)\nMeeting ID: 832 4742 6566\nPasscode: 095363\nFind your local number: https://us02web.zoom.us/u/kdBpd4wzA2 \n 
URL:http://longmeadowhoa.com/event/july-board-meeting-7-pm/
END:VEVENT
BEGIN:VEVENT
DTSTART;TZID=America/New_York:20220709T080000
DTEND;TZID=America/New_York:20220709T230000
DTSTAMP:20260425T074935
CREATED:20220615T234233Z
LAST-MODIFIED:20220615T234233Z
UID:1345-1657353600-1657407600@longmeadowhoa.com
SUMMARY:Clubhouse Rental - Gonzalez
DESCRIPTION:
URL:http://longmeadowhoa.com/event/clubhouse-rental-gonzalez/
END:VEVENT
BEGIN:VEVENT
DTSTART;TZID=America/New_York:20220709T090000
DTEND;TZID=America/New_York:20220709T110000
DTSTAMP:20260425T074935
CREATED:20220419T165906Z
LAST-MODIFIED:20220419T165906Z
UID:1281-1657357200-1657364400@longmeadowhoa.com
SUMMARY:Neighborhood Cleanup - 7/9 - 9AM
DESCRIPTION:Click here to RSVP \nVolunteers for the Villages of Longmeadow Neighborhood clean-up day will meet at the pavilion on SATURDAY\, April 9TH @ 9 AM. \nTrash bags\, gloves\, trash pickets\, and maps will be provided.   This is a great opportunity to meet you neighbors and keep our community clean.
URL:http://longmeadowhoa.com/event/neighborhood-cleanup-7-9-9am/
END:VEVENT
BEGIN:VEVENT
DTSTART;TZID=America/New_York:20220724T090000
DTEND;TZID=America/New_York:20220724T220000
DTSTAMP:20260425T074935
CREATED:20220727T182855Z
LAST-MODIFIED:20220727T182855Z
UID:1364-1658653200-1658700000@longmeadowhoa.com
SUMMARY:Clubhouse Rental
DESCRIPTION:Clubhouse Rental
URL:http://longmeadowhoa.com/event/clubhouse-rental-9/
END:VEVENT
BEGIN:VEVENT
DTSTART;TZID=America/New_York:20220730T090000
DTEND;TZID=America/New_York:20220730T220000
DTSTAMP:20260425T074935
CREATED:20220727T182939Z
LAST-MODIFIED:20220727T182939Z
UID:1366-1659171600-1659218400@longmeadowhoa.com
SUMMARY:Clubhouse Rental
DESCRIPTION:Clubhouse Rental
URL:http://longmeadowhoa.com/event/clubhouse-rental-10/
END:VEVENT
BEGIN:VEVENT
DTSTART;TZID=America/New_York:20220801T153000
DTEND;TZID=America/New_York:20220801T160000
DTSTAMP:20260425T074935
CREATED:20220727T181426Z
LAST-MODIFIED:20220727T181426Z
UID:1354-1659367800-1659369600@longmeadowhoa.com
SUMMARY:Kona Ice Truck
DESCRIPTION:Kona Ice Truck @ Pool & Clubhouse
URL:http://longmeadowhoa.com/event/kona-ice-truck/
END:VEVENT
BEGIN:VEVENT
DTSTART;TZID=America/New_York:20220802T180000
DTEND;TZID=America/New_York:20220802T193000
DTSTAMP:20260425T074935
CREATED:20220727T180909Z
LAST-MODIFIED:20220727T180909Z
UID:1350-1659463200-1659468600@longmeadowhoa.com
SUMMARY:National Night Out
DESCRIPTION:National Night Out for ALL Villages of Longmeadow Neighbors @ Pool & Clubhouse
URL:http://longmeadowhoa.com/event/national-night-out-5/
END:VEVENT
BEGIN:VEVENT
DTSTART;TZID=America/New_York:20220806T090000
DTEND;TZID=America/New_York:20220806T220000
DTSTAMP:20260425T074935
CREATED:20220419T170944Z
LAST-MODIFIED:20220727T183355Z
UID:1299-1659776400-1659823200@longmeadowhoa.com
SUMMARY:Clubhouse Rental
DESCRIPTION:Clubhouse Rental
URL:http://longmeadowhoa.com/event/clubhouse-rental-8/
END:VEVENT
BEGIN:VEVENT
DTSTART;TZID=America/New_York:20220807T150000
DTEND;TZID=America/New_York:20220807T190000
DTSTAMP:20260425T074935
CREATED:20220729T211157Z
LAST-MODIFIED:20220729T211245Z
UID:1395-1659884400-1659898800@longmeadowhoa.com
SUMMARY:Pavilion Reserved - Burnette
DESCRIPTION:Pavilion Reserved – Burnette
URL:http://longmeadowhoa.com/event/pavilion-reserved/
END:VEVENT
BEGIN:VEVENT
DTSTART;TZID=America/New_York:20220809T090000
DTEND;TZID=America/New_York:20220809T200000
DTSTAMP:20260425T074935
CREATED:20220807T213958Z
LAST-MODIFIED:20220807T213958Z
UID:1399-1660035600-1660075200@longmeadowhoa.com
SUMMARY:Pavilion Reserved - Romero
DESCRIPTION:
URL:http://longmeadowhoa.com/event/pavilion-reserved-romero/
END:VEVENT
BEGIN:VEVENT
DTSTART;TZID=America/New_York:20220809T190000
DTEND;TZID=America/New_York:20220809T200000
DTSTAMP:20260425T074935
CREATED:20220727T181231Z
LAST-MODIFIED:20220727T181231Z
UID:1352-1660071600-1660075200@longmeadowhoa.com
SUMMARY:HOA Board Mtng.
DESCRIPTION:Villages of Longmeadow HOA Board Mtng. @ Clubhouse (& Zoom)
URL:http://longmeadowhoa.com/event/hoa-board-mtng/
END:VEVENT
BEGIN:VEVENT
DTSTART;TZID=America/New_York:20220813T090000
DTEND;TZID=America/New_York:20220813T110000
DTSTAMP:20260425T074935
CREATED:20220419T165958Z
LAST-MODIFIED:20220615T233245Z
UID:1283-1660381200-1660388400@longmeadowhoa.com
SUMMARY:Neighborhood Cleanup - 8/13 - 9AM
DESCRIPTION:Volunteers for the Villages of Longmeadow Neighborhood clean-up day will meet at the pavilion on SATURDAY\, April 9TH @ 9 AM. \nTrash bags\, gloves\, trash pickets\, and maps will be provided.   This is a great opportunity to meet you neighbors and keep our community clean.
URL:http://longmeadowhoa.com/event/neighborhood-cleanup-8-13-9am/
END:VEVENT
BEGIN:VEVENT
DTSTART;TZID=America/New_York:20220813T090000
DTEND;TZID=America/New_York:20220813T220000
DTSTAMP:20260425T074935
CREATED:20220727T183617Z
LAST-MODIFIED:20220727T183617Z
UID:1370-1660381200-1660428000@longmeadowhoa.com
SUMMARY:Clubhouse Rental
DESCRIPTION:Clubhouse Rental
URL:http://longmeadowhoa.com/event/clubhouse-rental-11/
END:VEVENT
BEGIN:VEVENT
DTSTART;TZID=America/New_York:20220820T090000
DTEND;TZID=America/New_York:20220820T220000
DTSTAMP:20260425T074935
CREATED:20220727T183656Z
LAST-MODIFIED:20220727T183656Z
UID:1372-1660986000-1661032800@longmeadowhoa.com
SUMMARY:Clubhouse Rental
DESCRIPTION:Clubhouse Rental
URL:http://longmeadowhoa.com/event/clubhouse-rental-12/
END:VEVENT
BEGIN:VEVENT
DTSTART;TZID=America/New_York:20220827T090000
DTEND;TZID=America/New_York:20220827T220000
DTSTAMP:20260425T074935
CREATED:20220727T183741Z
LAST-MODIFIED:20220727T183741Z
UID:1374-1661590800-1661637600@longmeadowhoa.com
SUMMARY:Clubhouse Rental
DESCRIPTION:Clubhouse Rental
URL:http://longmeadowhoa.com/event/clubhouse-rental-13/
END:VEVENT
BEGIN:VEVENT
DTSTART;TZID=America/New_York:20220827T100000
DTEND;TZID=America/New_York:20220827T140000
DTSTAMP:20260425T074935
CREATED:20220615T232959Z
LAST-MODIFIED:20220615T232959Z
UID:1342-1661594400-1661608800@longmeadowhoa.com
SUMMARY:Pavilion Reserved - Behne
DESCRIPTION:
URL:http://longmeadowhoa.com/event/pavilion-reserved-behne/
END:VEVENT
BEGIN:VEVENT
DTSTART;TZID=America/New_York:20220830T190000
DTEND;TZID=America/New_York:20220830T200000
DTSTAMP:20260425T074935
CREATED:20220830T230111Z
LAST-MODIFIED:20220830T230111Z
UID:1402-1661886000-1661889600@longmeadowhoa.com
SUMMARY:August Board Meeting - 7 PM - RESCHEDULED FOR QUORUM
DESCRIPTION:Longmeadow HOA is inviting you to a scheduled Zoom meeting. \nTopic: Longmeadow HOA’s Zoom Board Meeting\nTime: This is a recurring meeting Meet anytime \nJoin Zoom Meeting\nhttps://us02web.zoom.us/j/83247426566?pwd=bExsT2NNWVBGT09qZGx5QUhPTHg5dz09 \nMeeting ID: 832 4742 6566\nPasscode: 095363\nOne tap mobile\n+13462487799\,\,83247426566#\,\,\,\,*095363# US (Houston)\n+16699006833\,\,83247426566#\,\,\,\,*095363# US (San Jose) \nDial by your location\n+1 346 248 7799 US (Houston)\n+1 669 900 6833 US (San Jose)\n+1 253 215 8782 US (Tacoma)\n+1 312 626 6799 US (Chicago)\n+1 929 205 6099 US (New York)\n+1 301 715 8592 US (Washington DC)\nMeeting ID: 832 4742 6566\nPasscode: 095363\nFind your local number: https://us02web.zoom.us/u/kdBpd4wzA2 \n 
URL:http://longmeadowhoa.com/event/august-board-meeting-7-pm-rescheduled-for-quorum/
END:VEVENT
BEGIN:VEVENT
DTSTART;TZID=America/New_York:20220903T090000
DTEND;TZID=America/New_York:20220903T220000
DTSTAMP:20260425T074935
CREATED:20220727T183903Z
LAST-MODIFIED:20220727T183903Z
UID:1376-1662195600-1662242400@longmeadowhoa.com
SUMMARY:Clubhouse Rental
DESCRIPTION:Clubhouse Rental
URL:http://longmeadowhoa.com/event/clubhouse-rental-14/
END:VEVENT
BEGIN:VEVENT
DTSTART;TZID=America/New_York:20220906T190000
DTEND;TZID=America/New_York:20220906T200000
DTSTAMP:20260425T074935
CREATED:20220727T181549Z
LAST-MODIFIED:20220906T223631Z
UID:1356-1662490800-1662494400@longmeadowhoa.com
SUMMARY:HOA Board Mtng.
DESCRIPTION:Villages of Longmeadow HOA Board Mtng. @ Clubhouse (& Zoom) \nLongmeadow HOA is inviting you to a scheduled Zoom meeting. \nTopic: Longmeadow HOA’s Zoom Board Meeting\nTime: This is a recurring meeting Meet anytime \nJoin Zoom Meeting\nhttps://us02web.zoom.us/j/83247426566?pwd=bExsT2NNWVBGT09qZGx5QUhPTHg5dz09 \nMeeting ID: 832 4742 6566\nPasscode: 095363\nOne tap mobile\n+13462487799\,\,83247426566#\,\,\,\,*095363# US (Houston)\n+16699006833\,\,83247426566#\,\,\,\,*095363# US (San Jose) \nDial by your location\n+1 346 248 7799 US (Houston)\n+1 669 900 6833 US (San Jose)\n+1 253 215 8782 US (Tacoma)\n+1 312 626 6799 US (Chicago)\n+1 929 205 6099 US (New York)\n+1 301 715 8592 US (Washington DC)\nMeeting ID: 832 4742 6566\nPasscode: 095363\nFind your local number: https://us02web.zoom.us/u/kdBpd4wzA2 \n 
URL:http://longmeadowhoa.com/event/hoa-board-mtng-2/
END:VEVENT
BEGIN:VEVENT
DTSTART;TZID=America/New_York:20220910T090000
DTEND;TZID=America/New_York:20220910T103000
DTSTAMP:20260425T074935
CREATED:20220810T140019Z
LAST-MODIFIED:20220908T013339Z
UID:1262-1662800400-1662805800@longmeadowhoa.com
SUMMARY:Neighborhood Cleanup Day - 9/10 - 9AM
DESCRIPTION:Click here to RSVP \nVolunteers for the Villages of Longmeadow Neighborhood clean-up day will meet at the pavilion on Saturday\, Sept 10th @ 9 AM. \nTrash bags\, gloves\, trash pickets\, and maps will be provided.   This is a great opportunity to meet you neighbors and keep our community clean.
URL:http://longmeadowhoa.com/event/https-www-signupgenius-com-go-10c0e4fa9a72baaf8c70-neighborhood5/
END:VEVENT
BEGIN:VEVENT
DTSTART;TZID=America/New_York:20220911T150000
DTEND;TZID=America/New_York:20220911T180000
DTSTAMP:20260425T074935
CREATED:20220906T210526Z
LAST-MODIFIED:20220910T194224Z
UID:1415-1662908400-1662919200@longmeadowhoa.com
SUMMARY:Clubhouse Neighborhood Networking Gathering
DESCRIPTION:Clubhouse Neighborhood Networking Gathering
URL:http://longmeadowhoa.com/event/clubhouse-reserved-for-hoa/
END:VEVENT
END:VCALENDAR